BEGIN:VCALENDAR
VERSION:2.0
PRODID:-//2-U18Z-KA1//NONSGML kigkonsult.se iCalcreator 2.41.80//
CALSCALE:GREGORIAN
UID:63396431-6164-4861-b661-316365636332
BEGIN:VEVENT
UID:64383634-6135-4938-b332-633634393231
DTSTAMP:20260422T202202Z
DESCRIPTION:1/1 Český Krumlov - Volejbal Plzeň B 3:0 (23\,17\,23)
DTSTART;TZID=Europe/Berlin:20250426T130000
DTEND;TZID=Europe/Berlin:20250426T150000
LOCATION:ZŠ Za Nádražím Český Krumlov\, Za Nádražím 222 Český Krumlov - Nád
 ražní Předměstí
SUMMARY:2-U18Z-KA1: Český Krumlov-Volejbal Plzeň B
END:VEVENT
BEGIN:VEVENT
UID:33323937-6562-4631-b334-353136393062
DTSTAMP:20260422T202202Z
DESCRIPTION:1/2 Volejbal Plzeň B - Kolín 3:2 (22\,-18\,-10\,25\,11)
DTSTART;TZID=Europe/Berlin:20250426T150000
DTEND;TZID=Europe/Berlin:20250426T170000
LOCATION:ZŠ Za Nádražím Český Krumlov\, Za Nádražím 222 Český Krumlov - Nád
 ražní Předměstí
SUMMARY:2-U18Z-KA1: Volejbal Plzeň B-Kolín
END:VEVENT
BEGIN:VEVENT
UID:63623265-6638-4337-b861-373439623565
DTSTAMP:20260422T202202Z
DESCRIPTION:1/3 Kolín - Český Krumlov 3:1 (20\,23\,-23\,10)
DTSTART;TZID=Europe/Berlin:20250426T170000
DTEND;TZID=Europe/Berlin:20250426T190000
LOCATION:ZŠ Za Nádražím Český Krumlov\, Za Nádražím 222 Český Krumlov - Nád
 ražní Předměstí
SUMMARY:2-U18Z-KA1: Kolín-Český Krumlov
END:VEVENT
END:VCALENDAR
