BEGIN:VCALENDAR
VERSION:2.0
PRODID:-//2-U18Z-KB//NONSGML kigkonsult.se iCalcreator 2.41.80//
CALSCALE:GREGORIAN
UID:35383630-6566-4139-b839-373961623062
BEGIN:VEVENT
UID:31663364-3939-4031-a166-323134666165
DTSTAMP:20260424T170902Z
DESCRIPTION:1/1 Jiskra Jaroměř - Rtyně 1:3 (-20\,-21\,17\,-18)\nNH - Pražsk
 á 696\, Náchod
DTSTART;TZID=Europe/Berlin:20250426T100000
DTEND;TZID=Europe/Berlin:20250426T120000
LOCATION:Tělocvična ZŠ Zbečník\,  Hronov - Zbečník210
SUMMARY:2-U18Z-KB: Jiskra Jaroměř-Rtyně
END:VEVENT
BEGIN:VEVENT
UID:65366537-3131-4666-b036-666130333437
DTSTAMP:20260424T170902Z
DESCRIPTION:1/2 Čížkovice - Hodkovice 3:0 (11\,8\,21)\nNH - Pražská 696 Nác
 hod
DTSTART;TZID=Europe/Berlin:20250426T120000
DTEND;TZID=Europe/Berlin:20250426T140000
LOCATION:Tělocvična ZŠ Zbečník\,  Hronov - Zbečník210
SUMMARY:2-U18Z-KB: Čížkovice-Hodkovice
END:VEVENT
BEGIN:VEVENT
UID:37646665-6362-4834-b134-356637646531
DTSTAMP:20260424T170902Z
DESCRIPTION:1/3 Chomutov - Jiskra Jaroměř 2:3 (18\,-16\,16\,-20\,-17)\nNH -
  Pražská 696 Náchod
DTSTART;TZID=Europe/Berlin:20250426T140000
DTEND;TZID=Europe/Berlin:20250426T160000
LOCATION:Tělocvična ZŠ Zbečník\,  Hronov - Zbečník210
SUMMARY:2-U18Z-KB: Chomutov-Jiskra Jaroměř
END:VEVENT
BEGIN:VEVENT
UID:39383862-6139-4563-b539-633338323934
DTSTAMP:20260424T170902Z
DESCRIPTION:1/4 Rtyně - Čížkovice 3:0 (12\,21\,14)\nNH - Pražská 696 Náchod
DTSTART;TZID=Europe/Berlin:20250426T160000
DTEND;TZID=Europe/Berlin:20250426T180000
LOCATION:Tělocvična ZŠ Zbečník\,  Hronov - Zbečník210
SUMMARY:2-U18Z-KB: Rtyně-Čížkovice
END:VEVENT
BEGIN:VEVENT
UID:66633866-6634-4065-b739-393538643263
DTSTAMP:20260424T170902Z
DESCRIPTION:1/5 Chomutov - Hodkovice 3:0 (11\,12\,16)\nNH - Pražská 696 Nác
 hod
DTSTART;TZID=Europe/Berlin:20250426T180000
DTEND;TZID=Europe/Berlin:20250426T200000
LOCATION:Tělocvična ZŠ Zbečník\,  Hronov - Zbečník210
SUMMARY:2-U18Z-KB: Chomutov-Hodkovice
END:VEVENT
BEGIN:VEVENT
UID:36316162-3562-4965-a235-663933653638
DTSTAMP:20260424T170902Z
DESCRIPTION:2/6 Jiskra Jaroměř - Čížkovice 3:0 (17\,16\,26)
DTSTART;TZID=Europe/Berlin:20250427T100000
DTEND;TZID=Europe/Berlin:20250427T120000
LOCATION:Tělocvična ZŠ Zbečník\,  Hronov - Zbečník210
SUMMARY:2-U18Z-KB: Jiskra Jaroměř-Čížkovice
END:VEVENT
BEGIN:VEVENT
UID:63363762-3837-4233-b430-646261633035
DTSTAMP:20260424T170902Z
DESCRIPTION:2/7 Rtyně - Chomutov 2:3 (23\,-13\,19\,-19\,-7)
DTSTART;TZID=Europe/Berlin:20250427T120000
DTEND;TZID=Europe/Berlin:20250427T140000
LOCATION:Tělocvična ZŠ Zbečník\,  Hronov - Zbečník210
SUMMARY:2-U18Z-KB: Rtyně-Chomutov
END:VEVENT
BEGIN:VEVENT
UID:37653237-3734-4165-b536-366438663234
DTSTAMP:20260424T170902Z
DESCRIPTION:2/8 Hodkovice - Jiskra Jaroměř 0:3 (-8\,-16\,-10)
DTSTART;TZID=Europe/Berlin:20250427T140000
DTEND;TZID=Europe/Berlin:20250427T160000
LOCATION:Tělocvična ZŠ Zbečník\,  Hronov - Zbečník210
SUMMARY:2-U18Z-KB: Hodkovice-Jiskra Jaroměř
END:VEVENT
BEGIN:VEVENT
UID:39383233-3864-4632-b461-353034343364
DTSTAMP:20260424T170902Z
DESCRIPTION:2/9 Čížkovice - Chomutov 0:3 (-14\,-22\,-22)
DTSTART;TZID=Europe/Berlin:20250427T160000
DTEND;TZID=Europe/Berlin:20250427T180000
LOCATION:Tělocvična ZŠ Zbečník\,  Hronov - Zbečník210
SUMMARY:2-U18Z-KB: Čížkovice-Chomutov
END:VEVENT
BEGIN:VEVENT
UID:32306439-6565-4962-b734-323835353135
DTSTAMP:20260424T170902Z
DESCRIPTION:2/10 Hodkovice - Rtyně 0:3 (-5\,-13\,-12)
DTSTART;TZID=Europe/Berlin:20250427T180000
DTEND;TZID=Europe/Berlin:20250427T200000
LOCATION:Tělocvična ZŠ Zbečník\,  Hronov - Zbečník210
SUMMARY:2-U18Z-KB: Hodkovice-Rtyně
END:VEVENT
END:VCALENDAR
