BEGIN:VCALENDAR
VERSION:2.0
PRODID:-//ST-U14Z-F4//NONSGML kigkonsult.se iCalcreator 2.41.80//
CALSCALE:GREGORIAN
UID:31323630-6534-4264-b666-316165633330
BEGIN:VEVENT
UID:32343532-3164-4464-a364-376539326634
DTSTAMP:20260424T213904Z
DESCRIPTION:1/1 Neratovice - Nymburské BOMBY B 2:0 (10\,21)\nPořadatel: TJ 
 Neratovice
DTSTART;TZID=Europe/Berlin:20250511T100000
DTEND;TZID=Europe/Berlin:20250511T120000
LOCATION:sportovní hala TJ Neratovice \, Kpt. Jaroše 233 Neratovice
SUMMARY:ST-U14Z-F4: Neratovice-Nymburské BOMBY B
END:VEVENT
BEGIN:VEVENT
UID:39333539-3762-4237-a561-666165373466
DTSTAMP:20260424T213904Z
DESCRIPTION:1/2 Brandýs nad Labem - Králův Dvůr 2:0 (9\,13)\nPořadatel: 2 h
 řiště
DTSTART;TZID=Europe/Berlin:20250511T100000
DTEND;TZID=Europe/Berlin:20250511T120000
LOCATION:Sokolovna\, Zápská 329 Brandýs nad Labem-Stará Boleslav - Brandýs 
 nad Labem
SUMMARY:ST-U14Z-F4: Brandýs nad Labem-Králův Dvůr
END:VEVENT
BEGIN:VEVENT
UID:65313362-6131-4832-b933-396363633064
DTSTAMP:20260424T213904Z
DESCRIPTION:1/3 Brandýs nad Labem - Nymburské BOMBY B 2:0 (11\,13)
DTSTART;TZID=Europe/Berlin:20250511T100000
DTEND;TZID=Europe/Berlin:20250511T120000
LOCATION:Sokolovna\, Zápská 329 Brandýs nad Labem-Stará Boleslav - Brandýs 
 nad Labem
SUMMARY:ST-U14Z-F4: Brandýs nad Labem-Nymburské BOMBY B
END:VEVENT
BEGIN:VEVENT
UID:31396336-3136-4438-a365-623734663061
DTSTAMP:20260424T213904Z
DESCRIPTION:1/4 Králův Dvůr - Neratovice 0:2 (-17\,-12)
DTSTART;TZID=Europe/Berlin:20250511T100000
DTEND;TZID=Europe/Berlin:20250511T120000
LOCATION:Sportovní hala Chýně\, Bolzanova 800 Chýně
SUMMARY:ST-U14Z-F4: Králův Dvůr-Neratovice
END:VEVENT
BEGIN:VEVENT
UID:66323536-3439-4563-b661-333233323465
DTSTAMP:20260424T213904Z
DESCRIPTION:1/5 Nymburské BOMBY B - Králův Dvůr 0:2 (-19\,-15)
DTSTART;TZID=Europe/Berlin:20250511T100000
DTEND;TZID=Europe/Berlin:20250511T120000
LOCATION:Bios\, V Kolonii 1804 Nymburk
SUMMARY:ST-U14Z-F4: Nymburské BOMBY B-Králův Dvůr
END:VEVENT
BEGIN:VEVENT
UID:33366530-3035-4766-a635-333565356531
DTSTAMP:20260424T213904Z
DESCRIPTION:1/6 Neratovice - Brandýs nad Labem 2:0 (17\,27)
DTSTART;TZID=Europe/Berlin:20250511T100000
DTEND;TZID=Europe/Berlin:20250511T120000
LOCATION:sportovní hala TJ Neratovice \, Kpt. Jaroše 233 Neratovice
SUMMARY:ST-U14Z-F4: Neratovice-Brandýs nad Labem
END:VEVENT
END:VCALENDAR
