BEGIN:VCALENDAR
VERSION:2.0
PRODID:-//2-U20Z-KB2//NONSGML kigkonsult.se iCalcreator 2.41.80//
CALSCALE:GREGORIAN
UID:64363632-3062-4736-b931-343261643338
BEGIN:VEVENT
UID:32383062-3864-4431-b935-336531333634
DTSTAMP:20260422T182917Z
DESCRIPTION:1/1 SK TŘEBÍN LVI B - ABC Braník 0:3 (-15\,-20\,-17)
DTSTART;TZID=Europe/Berlin:20250503T130000
DTEND;TZID=Europe/Berlin:20250503T150000
LOCATION:tělocvična HŠ a OA Třebíč\, Otmarova 187 Třebíč - Jejkov
SUMMARY:2-U20Z-KB2: SK TŘEBÍN LVI B-ABC Braník
END:VEVENT
BEGIN:VEVENT
UID:39636335-6331-4435-a231-353436346336
DTSTAMP:20260422T182917Z
DESCRIPTION:1/2 ABC Braník - Mělník 0:3 (-28\,-16\,-20)
DTSTART;TZID=Europe/Berlin:20250503T150000
DTEND;TZID=Europe/Berlin:20250503T170000
LOCATION:tělocvična HŠ a OA Třebíč\, Otmarova 187 Třebíč - Jejkov
SUMMARY:2-U20Z-KB2: ABC Braník-Mělník
END:VEVENT
BEGIN:VEVENT
UID:38303930-3830-4534-a131-343963396639
DTSTAMP:20260422T182917Z
DESCRIPTION:1/3 Mělník - SK TŘEBÍN LVI B 3:0 (17\,12\,20)
DTSTART;TZID=Europe/Berlin:20250503T170000
DTEND;TZID=Europe/Berlin:20250503T190000
LOCATION:tělocvična HŠ a OA Třebíč\, Otmarova 187 Třebíč - Jejkov
SUMMARY:2-U20Z-KB2: Mělník-SK TŘEBÍN LVI B
END:VEVENT
END:VCALENDAR
