BEGIN:VCALENDAR
VERSION:2.0
PRODID:-//MCR-U14MFH//NONSGML kigkonsult.se iCalcreator 2.41.80//
CALSCALE:GREGORIAN
UID:37326234-6635-4530-a137-343733623135
BEGIN:VEVENT
UID:33323663-6363-4431-b163-393431323664
DTSTAMP:20260424T192623Z
DESCRIPTION:1/1 Volejbalový klub Znojmo - Přímětice\, z.s. - VK Lvi Praha\,
  z.s. 0:2 (-10\,-16)\nA5-B5
DTSTART;TZID=Europe/Berlin:20250426T164000
DTEND;TZID=Europe/Berlin:20250426T184000
LOCATION:Tělocvična ZŠ Prokopa Diviše a MŠ\, Ke Škole 569 Znojmo - Přímětic
 e
SUMMARY:MCR-U14MFH: Volejbalový klub Znojmo - Přímětice\, z.s.-VK Lvi Praha
 \, z.s.
END:VEVENT
BEGIN:VEVENT
UID:63306435-3431-4136-b761-656361353762
DTSTAMP:20260424T192623Z
DESCRIPTION:1/2 VK Ostrava - Slavia HK 2:0 (20\,18)\nC5-D5
DTSTART;TZID=Europe/Berlin:20250426T164000
DTEND;TZID=Europe/Berlin:20250426T184000
LOCATION:Hala Střední zdravotní školy\, 1. máje 2208 Ostrava - Mariánské Ho
 ry
SUMMARY:MCR-U14MFH: VK Ostrava-Slavia HK
END:VEVENT
BEGIN:VEVENT
UID:35633266-6332-4662-b563-666533343764
DTSTAMP:20260424T192623Z
DESCRIPTION:2/3 Volejbalový klub Znojmo - Přímětice\, z.s. - VK Ostrava 0:2
  (-20\,-14)\nA5-C5
DTSTART;TZID=Europe/Berlin:20250427T102000
DTEND;TZID=Europe/Berlin:20250427T122000
LOCATION:Tělocvična ZŠ Prokopa Diviše a MŠ\, Ke Škole 569 Znojmo - Přímětic
 e
SUMMARY:MCR-U14MFH: Volejbalový klub Znojmo - Přímětice\, z.s.-VK Ostrava
END:VEVENT
BEGIN:VEVENT
UID:38633161-6136-4135-b334-636362636463
DTSTAMP:20260424T192623Z
DESCRIPTION:2/4 VK Lvi Praha\, z.s. - Slavia HK 2:0 (11\,12)\nB5-D5
DTSTART;TZID=Europe/Berlin:20250427T102000
DTEND;TZID=Europe/Berlin:20250427T122000
LOCATION:FZŠ Brdičkova\, Brdičkova 1878 Praha - Stodůlky
SUMMARY:MCR-U14MFH: VK Lvi Praha\, z.s.-Slavia HK
END:VEVENT
BEGIN:VEVENT
UID:64376265-3835-4336-a637-623464383230
DTSTAMP:20260424T192623Z
DESCRIPTION:3/5 Volejbalový klub Znojmo - Přímětice\, z.s. - Slavia HK 2:0 
 (19\,16)\nA5-D5
DTSTART;TZID=Europe/Berlin:20250427T130000
DTEND;TZID=Europe/Berlin:20250427T150000
LOCATION:Tělocvična ZŠ Prokopa Diviše a MŠ\, Ke Škole 569 Znojmo - Přímětic
 e
SUMMARY:MCR-U14MFH: Volejbalový klub Znojmo - Přímětice\, z.s.-Slavia HK
END:VEVENT
BEGIN:VEVENT
UID:39363436-3533-4364-b938-333361373163
DTSTAMP:20260424T192623Z
DESCRIPTION:3/6 VK Lvi Praha\, z.s. - VK Ostrava 2:1 (-14\,26\,13)\nB5-C5
DTSTART;TZID=Europe/Berlin:20250427T130000
DTEND;TZID=Europe/Berlin:20250427T150000
LOCATION:FZŠ Brdičkova\, Brdičkova 1878 Praha - Stodůlky
SUMMARY:MCR-U14MFH: VK Lvi Praha\, z.s.-VK Ostrava
END:VEVENT
END:VCALENDAR
