BEGIN:VCALENDAR
VERSION:2.0
PRODID:-//MCR-U14MFI//NONSGML kigkonsult.se iCalcreator 2.41.80//
CALSCALE:GREGORIAN
UID:65373231-6637-4831-b266-393766313532
BEGIN:VEVENT
UID:36663633-3631-4266-b634-623836303262
DTSTAMP:20260422T202242Z
DESCRIPTION:1/1 VK Dukla Liberec - VK České Budějovice 2:1 (10\,-17\,7)\nE1
 -F2
DTSTART;TZID=Europe/Berlin:20250427T114000
DTEND;TZID=Europe/Berlin:20250427T134000
LOCATION:Dukla Liberec\, Jeronýmova 558 Liberec - Liberec VII-Horní Růžodol
SUMMARY:MCR-U14MFI: VK Dukla Liberec-VK České Budějovice
END:VEVENT
BEGIN:VEVENT
UID:64393666-6665-4231-b535-623838366136
DTSTAMP:20260422T202242Z
DESCRIPTION:1/2 TJ TESLA BRNO - Svitavy 2:0 (29\,10)\nE2-F1
DTSTART;TZID=Europe/Berlin:20250427T114000
DTEND;TZID=Europe/Berlin:20250427T134000
LOCATION:ZŠ Milénova 14\, Milénova 808 Brno - Lesná
SUMMARY:MCR-U14MFI: TJ TESLA BRNO-Svitavy
END:VEVENT
BEGIN:VEVENT
UID:65333236-3066-4266-b862-326138666437
DTSTAMP:20260422T202242Z
DESCRIPTION:1/3 SK Prosek - TJ ABC Braník\, z.s. 2:0 (18\,23)\nE3-F4
DTSTART;TZID=Europe/Berlin:20250427T114000
DTEND;TZID=Europe/Berlin:20250427T134000
SUMMARY:MCR-U14MFI: SK Prosek-TJ ABC Braník\, z.s.
END:VEVENT
BEGIN:VEVENT
UID:38393730-3835-4266-a663-356636636632
DTSTAMP:20260422T202242Z
DESCRIPTION:1/4 VK Rousínov z.s. - Příbram 1:2 (-16\,22\,-8)\nE4-F3
DTSTART;TZID=Europe/Berlin:20250427T114000
DTEND;TZID=Europe/Berlin:20250427T134000
LOCATION:Sportovní hala Rousínov\, Habrovanská 1199 Rousínov
SUMMARY:MCR-U14MFI: VK Rousínov z.s.-Příbram
END:VEVENT
BEGIN:VEVENT
UID:65383061-3061-4165-b534-363561616237
DTSTAMP:20260422T202242Z
DESCRIPTION:1/5 SPORT Rychnov - SK Kojetín 2016\, z.s. 2:1 (20\,-18\,11)\nE
 5-F6
DTSTART;TZID=Europe/Berlin:20250427T114000
DTEND;TZID=Europe/Berlin:20250427T134000
LOCATION:Hala VOŠ a SPŠS\, U Stadionu 1166 Rychnov nad Kněžnou
SUMMARY:MCR-U14MFI: SPORT Rychnov-SK Kojetín 2016\, z.s.
END:VEVENT
BEGIN:VEVENT
UID:31616333-3261-4132-a639-303839373432
DTSTAMP:20260422T202242Z
DESCRIPTION:1/6 VAM Olomouc - SK Meteor Praha 0:2 (-17\,-23)\nE6-F5
DTSTART;TZID=Europe/Berlin:20250427T114000
DTEND;TZID=Europe/Berlin:20250427T134000
LOCATION:VOŠ a SPŠE Olomouc\, Božetěchova 755 Olomouc - Hodolany
SUMMARY:MCR-U14MFI: VAM Olomouc-SK Meteor Praha
END:VEVENT
BEGIN:VEVENT
UID:64363134-3566-4536-a634-356234663631
DTSTAMP:20260422T202242Z
DESCRIPTION:2/7 SK Kojetín 2016\, z.s. - VAM Olomouc 1:2 (-17\,19\,-12)\no 
 11. místo
DTSTART;TZID=Europe/Berlin:20250427T142000
DTEND;TZID=Europe/Berlin:20250427T162000
SUMMARY:MCR-U14MFI: SK Kojetín 2016\, z.s.-VAM Olomouc
END:VEVENT
BEGIN:VEVENT
UID:37316537-3164-4233-b430-366234643035
DTSTAMP:20260422T202242Z
DESCRIPTION:2/8 SPORT Rychnov - SK Meteor Praha 2:1 (20\,-24\,7)\no 9. míst
 o
DTSTART;TZID=Europe/Berlin:20250427T142000
DTEND;TZID=Europe/Berlin:20250427T162000
LOCATION:Hala VOŠ a SPŠS\, U Stadionu 1166 Rychnov nad Kněžnou
SUMMARY:MCR-U14MFI: SPORT Rychnov-SK Meteor Praha
END:VEVENT
BEGIN:VEVENT
UID:62626163-6439-4563-a662-333065633932
DTSTAMP:20260422T202242Z
DESCRIPTION:2/9 TJ ABC Braník\, z.s. - VK Rousínov z.s. 1:2 (-20\,18\,-13)
 \no 7. místo
DTSTART;TZID=Europe/Berlin:20250427T142000
DTEND;TZID=Europe/Berlin:20250427T162000
LOCATION:Sokolovna Braník\, Branická 275 Praha - Braník
SUMMARY:MCR-U14MFI: TJ ABC Braník\, z.s.-VK Rousínov z.s.
END:VEVENT
BEGIN:VEVENT
UID:61306537-3665-4065-b831-313765646133
DTSTAMP:20260422T202242Z
DESCRIPTION:2/10 SK Prosek - Příbram 2:0 (16\,19)\no 5. místo
DTSTART;TZID=Europe/Berlin:20250427T142000
DTEND;TZID=Europe/Berlin:20250427T162000
SUMMARY:MCR-U14MFI: SK Prosek-Příbram
END:VEVENT
BEGIN:VEVENT
UID:36616162-3935-4131-b837-376233666132
DTSTAMP:20260422T202242Z
DESCRIPTION:2/11 VK České Budějovice - Svitavy 0:2 (-19\,-18)\no 3. místo
DTSTART;TZID=Europe/Berlin:20250427T142000
DTEND;TZID=Europe/Berlin:20250427T162000
SUMMARY:MCR-U14MFI: VK České Budějovice-Svitavy
END:VEVENT
BEGIN:VEVENT
UID:66313334-3736-4538-b563-306561636237
DTSTAMP:20260422T202242Z
DESCRIPTION:2/12 VK Dukla Liberec - TJ TESLA BRNO 2:0 (12\,20)\no 1. místo
DTSTART;TZID=Europe/Berlin:20250427T142000
DTEND;TZID=Europe/Berlin:20250427T162000
LOCATION:Dukla Liberec\, Jeronýmova 558 Liberec - Liberec VII-Horní Růžodol
SUMMARY:MCR-U14MFI: VK Dukla Liberec-TJ TESLA BRNO
END:VEVENT
END:VCALENDAR
