BEGIN:VCALENDAR
VERSION:2.0
PRODID:-//MCR-U16Z-FE//NONSGML kigkonsult.se iCalcreator 2.41.80//
CALSCALE:GREGORIAN
UID:61393865-3261-4362-b234-633930383933
BEGIN:VEVENT
UID:39346235-3861-4164-a135-626262326161
DTSTAMP:20260422T182923Z
DESCRIPTION:1/1 Orion Praha A - Příbram A 2:0 (18\,23)\nA1 - C3
DTSTART;TZID=Europe/Berlin:20250503T100000
DTEND;TZID=Europe/Berlin:20250503T120000
LOCATION:ZŠ Janáčkovo náměstí 17\, Janáčkovo náměstí 1970 Krnov - Pod Bezru
 čovým vrchem
SUMMARY:MCR-U16Z-FE: Orion Praha A-Příbram A
END:VEVENT
BEGIN:VEVENT
UID:32306338-3461-4263-a336-643861646630
DTSTAMP:20260422T182923Z
DESCRIPTION:1/2 Slavia H.Králové A - Volejbal Ústí n L. 2:0 (24\,23)\nA2 - 
 C2
DTSTART;TZID=Europe/Berlin:20250503T100000
DTEND;TZID=Europe/Berlin:20250503T120000
LOCATION:ZŠ Janáčkovo náměstí 17\, Janáčkovo náměstí 1970 Krnov - Pod Bezru
 čovým vrchem
SUMMARY:MCR-U16Z-FE: Slavia H.Králové A-Volejbal Ústí n L.
END:VEVENT
BEGIN:VEVENT
UID:30616431-3237-4462-b139-653630356636
DTSTAMP:20260422T182923Z
DESCRIPTION:1/3 TJ Svitavy A - Nymburské BOMBY 0:2 (-17\,-21)\nA3 - C1
DTSTART;TZID=Europe/Berlin:20250503T100000
DTEND;TZID=Europe/Berlin:20250503T120000
LOCATION:ZŠ Janáčkovo náměstí 17\, Janáčkovo náměstí 1970 Krnov - Pod Bezru
 čovým vrchem
SUMMARY:MCR-U16Z-FE: TJ Svitavy A-Nymburské BOMBY
END:VEVENT
BEGIN:VEVENT
UID:61383438-3333-4131-a337-656639636566
DTSTAMP:20260422T182923Z
DESCRIPTION:2/4 Nymburské BOMBY - Slavia H.Králové A 2:0 (22\,22)\nC1 - A2
DTSTART;TZID=Europe/Berlin:20250503T130000
DTEND;TZID=Europe/Berlin:20250503T150000
LOCATION:ZŠ Janáčkovo náměstí 17\, Janáčkovo náměstí 1970 Krnov - Pod Bezru
 čovým vrchem
SUMMARY:MCR-U16Z-FE: Nymburské BOMBY-Slavia H.Králové A
END:VEVENT
BEGIN:VEVENT
UID:63343764-3136-4466-b961-633965303735
DTSTAMP:20260422T182923Z
DESCRIPTION:2/5 Volejbal Ústí n L. - Orion Praha A 0:2 (-17\,-19)\nC2 - A1
DTSTART;TZID=Europe/Berlin:20250503T130000
DTEND;TZID=Europe/Berlin:20250503T150000
LOCATION:ZŠ Janáčkovo náměstí 17\, Janáčkovo náměstí 1970 Krnov - Pod Bezru
 čovým vrchem
SUMMARY:MCR-U16Z-FE: Volejbal Ústí n L.-Orion Praha A
END:VEVENT
BEGIN:VEVENT
UID:30656435-3837-4562-b235-656534656638
DTSTAMP:20260422T182923Z
DESCRIPTION:2/6 Příbram A - TJ Svitavy A 2:1 (-19\,19\,12)\nC3 - A3
DTSTART;TZID=Europe/Berlin:20250503T130000
DTEND;TZID=Europe/Berlin:20250503T150000
LOCATION:ZŠ Janáčkovo náměstí 17\, Janáčkovo náměstí 1970 Krnov - Pod Bezru
 čovým vrchem
SUMMARY:MCR-U16Z-FE: Příbram A-TJ Svitavy A
END:VEVENT
BEGIN:VEVENT
UID:64636239-3334-4435-b935-393866643935
DTSTAMP:20260422T182923Z
DESCRIPTION:3/7 Orion Praha A - Nymburské BOMBY 2:1 (-23\,21\,11)\nA1 - C1
DTSTART;TZID=Europe/Berlin:20250503T160000
DTEND;TZID=Europe/Berlin:20250503T180000
LOCATION:ZŠ Janáčkovo náměstí 17\, Janáčkovo náměstí 1970 Krnov - Pod Bezru
 čovým vrchem
SUMMARY:MCR-U16Z-FE: Orion Praha A-Nymburské BOMBY
END:VEVENT
BEGIN:VEVENT
UID:39333730-3938-4438-b530-303134653931
DTSTAMP:20260422T182923Z
DESCRIPTION:3/8 Slavia H.Králové A - Příbram A 2:0 (19\,15)\nA2 - C3
DTSTART;TZID=Europe/Berlin:20250503T160000
DTEND;TZID=Europe/Berlin:20250503T180000
LOCATION:ZŠ Janáčkovo náměstí 17\, Janáčkovo náměstí 1970 Krnov - Pod Bezru
 čovým vrchem
SUMMARY:MCR-U16Z-FE: Slavia H.Králové A-Příbram A
END:VEVENT
BEGIN:VEVENT
UID:34323937-3834-4530-b031-636265363562
DTSTAMP:20260422T182923Z
DESCRIPTION:3/9 TJ Svitavy A - Volejbal Ústí n L. 2:0 (19\,23)\nA3 - C2
DTSTART;TZID=Europe/Berlin:20250503T160000
DTEND;TZID=Europe/Berlin:20250503T180000
LOCATION:ZŠ Janáčkovo náměstí 17\, Janáčkovo náměstí 1970 Krnov - Pod Bezru
 čovým vrchem
SUMMARY:MCR-U16Z-FE: TJ Svitavy A-Volejbal Ústí n L.
END:VEVENT
END:VCALENDAR
