BEGIN:VCALENDAR
VERSION:2.0
PRODID:-//LIB-U14M//NONSGML kigkonsult.se iCalcreator 2.41.80//
CALSCALE:GREGORIAN
UID:33333563-3732-4866-a161-313534343532
BEGIN:VEVENT
UID:32376532-3532-4065-a532-313364653062
DTSTAMP:20260422T075520Z
DESCRIPTION:1/1 TJ VK DUKLA LIBEREC z.s. - Sokol Mn. Hradiště 0:2 (-17\,-14
 )\nZŠ u školy Liberec
DTSTART;TZID=Europe/Berlin:20251005T090000
DTEND;TZID=Europe/Berlin:20251005T110000
LOCATION:Dukla Liberec\, Jeronýmova 558 Liberec - Liberec VII-Horní Růžodol
SUMMARY:LIB-U14M: TJ VK DUKLA LIBEREC z.s.-Sokol Mn. Hradiště
END:VEVENT
BEGIN:VEVENT
UID:62323164-3933-4361-b039-336239656235
DTSTAMP:20260422T075520Z
DESCRIPTION:1/2 Sokol Mn. Hradiště - Beach Vratislavice 2:1 (21\,-23\,5)\nZ
 Š u školy Liberec
DTSTART;TZID=Europe/Berlin:20251005T100000
DTEND;TZID=Europe/Berlin:20251005T120000
LOCATION:Sokolovna\, Víta Nejedlého 596 Mnichovo Hradiště
SUMMARY:LIB-U14M: Sokol Mn. Hradiště-Beach Vratislavice
END:VEVENT
BEGIN:VEVENT
UID:32383064-3661-4261-a362-353933396631
DTSTAMP:20260422T075520Z
DESCRIPTION:1/3 Beach Vratislavice - TJ VK DUKLA LIBEREC z.s. 2:1 (-20\,21\
 ,7)\nZŠ u školy Liberec
DTSTART;TZID=Europe/Berlin:20251005T110000
DTEND;TZID=Europe/Berlin:20251005T130000
LOCATION:, Nad Školou 278 Liberec - Liberec XXX-Vratislavice nad Nisou
SUMMARY:LIB-U14M: Beach Vratislavice-TJ VK DUKLA LIBEREC z.s.
END:VEVENT
BEGIN:VEVENT
UID:63316335-6630-4262-b435-613830383836
DTSTAMP:20260422T075520Z
DESCRIPTION:2/4 Beach Vratislavice - TJ VK DUKLA LIBEREC z.s. 1:2 (-16\,18\
 ,-9)\nZŠ Vratislavice
DTSTART;TZID=Europe/Berlin:20251115T090000
DTEND;TZID=Europe/Berlin:20251115T110000
LOCATION:, Nad Školou 278 Liberec - Liberec XXX-Vratislavice nad Nisou
SUMMARY:LIB-U14M: Beach Vratislavice-TJ VK DUKLA LIBEREC z.s.
END:VEVENT
BEGIN:VEVENT
UID:37626166-3364-4161-b637-303662633434
DTSTAMP:20260422T075520Z
DESCRIPTION:2/5 TJ VK DUKLA LIBEREC z.s. - Sokol Mn. Hradiště 0:2 (-13\,-11
 )\nZŠ Vratislavice
DTSTART;TZID=Europe/Berlin:20251115T100000
DTEND;TZID=Europe/Berlin:20251115T120000
LOCATION:Dukla Liberec\, Jeronýmova 558 Liberec - Liberec VII-Horní Růžodol
SUMMARY:LIB-U14M: TJ VK DUKLA LIBEREC z.s.-Sokol Mn. Hradiště
END:VEVENT
BEGIN:VEVENT
UID:66653366-6232-4338-b739-613762633165
DTSTAMP:20260422T075520Z
DESCRIPTION:2/6 Sokol Mn. Hradiště - Beach Vratislavice 2:0 (18\,13)\nZŠ Vr
 atislavice
DTSTART;TZID=Europe/Berlin:20251115T110000
DTEND;TZID=Europe/Berlin:20251115T130000
LOCATION:Sokolovna\, Víta Nejedlého 596 Mnichovo Hradiště
SUMMARY:LIB-U14M: Sokol Mn. Hradiště-Beach Vratislavice
END:VEVENT
BEGIN:VEVENT
UID:36313734-3934-4461-a435-313565333939
DTSTAMP:20260422T075520Z
DESCRIPTION:3/7 Sokol Mn. Hradiště - TJ VK DUKLA LIBEREC z.s. 1:2 (-21\,13\
 ,-1)\nsokolovna MH
DTSTART;TZID=Europe/Berlin:20251213T083000
DTEND;TZID=Europe/Berlin:20251213T103000
LOCATION:Sokolovna\, Víta Nejedlého 596 Mnichovo Hradiště
SUMMARY:LIB-U14M: Sokol Mn. Hradiště-TJ VK DUKLA LIBEREC z.s.
END:VEVENT
BEGIN:VEVENT
UID:66303035-3130-4831-b535-303437383561
DTSTAMP:20260422T075520Z
DESCRIPTION:3/8 TJ VK DUKLA LIBEREC z.s. - Beach Vratislavice 0:2 (-17\,-24
 )\nsokolovna MH
DTSTART;TZID=Europe/Berlin:20251213T093000
DTEND;TZID=Europe/Berlin:20251213T113000
LOCATION:Dukla Liberec\, Jeronýmova 558 Liberec - Liberec VII-Horní Růžodol
SUMMARY:LIB-U14M: TJ VK DUKLA LIBEREC z.s.-Beach Vratislavice
END:VEVENT
BEGIN:VEVENT
UID:36356631-3432-4336-a566-313836386338
DTSTAMP:20260422T075520Z
DESCRIPTION:3/9 Beach Vratislavice - Sokol Mn. Hradiště 2:0 (16\,20)\nsokol
 ovna MH
DTSTART;TZID=Europe/Berlin:20251213T103000
DTEND;TZID=Europe/Berlin:20251213T123000
LOCATION:, Nad Školou 278 Liberec - Liberec XXX-Vratislavice nad Nisou
SUMMARY:LIB-U14M: Beach Vratislavice-Sokol Mn. Hradiště
END:VEVENT
BEGIN:VEVENT
UID:34633261-6436-4437-b263-663130343139
DTSTAMP:20260422T075520Z
DESCRIPTION:4/10 TJ VK DUKLA LIBEREC z.s. - Beach Vratislavice 0:2 (-23\,-2
 2)\nZŠ nad Duklou
DTSTART;TZID=Europe/Berlin:20260124T133000
DTEND;TZID=Europe/Berlin:20260124T153000
LOCATION:Dukla Liberec\, Jeronýmova 558 Liberec - Liberec VII-Horní Růžodol
SUMMARY:LIB-U14M: TJ VK DUKLA LIBEREC z.s.-Beach Vratislavice
END:VEVENT
BEGIN:VEVENT
UID:33623836-3365-4236-a365-396333643630
DTSTAMP:20260422T075520Z
DESCRIPTION:4/11 Beach Vratislavice - Sokol Mn. Hradiště 0:2 (-16\,-11)\nZŠ
  nad Duklou
DTSTART;TZID=Europe/Berlin:20260124T143000
DTEND;TZID=Europe/Berlin:20260124T163000
LOCATION:, Nad Školou 278 Liberec - Liberec XXX-Vratislavice nad Nisou
SUMMARY:LIB-U14M: Beach Vratislavice-Sokol Mn. Hradiště
END:VEVENT
BEGIN:VEVENT
UID:64666438-3363-4837-a535-366265636336
DTSTAMP:20260422T075520Z
DESCRIPTION:4/12 Sokol Mn. Hradiště - TJ VK DUKLA LIBEREC z.s. 2:0 (19\,12)
 \nZŠ nad Duklou
DTSTART;TZID=Europe/Berlin:20260124T153000
DTEND;TZID=Europe/Berlin:20260124T173000
LOCATION:Sokolovna\, Víta Nejedlého 596 Mnichovo Hradiště
SUMMARY:LIB-U14M: Sokol Mn. Hradiště-TJ VK DUKLA LIBEREC z.s.
END:VEVENT
BEGIN:VEVENT
UID:65636163-6232-4264-b062-666461613963
DTSTAMP:20260422T075520Z
DESCRIPTION:5/13 Beach Vratislavice - Sokol Mn. Hradiště 0:2 (-13\,-23)\nZŠ
  Vratislavice
DTSTART;TZID=Europe/Berlin:20260214T090000
DTEND;TZID=Europe/Berlin:20260214T110000
LOCATION:, Nad Školou 278 Liberec - Liberec XXX-Vratislavice nad Nisou
SUMMARY:LIB-U14M: Beach Vratislavice-Sokol Mn. Hradiště
END:VEVENT
BEGIN:VEVENT
UID:37356338-3239-4266-b461-396166616461
DTSTAMP:20260422T075520Z
DESCRIPTION:5/14 Sokol Mn. Hradiště - TJ VK DUKLA LIBEREC z.s. 2:0 (8\,23)
 \nZŠ Vratislavice
DTSTART;TZID=Europe/Berlin:20260214T100000
DTEND;TZID=Europe/Berlin:20260214T120000
LOCATION:Sokolovna\, Víta Nejedlého 596 Mnichovo Hradiště
SUMMARY:LIB-U14M: Sokol Mn. Hradiště-TJ VK DUKLA LIBEREC z.s.
END:VEVENT
BEGIN:VEVENT
UID:62383030-3437-4633-a365-623330373739
DTSTAMP:20260422T075520Z
DESCRIPTION:5/15 TJ VK DUKLA LIBEREC z.s. - Beach Vratislavice 1:2 (-14\,24
 \,-15)\nZŠ Vratislavice
DTSTART;TZID=Europe/Berlin:20260214T110000
DTEND;TZID=Europe/Berlin:20260214T130000
LOCATION:Dukla Liberec\, Jeronýmova 558 Liberec - Liberec VII-Horní Růžodol
SUMMARY:LIB-U14M: TJ VK DUKLA LIBEREC z.s.-Beach Vratislavice
END:VEVENT
BEGIN:VEVENT
UID:32666130-3330-4737-a162-643838623532
DTSTAMP:20260422T075520Z
DESCRIPTION:6/16 Sokol Mn. Hradiště - TJ VK DUKLA LIBEREC z.s. 2:0 (15\,16)
 \nsokolovna MH
DTSTART;TZID=Europe/Berlin:20260301T090000
DTEND;TZID=Europe/Berlin:20260301T110000
LOCATION:Sokolovna\, Víta Nejedlého 596 Mnichovo Hradiště
SUMMARY:LIB-U14M: Sokol Mn. Hradiště-TJ VK DUKLA LIBEREC z.s.
END:VEVENT
BEGIN:VEVENT
UID:33353332-3731-4163-b332-313463343230
DTSTAMP:20260422T075520Z
DESCRIPTION:6/17 TJ VK DUKLA LIBEREC z.s. - Beach Vratislavice 2:1 (-16\,18
 \,8)\nsokolovna MH
DTSTART;TZID=Europe/Berlin:20260301T100000
DTEND;TZID=Europe/Berlin:20260301T120000
LOCATION:Dukla Liberec\, Jeronýmova 558 Liberec - Liberec VII-Horní Růžodol
SUMMARY:LIB-U14M: TJ VK DUKLA LIBEREC z.s.-Beach Vratislavice
END:VEVENT
BEGIN:VEVENT
UID:32303866-6131-4533-b138-346463623566
DTSTAMP:20260422T075520Z
DESCRIPTION:6/18 Beach Vratislavice - Sokol Mn. Hradiště 0:2 (-18\,-7)\nsok
 olovna MH
DTSTART;TZID=Europe/Berlin:20260301T110000
DTEND;TZID=Europe/Berlin:20260301T130000
LOCATION:, Nad Školou 278 Liberec - Liberec XXX-Vratislavice nad Nisou
SUMMARY:LIB-U14M: Beach Vratislavice-Sokol Mn. Hradiště
END:VEVENT
END:VCALENDAR
