BEGIN:VCALENDAR
VERSION:2.0
PRODID:-//PA-Z-2//NONSGML kigkonsult.se iCalcreator 2.41.80//
CALSCALE:GREGORIAN
UID:36393065-6535-4362-a365-663639636131
BEGIN:VEVENT
UID:34313035-3663-4064-a431-343139363165
DTSTAMP:20260422T182915Z
DESCRIPTION:1/1 TJ Sokol Nasavrky - TJ Energetik Chvaletice 3:2 (19\,-22\,-
 20\,23\,14)
DTSTART;TZID=Europe/Berlin:20250906T100000
DTEND;TZID=Europe/Berlin:20250906T120000
LOCATION:Základní škola \, Školní 272 Nasavrky
SUMMARY:PA-Z-2: TJ Sokol Nasavrky-TJ Energetik Chvaletice
END:VEVENT
BEGIN:VEVENT
UID:36353139-6665-4164-b636-646537343864
DTSTAMP:20260422T182915Z
DESCRIPTION:1/2 VK Holice - SK Spartak Slatiňany 0:3 (-21\,-15\,-16)
DTSTART;TZID=Europe/Berlin:20251012T100000
DTEND;TZID=Europe/Berlin:20251012T120000
LOCATION:Sportovní hala\, Holubova 1037 Holice
SUMMARY:PA-Z-2: VK Holice-SK Spartak Slatiňany
END:VEVENT
BEGIN:VEVENT
UID:61323034-3066-4462-b632-663133663230
DTSTAMP:20260422T182915Z
DESCRIPTION:1/3 TJ Tesla Pardubice - Orel Letohrad 3:0 (22\,13\,13)
DTSTART;TZID=Europe/Berlin:20250906T100000
DTEND;TZID=Europe/Berlin:20250906T120000
LOCATION:Střední odborné učiliště plynárenské\, Poděbradská 93 Pardubice - 
 Polabiny
SUMMARY:PA-Z-2: TJ Tesla Pardubice-Orel Letohrad
END:VEVENT
BEGIN:VEVENT
UID:65303066-3332-4434-b633-313538336635
DTSTAMP:20260422T182915Z
DESCRIPTION:2/4 TJ Sokol Nasavrky - TJ Energetik Chvaletice 3:1 (14\,13\,-1
 8\,22)
DTSTART;TZID=Europe/Berlin:20250906T130000
DTEND;TZID=Europe/Berlin:20250906T150000
LOCATION:Základní škola \, Školní 272 Nasavrky
SUMMARY:PA-Z-2: TJ Sokol Nasavrky-TJ Energetik Chvaletice
END:VEVENT
BEGIN:VEVENT
UID:35383539-3732-4161-b135-316539666135
DTSTAMP:20260422T182915Z
DESCRIPTION:2/5 VK Holice - SK Spartak Slatiňany 1:3 (21\,-12\,-7\,-25)
DTSTART;TZID=Europe/Berlin:20251012T130000
DTEND;TZID=Europe/Berlin:20251012T150000
LOCATION:Sportovní hala\, Holubova 1037 Holice
SUMMARY:PA-Z-2: VK Holice-SK Spartak Slatiňany
END:VEVENT
BEGIN:VEVENT
UID:66653235-3237-4266-b630-663431333136
DTSTAMP:20260422T182915Z
DESCRIPTION:2/6 TJ Tesla Pardubice - Orel Letohrad 3:0 (14\,16\,12)
DTSTART;TZID=Europe/Berlin:20250906T130000
DTEND;TZID=Europe/Berlin:20250906T150000
LOCATION:Střední odborné učiliště plynárenské\, Poděbradská 93 Pardubice - 
 Polabiny
SUMMARY:PA-Z-2: TJ Tesla Pardubice-Orel Letohrad
END:VEVENT
BEGIN:VEVENT
UID:32383530-6237-4466-b033-373739663961
DTSTAMP:20260422T182915Z
DESCRIPTION:3/7 TJ Energetik Chvaletice - Orel Letohrad 3:0 (6\,6\,8)
DTSTART;TZID=Europe/Berlin:20260207T100000
DTEND;TZID=Europe/Berlin:20260207T120000
LOCATION:ZŠ Chvaletice\, Spojovací 431 Chvaletice
SUMMARY:PA-Z-2: TJ Energetik Chvaletice-Orel Letohrad
END:VEVENT
BEGIN:VEVENT
UID:31363931-3330-4062-a434-653136303638
DTSTAMP:20260422T182915Z
DESCRIPTION:3/8 SK Spartak Slatiňany - TJ Tesla Pardubice 3:1 (-23\,22\,22\
 ,15)
DTSTART;TZID=Europe/Berlin:20250913T100000
DTEND;TZID=Europe/Berlin:20250913T120000
LOCATION:SK Spartak Slatiňany\, Smetanovo nábřeží 556 Slatiňany
SUMMARY:PA-Z-2: SK Spartak Slatiňany-TJ Tesla Pardubice
END:VEVENT
BEGIN:VEVENT
UID:33613031-3062-4466-b265-633965373830
DTSTAMP:20260422T182915Z
DESCRIPTION:3/9 TJ Sokol Nasavrky - VK Holice 3:0 (15\,17\,21)
DTSTART;TZID=Europe/Berlin:20250913T100000
DTEND;TZID=Europe/Berlin:20250913T120000
LOCATION:Základní škola \, Školní 272 Nasavrky
SUMMARY:PA-Z-2: TJ Sokol Nasavrky-VK Holice
END:VEVENT
BEGIN:VEVENT
UID:32336331-6164-4464-a261-616439616262
DTSTAMP:20260422T182915Z
DESCRIPTION:4/10 TJ Energetik Chvaletice - Orel Letohrad 3:0 (15\,14\,11)
DTSTART;TZID=Europe/Berlin:20260207T130000
DTEND;TZID=Europe/Berlin:20260207T150000
LOCATION:ZŠ Chvaletice\, Spojovací 431 Chvaletice
SUMMARY:PA-Z-2: TJ Energetik Chvaletice-Orel Letohrad
END:VEVENT
BEGIN:VEVENT
UID:31306630-3165-4330-b363-373632333733
DTSTAMP:20260422T182915Z
DESCRIPTION:4/11 SK Spartak Slatiňany - TJ Tesla Pardubice 3:0 (14\,13\,20)
DTSTART;TZID=Europe/Berlin:20250913T130000
DTEND;TZID=Europe/Berlin:20250913T150000
LOCATION:SK Spartak Slatiňany\, Smetanovo nábřeží 556 Slatiňany
SUMMARY:PA-Z-2: SK Spartak Slatiňany-TJ Tesla Pardubice
END:VEVENT
BEGIN:VEVENT
UID:37346133-3265-4364-b935-646266363435
DTSTAMP:20260422T182915Z
DESCRIPTION:4/12 TJ Sokol Nasavrky - VK Holice 3:0 (18\,19\,19)
DTSTART;TZID=Europe/Berlin:20250913T130000
DTEND;TZID=Europe/Berlin:20250913T150000
LOCATION:Základní škola \, Školní 272 Nasavrky
SUMMARY:PA-Z-2: TJ Sokol Nasavrky-VK Holice
END:VEVENT
BEGIN:VEVENT
UID:39646138-3933-4962-b463-653363383066
DTSTAMP:20260422T182915Z
DESCRIPTION:5/13 VK Holice - TJ Energetik Chvaletice 0:3 (-11\,-14\,-19)
DTSTART;TZID=Europe/Berlin:20250920T100000
DTEND;TZID=Europe/Berlin:20250920T120000
LOCATION:Sportovní hala\, Holubova 1037 Holice
SUMMARY:PA-Z-2: VK Holice-TJ Energetik Chvaletice
END:VEVENT
BEGIN:VEVENT
UID:61623734-3263-4133-b261-656535636230
DTSTAMP:20260422T182915Z
DESCRIPTION:5/14 TJ Sokol Nasavrky - TJ Tesla Pardubice 3:1 (21\,14\,-25\,1
 4)
DTSTART;TZID=Europe/Berlin:20250920T100000
DTEND;TZID=Europe/Berlin:20250920T120000
LOCATION:Základní škola \, Školní 272 Nasavrky
SUMMARY:PA-Z-2: TJ Sokol Nasavrky-TJ Tesla Pardubice
END:VEVENT
BEGIN:VEVENT
UID:62326130-3038-4261-b964-323762363834
DTSTAMP:20260422T182915Z
DESCRIPTION:5/15 SK Spartak Slatiňany - Orel Letohrad 2:3 (17\,24\,-20\,-21
 \,-8)
DTSTART;TZID=Europe/Berlin:20250920T100000
DTEND;TZID=Europe/Berlin:20250920T120000
LOCATION:SK Spartak Slatiňany\, Smetanovo nábřeží 556 Slatiňany
SUMMARY:PA-Z-2: SK Spartak Slatiňany-Orel Letohrad
END:VEVENT
BEGIN:VEVENT
UID:39643061-3861-4135-a366-623738616539
DTSTAMP:20260422T182915Z
DESCRIPTION:6/16 VK Holice - TJ Energetik Chvaletice 0:3 (-14\,-18\,-23)
DTSTART;TZID=Europe/Berlin:20250920T130000
DTEND;TZID=Europe/Berlin:20250920T150000
LOCATION:Sportovní hala\, Holubova 1037 Holice
SUMMARY:PA-Z-2: VK Holice-TJ Energetik Chvaletice
END:VEVENT
BEGIN:VEVENT
UID:33383364-3435-4636-b935-613863306263
DTSTAMP:20260422T182915Z
DESCRIPTION:6/17 TJ Sokol Nasavrky - TJ Tesla Pardubice 3:2 (20\,-15\,23\,-
 17\,13)
DTSTART;TZID=Europe/Berlin:20250920T130000
DTEND;TZID=Europe/Berlin:20250920T150000
LOCATION:Základní škola \, Školní 272 Nasavrky
SUMMARY:PA-Z-2: TJ Sokol Nasavrky-TJ Tesla Pardubice
END:VEVENT
BEGIN:VEVENT
UID:35333435-6461-4634-b662-303564363536
DTSTAMP:20260422T182915Z
DESCRIPTION:6/18 SK Spartak Slatiňany - Orel Letohrad 3:1 (-22\,12\,10\,15)
DTSTART;TZID=Europe/Berlin:20250920T130000
DTEND;TZID=Europe/Berlin:20250920T150000
LOCATION:SK Spartak Slatiňany\, Smetanovo nábřeží 556 Slatiňany
SUMMARY:PA-Z-2: SK Spartak Slatiňany-Orel Letohrad
END:VEVENT
BEGIN:VEVENT
UID:34333334-6438-4566-b262-316435643961
DTSTAMP:20260422T182916Z
DESCRIPTION:7/19 TJ Energetik Chvaletice - SK Spartak Slatiňany 3:2 (20\,15
 \,-15\,-21\,12)
DTSTART;TZID=Europe/Berlin:20250927T100000
DTEND;TZID=Europe/Berlin:20250927T120000
LOCATION:ZŠ Chvaletice\, Spojovací 431 Chvaletice
SUMMARY:PA-Z-2: TJ Energetik Chvaletice-SK Spartak Slatiňany
END:VEVENT
BEGIN:VEVENT
UID:66353139-6131-4331-b230-616461306633
DTSTAMP:20260422T182916Z
DESCRIPTION:7/20 TJ Sokol Nasavrky - Orel Letohrad 3:0 (12\,10\,9)
DTSTART;TZID=Europe/Berlin:20250927T100000
DTEND;TZID=Europe/Berlin:20250927T120000
LOCATION:Základní škola \, Školní 272 Nasavrky
SUMMARY:PA-Z-2: TJ Sokol Nasavrky-Orel Letohrad
END:VEVENT
BEGIN:VEVENT
UID:31643265-3361-4464-a463-313962663036
DTSTAMP:20260422T182916Z
DESCRIPTION:7/21 VK Holice - TJ Tesla Pardubice 0:3 (-21\,-18\,-11)
DTSTART;TZID=Europe/Berlin:20251005T100000
DTEND;TZID=Europe/Berlin:20251005T120000
LOCATION:Sportovní hala\, Holubova 1037 Holice
SUMMARY:PA-Z-2: VK Holice-TJ Tesla Pardubice
END:VEVENT
BEGIN:VEVENT
UID:65303763-6331-4162-a264-616332343136
DTSTAMP:20260422T182916Z
DESCRIPTION:8/22 TJ Energetik Chvaletice - SK Spartak Slatiňany 3:2 (12\,23
 \,-22\,-22\,10)
DTSTART;TZID=Europe/Berlin:20250927T130000
DTEND;TZID=Europe/Berlin:20250927T150000
LOCATION:ZŠ Chvaletice\, Spojovací 431 Chvaletice
SUMMARY:PA-Z-2: TJ Energetik Chvaletice-SK Spartak Slatiňany
END:VEVENT
BEGIN:VEVENT
UID:64643733-6665-4363-a336-373363633261
DTSTAMP:20260422T182916Z
DESCRIPTION:8/23 TJ Sokol Nasavrky - Orel Letohrad 3:0 (9\,12\,15)
DTSTART;TZID=Europe/Berlin:20250927T130000
DTEND;TZID=Europe/Berlin:20250927T150000
LOCATION:Základní škola \, Školní 272 Nasavrky
SUMMARY:PA-Z-2: TJ Sokol Nasavrky-Orel Letohrad
END:VEVENT
BEGIN:VEVENT
UID:62643164-6565-4939-b038-373966333066
DTSTAMP:20260422T182916Z
DESCRIPTION:8/24 VK Holice - TJ Tesla Pardubice 1:3 (20\,-14\,-18\,-16)
DTSTART;TZID=Europe/Berlin:20251005T130000
DTEND;TZID=Europe/Berlin:20251005T150000
LOCATION:Sportovní hala\, Holubova 1037 Holice
SUMMARY:PA-Z-2: VK Holice-TJ Tesla Pardubice
END:VEVENT
BEGIN:VEVENT
UID:36616164-3338-4338-b639-396261343335
DTSTAMP:20260422T182916Z
DESCRIPTION:9/25 TJ Tesla Pardubice - TJ Energetik Chvaletice 0:3 (-20\,-21
 \,-21)
DTSTART;TZID=Europe/Berlin:20251004T100000
DTEND;TZID=Europe/Berlin:20251004T120000
LOCATION:Střední odborné učiliště plynárenské\, Poděbradská 93 Pardubice - 
 Polabiny
SUMMARY:PA-Z-2: TJ Tesla Pardubice-TJ Energetik Chvaletice
END:VEVENT
BEGIN:VEVENT
UID:37643933-3136-4862-b134-656137326138
DTSTAMP:20260422T182916Z
DESCRIPTION:9/26 Orel Letohrad - VK Holice 0:3 (-15\,-13\,-17)
DTSTART;TZID=Europe/Berlin:20251004T100000
DTEND;TZID=Europe/Berlin:20251004T120000
LOCATION:ZŠ U Dvora\, U Dvora 745 Letohrad
SUMMARY:PA-Z-2: Orel Letohrad-VK Holice
END:VEVENT
BEGIN:VEVENT
UID:32356538-6532-4533-b532-616266336337
DTSTAMP:20260422T182916Z
DESCRIPTION:9/27 SK Spartak Slatiňany - TJ Sokol Nasavrky 0:3 (-10\,-17\,-2
 2)
DTSTART;TZID=Europe/Berlin:20251004T100000
DTEND;TZID=Europe/Berlin:20251004T120000
LOCATION:SK Spartak Slatiňany\, Smetanovo nábřeží 556 Slatiňany
SUMMARY:PA-Z-2: SK Spartak Slatiňany-TJ Sokol Nasavrky
END:VEVENT
BEGIN:VEVENT
UID:64643931-6636-4034-b062-663764356361
DTSTAMP:20260422T182916Z
DESCRIPTION:10/28 TJ Tesla Pardubice - TJ Energetik Chvaletice 0:3 (-22\,-1
 5\,-27)
DTSTART;TZID=Europe/Berlin:20251004T130000
DTEND;TZID=Europe/Berlin:20251004T150000
LOCATION:Střední odborné učiliště plynárenské\, Poděbradská 93 Pardubice - 
 Polabiny
SUMMARY:PA-Z-2: TJ Tesla Pardubice-TJ Energetik Chvaletice
END:VEVENT
BEGIN:VEVENT
UID:34396436-6335-4466-b664-336665313763
DTSTAMP:20260422T182916Z
DESCRIPTION:10/29 Orel Letohrad - VK Holice 0:3 (-16\,-17\,-21)
DTSTART;TZID=Europe/Berlin:20251004T130000
DTEND;TZID=Europe/Berlin:20251004T150000
LOCATION:ZŠ U Dvora\, U Dvora 745 Letohrad
SUMMARY:PA-Z-2: Orel Letohrad-VK Holice
END:VEVENT
BEGIN:VEVENT
UID:38373630-3230-4432-a435-313263313835
DTSTAMP:20260422T182916Z
DESCRIPTION:10/30 SK Spartak Slatiňany - TJ Sokol Nasavrky 1:3 (32\,-23\,-1
 6\,-21)
DTSTART;TZID=Europe/Berlin:20251004T130000
DTEND;TZID=Europe/Berlin:20251004T150000
LOCATION:SK Spartak Slatiňany\, Smetanovo nábřeží 556 Slatiňany
SUMMARY:PA-Z-2: SK Spartak Slatiňany-TJ Sokol Nasavrky
END:VEVENT
BEGIN:VEVENT
UID:63316135-3664-4434-a662-663638646464
DTSTAMP:20260422T182916Z
DESCRIPTION:11/31 TJ Energetik Chvaletice - TJ Sokol NasavrkyStehlík Petr
DTSTART;TZID=Europe/Berlin:20260502T100000
DTEND;TZID=Europe/Berlin:20260502T120000
LOCATION:ZŠ Chvaletice\, Spojovací 431 Chvaletice
SUMMARY:PA-Z-2: TJ Energetik Chvaletice-TJ Sokol Nasavrky
END:VEVENT
BEGIN:VEVENT
UID:30633866-6637-4430-b666-393430616536
DTSTAMP:20260422T182916Z
DESCRIPTION:11/32 SK Spartak Slatiňany - VK HoliceSobotka Vojtěch
DTSTART;TZID=Europe/Berlin:20260502T100000
DTEND;TZID=Europe/Berlin:20260502T120000
LOCATION:SK Spartak Slatiňany\, Smetanovo nábřeží 556 Slatiňany
SUMMARY:PA-Z-2: SK Spartak Slatiňany-VK Holice
END:VEVENT
BEGIN:VEVENT
UID:61613535-6665-4236-b033-303963366262
DTSTAMP:20260422T182916Z
DESCRIPTION:11/33 Orel Letohrad - TJ Tesla PardubiceHrdina Jiří
DTSTART;TZID=Europe/Berlin:20260502T100000
DTEND;TZID=Europe/Berlin:20260502T120000
LOCATION:ZŠ U Dvora\, U Dvora 745 Letohrad
SUMMARY:PA-Z-2: Orel Letohrad-TJ Tesla Pardubice
END:VEVENT
BEGIN:VEVENT
UID:63613933-3833-4732-a365-306466383762
DTSTAMP:20260422T182916Z
DESCRIPTION:12/34 TJ Energetik Chvaletice - TJ Sokol NasavrkyStehlík Petr
DTSTART;TZID=Europe/Berlin:20260502T130000
DTEND;TZID=Europe/Berlin:20260502T150000
LOCATION:ZŠ Chvaletice\, Spojovací 431 Chvaletice
SUMMARY:PA-Z-2: TJ Energetik Chvaletice-TJ Sokol Nasavrky
END:VEVENT
BEGIN:VEVENT
UID:33353561-3262-4666-b334-396362663037
DTSTAMP:20260422T182916Z
DESCRIPTION:12/35 SK Spartak Slatiňany - VK HoliceSobotka Vojtěch
DTSTART;TZID=Europe/Berlin:20260502T130000
DTEND;TZID=Europe/Berlin:20260502T150000
LOCATION:SK Spartak Slatiňany\, Smetanovo nábřeží 556 Slatiňany
SUMMARY:PA-Z-2: SK Spartak Slatiňany-VK Holice
END:VEVENT
BEGIN:VEVENT
UID:33653964-3261-4539-a264-666333393831
DTSTAMP:20260422T182916Z
DESCRIPTION:12/36 Orel Letohrad - TJ Tesla PardubiceHrdina Jiří
DTSTART;TZID=Europe/Berlin:20260502T130000
DTEND;TZID=Europe/Berlin:20260502T150000
LOCATION:ZŠ U Dvora\, U Dvora 745 Letohrad
SUMMARY:PA-Z-2: Orel Letohrad-TJ Tesla Pardubice
END:VEVENT
BEGIN:VEVENT
UID:36333630-3639-4663-a331-666137343561
DTSTAMP:20260422T182916Z
DESCRIPTION:13/37 Orel Letohrad - TJ Energetik ChvaleticeKlár Vladimír
DTSTART;TZID=Europe/Berlin:20260509T100000
DTEND;TZID=Europe/Berlin:20260509T120000
LOCATION:ZŠ U Dvora\, U Dvora 745 Letohrad
SUMMARY:PA-Z-2: Orel Letohrad-TJ Energetik Chvaletice
END:VEVENT
BEGIN:VEVENT
UID:66396431-3330-4431-a539-343933663839
DTSTAMP:20260422T182916Z
DESCRIPTION:13/38 TJ Tesla Pardubice - SK Spartak SlatiňanySlezák Václav
DTSTART;TZID=Europe/Berlin:20260425T100000
DTEND;TZID=Europe/Berlin:20260425T120000
LOCATION:Střední odborné učiliště plynárenské\, Poděbradská 93 Pardubice - 
 Polabiny
SUMMARY:PA-Z-2: TJ Tesla Pardubice-SK Spartak Slatiňany
END:VEVENT
BEGIN:VEVENT
UID:66326165-3535-4566-b930-633661653130
DTSTAMP:20260422T182916Z
DESCRIPTION:13/39 VK Holice - TJ Sokol NasavrkyŠámal Ladislav
DTSTART;TZID=Europe/Berlin:20260509T100000
DTEND;TZID=Europe/Berlin:20260509T120000
LOCATION:Sportovní hala\, Holubova 1037 Holice
SUMMARY:PA-Z-2: VK Holice-TJ Sokol Nasavrky
END:VEVENT
BEGIN:VEVENT
UID:37633837-6462-4964-b036-353731373237
DTSTAMP:20260422T182916Z
DESCRIPTION:14/40 Orel Letohrad - TJ Energetik ChvaleticeKlár Vladimír
DTSTART;TZID=Europe/Berlin:20260509T130000
DTEND;TZID=Europe/Berlin:20260509T150000
LOCATION:ZŠ U Dvora\, U Dvora 745 Letohrad
SUMMARY:PA-Z-2: Orel Letohrad-TJ Energetik Chvaletice
END:VEVENT
BEGIN:VEVENT
UID:37613563-3739-4765-b033-313632666664
DTSTAMP:20260422T182916Z
DESCRIPTION:14/41 TJ Tesla Pardubice - SK Spartak SlatiňanySlezák Václav
DTSTART;TZID=Europe/Berlin:20260425T130000
DTEND;TZID=Europe/Berlin:20260425T150000
LOCATION:Střední odborné učiliště plynárenské\, Poděbradská 93 Pardubice - 
 Polabiny
SUMMARY:PA-Z-2: TJ Tesla Pardubice-SK Spartak Slatiňany
END:VEVENT
BEGIN:VEVENT
UID:63343332-3730-4664-b631-366631353134
DTSTAMP:20260422T182916Z
DESCRIPTION:14/42 VK Holice - TJ Sokol NasavrkyŠámal Ladislav
DTSTART;TZID=Europe/Berlin:20260509T130000
DTEND;TZID=Europe/Berlin:20260509T150000
LOCATION:Sportovní hala\, Holubova 1037 Holice
SUMMARY:PA-Z-2: VK Holice-TJ Sokol Nasavrky
END:VEVENT
BEGIN:VEVENT
UID:39646431-6662-4137-a663-323033633932
DTSTAMP:20260422T182916Z
DESCRIPTION:15/43 TJ Energetik Chvaletice - VK HoliceStehlík Petr
DTSTART;TZID=Europe/Berlin:20260516T100000
DTEND;TZID=Europe/Berlin:20260516T120000
LOCATION:ZŠ Chvaletice\, Spojovací 431 Chvaletice
SUMMARY:PA-Z-2: TJ Energetik Chvaletice-VK Holice
END:VEVENT
BEGIN:VEVENT
UID:35333634-3232-4639-b137-303464373133
DTSTAMP:20260422T182916Z
DESCRIPTION:15/44 TJ Tesla Pardubice - TJ Sokol NasavrkySobotka Vojtěch
DTSTART;TZID=Europe/Berlin:20260516T100000
DTEND;TZID=Europe/Berlin:20260516T120000
LOCATION:Střední odborné učiliště plynárenské\, Poděbradská 93 Pardubice - 
 Polabiny
SUMMARY:PA-Z-2: TJ Tesla Pardubice-TJ Sokol Nasavrky
END:VEVENT
BEGIN:VEVENT
UID:38376131-3464-4561-b866-383336633938
DTSTAMP:20260422T182916Z
DESCRIPTION:15/45 Orel Letohrad - SK Spartak SlatiňanyMikyska Kamil
DTSTART;TZID=Europe/Berlin:20260516T100000
DTEND;TZID=Europe/Berlin:20260516T120000
LOCATION:ZŠ U Dvora\, U Dvora 745 Letohrad
SUMMARY:PA-Z-2: Orel Letohrad-SK Spartak Slatiňany
END:VEVENT
BEGIN:VEVENT
UID:38316239-6438-4330-b638-386162306135
DTSTAMP:20260422T182916Z
DESCRIPTION:16/46 TJ Energetik Chvaletice - VK HoliceStehlík Petr
DTSTART;TZID=Europe/Berlin:20260516T130000
DTEND;TZID=Europe/Berlin:20260516T150000
LOCATION:ZŠ Chvaletice\, Spojovací 431 Chvaletice
SUMMARY:PA-Z-2: TJ Energetik Chvaletice-VK Holice
END:VEVENT
BEGIN:VEVENT
UID:36356365-3062-4466-b230-393365333137
DTSTAMP:20260422T182916Z
DESCRIPTION:16/47 TJ Tesla Pardubice - TJ Sokol NasavrkySobotka Vojtěch
DTSTART;TZID=Europe/Berlin:20260516T130000
DTEND;TZID=Europe/Berlin:20260516T150000
LOCATION:Střední odborné učiliště plynárenské\, Poděbradská 93 Pardubice - 
 Polabiny
SUMMARY:PA-Z-2: TJ Tesla Pardubice-TJ Sokol Nasavrky
END:VEVENT
BEGIN:VEVENT
UID:32306335-6136-4361-b230-633261376236
DTSTAMP:20260422T182916Z
DESCRIPTION:16/48 Orel Letohrad - SK Spartak SlatiňanyMikyska Kamil
DTSTART;TZID=Europe/Berlin:20260516T130000
DTEND;TZID=Europe/Berlin:20260516T150000
LOCATION:ZŠ U Dvora\, U Dvora 745 Letohrad
SUMMARY:PA-Z-2: Orel Letohrad-SK Spartak Slatiňany
END:VEVENT
BEGIN:VEVENT
UID:36626338-3864-4265-b133-636534353736
DTSTAMP:20260422T182916Z
DESCRIPTION:17/49 SK Spartak Slatiňany - TJ Energetik ChvaleticeSlezák Václ
 av
DTSTART;TZID=Europe/Berlin:20260523T100000
DTEND;TZID=Europe/Berlin:20260523T120000
LOCATION:SK Spartak Slatiňany\, Smetanovo nábřeží 556 Slatiňany
SUMMARY:PA-Z-2: SK Spartak Slatiňany-TJ Energetik Chvaletice
END:VEVENT
BEGIN:VEVENT
UID:30353738-6639-4262-b261-303963353537
DTSTAMP:20260422T182916Z
DESCRIPTION:17/50 Orel Letohrad - TJ Sokol NasavrkyMikyska Kamil
DTSTART;TZID=Europe/Berlin:20260523T100000
DTEND;TZID=Europe/Berlin:20260523T120000
LOCATION:ZŠ U Dvora\, U Dvora 745 Letohrad
SUMMARY:PA-Z-2: Orel Letohrad-TJ Sokol Nasavrky
END:VEVENT
BEGIN:VEVENT
UID:33346133-6532-4636-b761-653231653036
DTSTAMP:20260422T182916Z
DESCRIPTION:17/51 TJ Tesla Pardubice - VK HoliceSobotka Vojtěch
DTSTART;TZID=Europe/Berlin:20260523T100000
DTEND;TZID=Europe/Berlin:20260523T120000
LOCATION:Střední odborné učiliště plynárenské\, Poděbradská 93 Pardubice - 
 Polabiny
SUMMARY:PA-Z-2: TJ Tesla Pardubice-VK Holice
END:VEVENT
BEGIN:VEVENT
UID:37336232-6637-4031-a531-363531336530
DTSTAMP:20260422T182916Z
DESCRIPTION:18/52 SK Spartak Slatiňany - TJ Energetik ChvaleticeSlezák Václ
 av
DTSTART;TZID=Europe/Berlin:20260523T130000
DTEND;TZID=Europe/Berlin:20260523T150000
LOCATION:SK Spartak Slatiňany\, Smetanovo nábřeží 556 Slatiňany
SUMMARY:PA-Z-2: SK Spartak Slatiňany-TJ Energetik Chvaletice
END:VEVENT
BEGIN:VEVENT
UID:30666434-3539-4663-b639-363465323863
DTSTAMP:20260422T182916Z
DESCRIPTION:18/53 Orel Letohrad - TJ Sokol NasavrkyMikyska Kamil
DTSTART;TZID=Europe/Berlin:20260523T130000
DTEND;TZID=Europe/Berlin:20260523T150000
LOCATION:ZŠ U Dvora\, U Dvora 745 Letohrad
SUMMARY:PA-Z-2: Orel Letohrad-TJ Sokol Nasavrky
END:VEVENT
BEGIN:VEVENT
UID:35303738-3832-4261-a333-313539346364
DTSTAMP:20260422T182916Z
DESCRIPTION:18/54 TJ Tesla Pardubice - VK HoliceSobotka Vojtěch
DTSTART;TZID=Europe/Berlin:20260523T130000
DTEND;TZID=Europe/Berlin:20260523T150000
LOCATION:Střední odborné učiliště plynárenské\, Poděbradská 93 Pardubice - 
 Polabiny
SUMMARY:PA-Z-2: TJ Tesla Pardubice-VK Holice
END:VEVENT
BEGIN:VEVENT
UID:38386663-6138-4562-b061-653933346239
DTSTAMP:20260422T182916Z
DESCRIPTION:19/55 TJ Energetik Chvaletice - TJ Tesla PardubiceStehlík Petr
DTSTART;TZID=Europe/Berlin:20260530T100000
DTEND;TZID=Europe/Berlin:20260530T120000
LOCATION:ZŠ Chvaletice\, Spojovací 431 Chvaletice
SUMMARY:PA-Z-2: TJ Energetik Chvaletice-TJ Tesla Pardubice
END:VEVENT
BEGIN:VEVENT
UID:35396437-3937-4261-b465-303834633132
DTSTAMP:20260422T182916Z
DESCRIPTION:19/56 VK Holice - Orel LetohradSlezák Václav
DTSTART;TZID=Europe/Berlin:20260530T100000
DTEND;TZID=Europe/Berlin:20260530T120000
LOCATION:Sportovní hala\, Holubova 1037 Holice
SUMMARY:PA-Z-2: VK Holice-Orel Letohrad
END:VEVENT
BEGIN:VEVENT
UID:30313164-3163-4636-a636-363665663037
DTSTAMP:20260422T182916Z
DESCRIPTION:19/57 TJ Sokol Nasavrky - SK Spartak SlatiňanyKvídera Milan
DTSTART;TZID=Europe/Berlin:20260530T100000
DTEND;TZID=Europe/Berlin:20260530T120000
LOCATION:Základní škola \, Školní 272 Nasavrky
SUMMARY:PA-Z-2: TJ Sokol Nasavrky-SK Spartak Slatiňany
END:VEVENT
BEGIN:VEVENT
UID:32666235-3536-4661-b235-333634303339
DTSTAMP:20260422T182916Z
DESCRIPTION:20/58 TJ Energetik Chvaletice - TJ Tesla PardubiceStehlík Petr
DTSTART;TZID=Europe/Berlin:20260530T130000
DTEND;TZID=Europe/Berlin:20260530T150000
LOCATION:ZŠ Chvaletice\, Spojovací 431 Chvaletice
SUMMARY:PA-Z-2: TJ Energetik Chvaletice-TJ Tesla Pardubice
END:VEVENT
BEGIN:VEVENT
UID:66316637-3039-4835-b432-303634343530
DTSTAMP:20260422T182916Z
DESCRIPTION:20/59 VK Holice - Orel LetohradSlezák Václav
DTSTART;TZID=Europe/Berlin:20260530T130000
DTEND;TZID=Europe/Berlin:20260530T150000
LOCATION:Sportovní hala\, Holubova 1037 Holice
SUMMARY:PA-Z-2: VK Holice-Orel Letohrad
END:VEVENT
BEGIN:VEVENT
UID:61663238-3930-4162-a634-393264393335
DTSTAMP:20260422T182916Z
DESCRIPTION:20/60 TJ Sokol Nasavrky - SK Spartak SlatiňanyKvídera Milan
DTSTART;TZID=Europe/Berlin:20260530T130000
DTEND;TZID=Europe/Berlin:20260530T150000
LOCATION:Základní škola \, Školní 272 Nasavrky
SUMMARY:PA-Z-2: TJ Sokol Nasavrky-SK Spartak Slatiňany
END:VEVENT
END:VCALENDAR
