BEGIN:VCALENDAR
VERSION:2.0
PRODID:-//1-M-A//NONSGML kigkonsult.se iCalcreator 2.41.80//
CALSCALE:GREGORIAN
UID:32623163-6133-4938-a131-353461353665
BEGIN:VEVENT
UID:66396438-6466-4530-a565-633630313366
DTSTAMP:20260425T141924Z
DESCRIPTION:1/12001 Č. Budějovice B - Dobřichovice 0:3 (-17\,-21\,-21)
DTSTART;TZID=Europe/Berlin:20251003T190000
DTEND;TZID=Europe/Berlin:20251003T210000
LOCATION:ZŠ Oskara Nedbala České Budějovice\, O. Nedbala 882 České Budějovi
 ce - České Budějovice 2
SUMMARY:1-M-A: Č. Budějovice B-Dobřichovice
END:VEVENT
BEGIN:VEVENT
UID:33646466-3934-4033-b533-633732323239
DTSTAMP:20260425T141924Z
DESCRIPTION:1/12002 Karlovarsko B - ČZU Praha 3:1 (-24\,17\,20\,19)
DTSTART;TZID=Europe/Berlin:20251003T180000
DTEND;TZID=Europe/Berlin:20251003T200000
LOCATION:Mattoni Arena Hala míčových sportů\, Západní 1812 Karlovy Vary
SUMMARY:1-M-A: Karlovarsko B-ČZU Praha
END:VEVENT
BEGIN:VEVENT
UID:30303630-6638-4236-a363-366235343330
DTSTAMP:20260425T141924Z
DESCRIPTION:1/12003 Lvi Praha B - Kolín 0:3 (-16\,-27\,-15)
DTSTART;TZID=Europe/Berlin:20251003T190000
DTEND;TZID=Europe/Berlin:20251003T210000
LOCATION:Sportovní hala Lužiny\, Bellušova 1877 Praha - Stodůlky
SUMMARY:1-M-A: Lvi Praha B-Kolín
END:VEVENT
BEGIN:VEVENT
UID:38626338-3636-4834-b133-326231303165
DTSTAMP:20260425T141924Z
DESCRIPTION:2/12006 Kolín - MFF UK Praha 1:3 (-12\,28\,-25\,-17)
DTSTART;TZID=Europe/Berlin:20251004T170000
DTEND;TZID=Europe/Berlin:20251004T190000
LOCATION:Sportovní hala Borky\, Brankovická 1216 Kolín - Kolín V
SUMMARY:1-M-A: Kolín-MFF UK Praha
END:VEVENT
BEGIN:VEVENT
UID:39346536-6339-4931-a231-653433646263
DTSTAMP:20260425T141924Z
DESCRIPTION:2/12007 ČZU Praha - Lvi Praha B 0:3 (-23\,-22\,-25)
DTSTART;TZID=Europe/Berlin:20251004T150000
DTEND;TZID=Europe/Berlin:20251004T170000
LOCATION:Sportcentrum Suchdol ČZU\, Sídlištní 1167 Praha - Suchdol
SUMMARY:1-M-A: ČZU Praha-Lvi Praha B
END:VEVENT
BEGIN:VEVENT
UID:37306665-6662-4337-a237-343566613437
DTSTAMP:20260425T141924Z
DESCRIPTION:2/12008 Č. Budějovice B - Karlovarsko B 0:3 (-19\,-22\,-25)
DTSTART;TZID=Europe/Berlin:20251004T130000
DTEND;TZID=Europe/Berlin:20251004T150000
LOCATION:ZŠ Oskara Nedbala České Budějovice\, O. Nedbala 882 České Budějovi
 ce - České Budějovice 2
SUMMARY:1-M-A: Č. Budějovice B-Karlovarsko B
END:VEVENT
BEGIN:VEVENT
UID:31343632-3465-4162-b232-393665636334
DTSTAMP:20260425T141924Z
DESCRIPTION:3/12009 Karlovarsko B - Dobřichovice 2:3 (20\,-18\,22\,-27\,-5)
DTSTART;TZID=Europe/Berlin:20251010T180000
DTEND;TZID=Europe/Berlin:20251010T200000
LOCATION:Mattoni Arena Hala míčových sportů\, Západní 1812 Karlovy Vary
SUMMARY:1-M-A: Karlovarsko B-Dobřichovice
END:VEVENT
BEGIN:VEVENT
UID:35383966-6531-4331-b936-616138656266
DTSTAMP:20260425T141924Z
DESCRIPTION:3/12010 Lvi Praha B - Č. Budějovice B 1:3 (-18\,26\,-27\,-21)
DTSTART;TZID=Europe/Berlin:20251010T190000
DTEND;TZID=Europe/Berlin:20251010T210000
LOCATION:Sportovní hala Lužiny\, Bellušova 1877 Praha - Stodůlky
SUMMARY:1-M-A: Lvi Praha B-Č. Budějovice B
END:VEVENT
BEGIN:VEVENT
UID:32383764-6663-4131-b233-643434633230
DTSTAMP:20260425T141924Z
DESCRIPTION:3/12011 MFF UK Praha - ČZU Praha 3:1 (21\,-11\,24\,16)
DTSTART;TZID=Europe/Berlin:20251010T190000
DTEND;TZID=Europe/Berlin:20251010T210000
LOCATION:Sportovní centrum UK\, Bruslařská 1132 Praha - Hostivař
SUMMARY:1-M-A: MFF UK Praha-ČZU Praha
END:VEVENT
BEGIN:VEVENT
UID:31633536-3332-4030-a630-333663303330
DTSTAMP:20260425T141924Z
DESCRIPTION:4/12013 Dobřichovice - Kolín 3:1 (18\,22\,-23\,21)
DTSTART;TZID=Europe/Berlin:20251007T190000
DTEND;TZID=Europe/Berlin:20251007T210000
LOCATION:BIOS\, Pražská 375 Dobřichovice
SUMMARY:1-M-A: Dobřichovice-Kolín
END:VEVENT
BEGIN:VEVENT
UID:38656362-3631-4631-a233-313936393061
DTSTAMP:20260425T141924Z
DESCRIPTION:4/12015 Č. Budějovice B - MFF UK Praha 1:3 (-23\,23\,-29\,-21)
DTSTART;TZID=Europe/Berlin:20251017T190000
DTEND;TZID=Europe/Berlin:20251017T210000
LOCATION:ZŠ Oskara Nedbala České Budějovice\, O. Nedbala 882 České Budějovi
 ce - České Budějovice 2
SUMMARY:1-M-A: Č. Budějovice B-MFF UK Praha
END:VEVENT
BEGIN:VEVENT
UID:36313463-3938-4331-b037-663230366236
DTSTAMP:20260425T141924Z
DESCRIPTION:4/12016 Karlovarsko B - Lvi Praha B 3:2 (23\,-22\,22\,-25\,16)
DTSTART;TZID=Europe/Berlin:20251017T180000
DTEND;TZID=Europe/Berlin:20251017T200000
LOCATION:Mattoni Arena Hala míčových sportů\, Západní 1812 Karlovy Vary
SUMMARY:1-M-A: Karlovarsko B-Lvi Praha B
END:VEVENT
BEGIN:VEVENT
UID:30393964-3537-4361-a262-636364353438
DTSTAMP:20260425T141924Z
DESCRIPTION:5/12017 Lvi Praha B - Dobřichovice 0:3 (-21\,-22\,-20)
DTSTART;TZID=Europe/Berlin:20251018T170000
DTEND;TZID=Europe/Berlin:20251018T190000
LOCATION:Sportovní hala Lužiny\, Bellušova 1877 Praha - Stodůlky
SUMMARY:1-M-A: Lvi Praha B-Dobřichovice
END:VEVENT
BEGIN:VEVENT
UID:38626366-6464-4233-b037-363533343237
DTSTAMP:20260425T141924Z
DESCRIPTION:5/12018 MFF UK Praha - Karlovarsko B 3:2 (-24\,21\,-16\,24\,8)
DTSTART;TZID=Europe/Berlin:20251018T180000
DTEND;TZID=Europe/Berlin:20251018T200000
LOCATION:Sportovní centrum UK\, Bruslařská 1132 Praha - Hostivař
SUMMARY:1-M-A: MFF UK Praha-Karlovarsko B
END:VEVENT
BEGIN:VEVENT
UID:33383733-3333-4464-b164-323436343766
DTSTAMP:20260425T141924Z
DESCRIPTION:5/12020 Kolín - ČZU Praha 1:3 (16\,-21\,-21\,-24)
DTSTART;TZID=Europe/Berlin:20251018T170000
DTEND;TZID=Europe/Berlin:20251018T190000
LOCATION:Sportovní hala Borky\, Brankovická 1216 Kolín - Kolín V
SUMMARY:1-M-A: Kolín-ČZU Praha
END:VEVENT
BEGIN:VEVENT
UID:65353264-3637-4462-b633-303632633261
DTSTAMP:20260425T141924Z
DESCRIPTION:6/12021 Dobřichovice - ČZU Praha 3:0 (20\,23\,19)
DTSTART;TZID=Europe/Berlin:20251125T193000
DTEND;TZID=Europe/Berlin:20251125T213000
LOCATION:BIOS\, Pražská 375 Dobřichovice
SUMMARY:1-M-A: Dobřichovice-ČZU Praha
END:VEVENT
BEGIN:VEVENT
UID:34386665-6332-4533-a463-613138366133
DTSTAMP:20260425T141924Z
DESCRIPTION:6/12022 Č. Budějovice B - Kolín 3:1 (25\,22\,-20\,24)
DTSTART;TZID=Europe/Berlin:20251024T190000
DTEND;TZID=Europe/Berlin:20251024T210000
LOCATION:ZŠ Oskara Nedbala České Budějovice\, O. Nedbala 882 České Budějovi
 ce - České Budějovice 2
SUMMARY:1-M-A: Č. Budějovice B-Kolín
END:VEVENT
BEGIN:VEVENT
UID:63316164-3539-4564-a561-613539623331
DTSTAMP:20260425T141924Z
DESCRIPTION:6/12024 Lvi Praha B - MFF UK Praha 1:3 (17\,-20\,-20\,-19)
DTSTART;TZID=Europe/Berlin:20251024T190000
DTEND;TZID=Europe/Berlin:20251024T210000
LOCATION:Sportovní hala Lužiny\, Bellušova 1877 Praha - Stodůlky
SUMMARY:1-M-A: Lvi Praha B-MFF UK Praha
END:VEVENT
BEGIN:VEVENT
UID:62383233-3164-4139-b230-636435343230
DTSTAMP:20260425T141924Z
DESCRIPTION:7/12025 MFF UK Praha - Dobřichovice 2:3 (-21\,-10\,20\,22\,-12)
DTSTART;TZID=Europe/Berlin:20251031T190000
DTEND;TZID=Europe/Berlin:20251031T210000
LOCATION:Sportovní centrum UK\, Bruslařská 1132 Praha - Hostivař
SUMMARY:1-M-A: MFF UK Praha-Dobřichovice
END:VEVENT
BEGIN:VEVENT
UID:63366133-6635-4632-b037-653531323861
DTSTAMP:20260425T141924Z
DESCRIPTION:7/12027 Kolín - Karlovarsko B 2:3 (-19\,18\,19\,-33\,-14)
DTSTART;TZID=Europe/Berlin:20251031T180000
DTEND;TZID=Europe/Berlin:20251031T200000
LOCATION:Sportovní hala Borky\, Brankovická 1216 Kolín - Kolín V
SUMMARY:1-M-A: Kolín-Karlovarsko B
END:VEVENT
BEGIN:VEVENT
UID:65303565-3834-4465-a662-663837643937
DTSTAMP:20260425T141924Z
DESCRIPTION:7/12028 ČZU Praha - Č. Budějovice B 3:1 (-24\,17\,23\,16)
DTSTART;TZID=Europe/Berlin:20251031T190000
DTEND;TZID=Europe/Berlin:20251031T210000
LOCATION:Sportcentrum Suchdol ČZU\, Sídlištní 1167 Praha - Suchdol
SUMMARY:1-M-A: ČZU Praha-Č. Budějovice B
END:VEVENT
BEGIN:VEVENT
UID:37316432-3632-4335-b039-636434653533
DTSTAMP:20260425T141924Z
DESCRIPTION:8/12029 Dobřichovice - Č. Budějovice B 1:3 (-22\,11\,-15\,-19)
DTSTART;TZID=Europe/Berlin:20251107T183000
DTEND;TZID=Europe/Berlin:20251107T203000
LOCATION:BIOS\, Pražská 375 Dobřichovice
SUMMARY:1-M-A: Dobřichovice-Č. Budějovice B
END:VEVENT
BEGIN:VEVENT
UID:66303338-3631-4163-b135-363466356130
DTSTAMP:20260425T141924Z
DESCRIPTION:8/12030 ČZU Praha - Karlovarsko B 3:2 (20\,-24\,-23\,28\,11)
DTSTART;TZID=Europe/Berlin:20251107T190000
DTEND;TZID=Europe/Berlin:20251107T210000
LOCATION:Sportcentrum Suchdol ČZU\, Sídlištní 1167 Praha - Suchdol
SUMMARY:1-M-A: ČZU Praha-Karlovarsko B
END:VEVENT
BEGIN:VEVENT
UID:66343736-6138-4863-b734-356231613563
DTSTAMP:20260425T141924Z
DESCRIPTION:8/12031 Kolín - Lvi Praha B 1:3 (26\,-26\,-30\,-22)
DTSTART;TZID=Europe/Berlin:20251107T180000
DTEND;TZID=Europe/Berlin:20251107T200000
LOCATION:Sportovní hala Borky\, Brankovická 1216 Kolín - Kolín V
SUMMARY:1-M-A: Kolín-Lvi Praha B
END:VEVENT
BEGIN:VEVENT
UID:30376432-3130-4638-b936-376233616636
DTSTAMP:20260425T141924Z
DESCRIPTION:9/12034 MFF UK Praha - Kolín 1:3 (-25\,15\,-21\,-18)
DTSTART;TZID=Europe/Berlin:20251119T200000
DTEND;TZID=Europe/Berlin:20251119T220000
LOCATION:Sportovní centrum UK\, Bruslařská 1132 Praha - Hostivař
SUMMARY:1-M-A: MFF UK Praha-Kolín
END:VEVENT
BEGIN:VEVENT
UID:63633435-6364-4433-a634-363664616231
DTSTAMP:20260425T141924Z
DESCRIPTION:9/12035 Lvi Praha B - ČZU Praha 3:1 (-23\,15\,20\,19)
DTSTART;TZID=Europe/Berlin:20251201T181500
DTEND;TZID=Europe/Berlin:20251201T201500
LOCATION:Sportovní hala Lužiny\, Bellušova 1877 Praha - Stodůlky
SUMMARY:1-M-A: Lvi Praha B-ČZU Praha
END:VEVENT
BEGIN:VEVENT
UID:31333238-6632-4662-b566-623832663736
DTSTAMP:20260425T141924Z
DESCRIPTION:9/12036 Karlovarsko B - Č. Budějovice B 3:0 (19\,16\,20)
DTSTART;TZID=Europe/Berlin:20251114T180000
DTEND;TZID=Europe/Berlin:20251114T200000
LOCATION:Mattoni Arena Hala míčových sportů\, Západní 1812 Karlovy Vary
SUMMARY:1-M-A: Karlovarsko B-Č. Budějovice B
END:VEVENT
BEGIN:VEVENT
UID:35663238-6663-4631-a165-316335363833
DTSTAMP:20260425T141924Z
DESCRIPTION:10/12037 Dobřichovice - Karlovarsko B 3:0 (21\,23\,18)
DTSTART;TZID=Europe/Berlin:20251121T183000
DTEND;TZID=Europe/Berlin:20251121T203000
LOCATION:BIOS\, Pražská 375 Dobřichovice
SUMMARY:1-M-A: Dobřichovice-Karlovarsko B
END:VEVENT
BEGIN:VEVENT
UID:62363130-3930-4734-b039-656461633934
DTSTAMP:20260425T141924Z
DESCRIPTION:10/12038 Č. Budějovice B - Lvi Praha B 3:1 (21\,-16\,16\,23)
DTSTART;TZID=Europe/Berlin:20251121T180000
DTEND;TZID=Europe/Berlin:20251121T200000
LOCATION:ZŠ Oskara Nedbala České Budějovice\, O. Nedbala 882 České Budějovi
 ce - České Budějovice 2
SUMMARY:1-M-A: Č. Budějovice B-Lvi Praha B
END:VEVENT
BEGIN:VEVENT
UID:39613537-3335-4163-a133-373763366137
DTSTAMP:20260425T141924Z
DESCRIPTION:10/12039 ČZU Praha - MFF UK Praha 3:0 (15\,21\,17)
DTSTART;TZID=Europe/Berlin:20251121T190000
DTEND;TZID=Europe/Berlin:20251121T210000
LOCATION:Sportcentrum Suchdol ČZU\, Sídlištní 1167 Praha - Suchdol
SUMMARY:1-M-A: ČZU Praha-MFF UK Praha
END:VEVENT
BEGIN:VEVENT
UID:38623233-3834-4337-a338-323230356531
DTSTAMP:20260425T141924Z
DESCRIPTION:11/12041 Kolín - Dobřichovice 3:0 (15\,19\,20)
DTSTART;TZID=Europe/Berlin:20251128T180000
DTEND;TZID=Europe/Berlin:20251128T200000
LOCATION:Sportovní hala Borky\, Brankovická 1216 Kolín - Kolín V
SUMMARY:1-M-A: Kolín-Dobřichovice
END:VEVENT
BEGIN:VEVENT
UID:66356433-3531-4734-a664-633262656666
DTSTAMP:20260425T141924Z
DESCRIPTION:11/12043 MFF UK Praha - Č. Budějovice B 2:3 (16\,23\,-23\,-24\,
 -9)
DTSTART;TZID=Europe/Berlin:20251128T190000
DTEND;TZID=Europe/Berlin:20251128T210000
LOCATION:Sportovní centrum UK\, Bruslařská 1132 Praha - Hostivař
SUMMARY:1-M-A: MFF UK Praha-Č. Budějovice B
END:VEVENT
BEGIN:VEVENT
UID:39366663-3333-4139-a230-653363386239
DTSTAMP:20260425T141924Z
DESCRIPTION:11/12044 Lvi Praha B - Karlovarsko B 3:1 (19\,23\,-24\,22)
DTSTART;TZID=Europe/Berlin:20251128T190000
DTEND;TZID=Europe/Berlin:20251128T210000
LOCATION:Sportovní hala Lužiny\, Bellušova 1877 Praha - Stodůlky
SUMMARY:1-M-A: Lvi Praha B-Karlovarsko B
END:VEVENT
BEGIN:VEVENT
UID:38383232-3530-4636-b564-626364646432
DTSTAMP:20260425T141924Z
DESCRIPTION:12/12045 Dobřichovice - Lvi Praha B 3:0 (22\,16\,16)
DTSTART;TZID=Europe/Berlin:20251205T183000
DTEND;TZID=Europe/Berlin:20251205T203000
LOCATION:BIOS\, Pražská 375 Dobřichovice
SUMMARY:1-M-A: Dobřichovice-Lvi Praha B
END:VEVENT
BEGIN:VEVENT
UID:39616535-3331-4361-b136-376635393539
DTSTAMP:20260425T141924Z
DESCRIPTION:12/12046 Karlovarsko B - MFF UK Praha 3:1 (18\,-28\,24\,20)
DTSTART;TZID=Europe/Berlin:20251205T180000
DTEND;TZID=Europe/Berlin:20251205T200000
LOCATION:Mattoni Arena Hala míčových sportů\, Západní 1812 Karlovy Vary
SUMMARY:1-M-A: Karlovarsko B-MFF UK Praha
END:VEVENT
BEGIN:VEVENT
UID:37316662-3734-4139-a338-623133343561
DTSTAMP:20260425T141924Z
DESCRIPTION:12/12048 ČZU Praha - Kolín 3:0 (20\,20\,24)
DTSTART;TZID=Europe/Berlin:20251205T190000
DTEND;TZID=Europe/Berlin:20251205T210000
LOCATION:Sportcentrum Suchdol ČZU\, Sídlištní 1167 Praha - Suchdol
SUMMARY:1-M-A: ČZU Praha-Kolín
END:VEVENT
BEGIN:VEVENT
UID:63383436-3031-4932-b731-353532623138
DTSTAMP:20260425T141924Z
DESCRIPTION:13/12049 ČZU Praha - Dobřichovice 3:1 (-23\,18\,17\,15)
DTSTART;TZID=Europe/Berlin:20251212T190000
DTEND;TZID=Europe/Berlin:20251212T210000
LOCATION:Sportcentrum Suchdol ČZU\, Sídlištní 1167 Praha - Suchdol
SUMMARY:1-M-A: ČZU Praha-Dobřichovice
END:VEVENT
BEGIN:VEVENT
UID:64336237-3364-4137-a465-396533316336
DTSTAMP:20260425T141924Z
DESCRIPTION:13/12050 Kolín - Č. Budějovice B 3:1 (18\,25\,-23\,22)
DTSTART;TZID=Europe/Berlin:20251212T180000
DTEND;TZID=Europe/Berlin:20251212T200000
LOCATION:Sportovní hala Borky\, Brankovická 1216 Kolín - Kolín V
SUMMARY:1-M-A: Kolín-Č. Budějovice B
END:VEVENT
BEGIN:VEVENT
UID:64306661-3863-4539-a636-373330653631
DTSTAMP:20260425T141924Z
DESCRIPTION:13/12052 MFF UK Praha - Lvi Praha B 2:3 (-26\,-20\,18\,20\,-14)
DTSTART;TZID=Europe/Berlin:20251212T190000
DTEND;TZID=Europe/Berlin:20251212T210000
LOCATION:Sportovní centrum UK\, Bruslařská 1132 Praha - Hostivař
SUMMARY:1-M-A: MFF UK Praha-Lvi Praha B
END:VEVENT
BEGIN:VEVENT
UID:38316163-3730-4162-a433-613638313036
DTSTAMP:20260425T141924Z
DESCRIPTION:14/12053 Dobřichovice - MFF UK Praha 3:2 (12\,22\,-23\,-27\,12)
DTSTART;TZID=Europe/Berlin:20251213T170000
DTEND;TZID=Europe/Berlin:20251213T190000
LOCATION:BIOS\, Pražská 375 Dobřichovice
SUMMARY:1-M-A: Dobřichovice-MFF UK Praha
END:VEVENT
BEGIN:VEVENT
UID:39613638-6533-4931-b665-666663313539
DTSTAMP:20260425T141924Z
DESCRIPTION:14/12055 Karlovarsko B - Kolín 3:0 (19\,18\,21)
DTSTART;TZID=Europe/Berlin:20251219T180000
DTEND;TZID=Europe/Berlin:20251219T200000
LOCATION:Mattoni Arena Hala míčových sportů\, Západní 1812 Karlovy Vary
SUMMARY:1-M-A: Karlovarsko B-Kolín
END:VEVENT
BEGIN:VEVENT
UID:62613830-3362-4566-a364-303732366534
DTSTAMP:20260425T141924Z
DESCRIPTION:14/12056 Č. Budějovice B - ČZU Praha 3:1 (22\,-25\,21\,23)
DTSTART;TZID=Europe/Berlin:20251219T190000
DTEND;TZID=Europe/Berlin:20251219T210000
LOCATION:ZŠ Oskara Nedbala České Budějovice\, O. Nedbala 882 České Budějovi
 ce - České Budějovice 2
SUMMARY:1-M-A: Č. Budějovice B-ČZU Praha
END:VEVENT
END:VCALENDAR
