BEGIN:VCALENDAR
VERSION:2.0
PRODID:-//ST-U16Z-PA//NONSGML kigkonsult.se iCalcreator 2.41.80//
CALSCALE:GREGORIAN
UID:34323938-3237-4964-a666-343263323865
BEGIN:VEVENT
UID:30646464-6335-4330-a361-386463396164
DTSTAMP:20260421T192008Z
DESCRIPTION:1/1 Nymburk - Kunice A 0:2 (-14\,-9)\nPořadatel: Volleyball Nym
 burk
DTSTART;TZID=Europe/Berlin:20250622T090000
DTEND;TZID=Europe/Berlin:20250622T110000
SUMMARY:ST-U16Z-PA: Nymburk-Kunice A
END:VEVENT
BEGIN:VEVENT
UID:66306335-3136-4136-b832-313932323739
DTSTAMP:20260421T192008Z
DESCRIPTION:1/2 Brandýs nad Labem - Zruč nad Sázavou 2:0 (7\,11)\nPořadatel
 : 2 hřiště
DTSTART;TZID=Europe/Berlin:20250622T090000
DTEND;TZID=Europe/Berlin:20250622T110000
SUMMARY:ST-U16Z-PA: Brandýs nad Labem-Zruč nad Sázavou
END:VEVENT
BEGIN:VEVENT
UID:33326262-3864-4436-b038-383838393863
DTSTAMP:20260421T192008Z
DESCRIPTION:1/5 Zruč nad Sázavou - Nymburk 0:2 (-9\,-8)
DTSTART;TZID=Europe/Berlin:20250622T090000
DTEND;TZID=Europe/Berlin:20250622T110000
SUMMARY:ST-U16Z-PA: Zruč nad Sázavou-Nymburk
END:VEVENT
BEGIN:VEVENT
UID:30323537-6237-4165-b937-316162336338
DTSTAMP:20260421T192008Z
DESCRIPTION:1/6 Brandýs nad Labem - Kunice A 1:1 (-22\,23)
DTSTART;TZID=Europe/Berlin:20250622T090000
DTEND;TZID=Europe/Berlin:20250622T110000
SUMMARY:ST-U16Z-PA: Brandýs nad Labem-Kunice A
END:VEVENT
BEGIN:VEVENT
UID:65333866-3862-4032-a230-656630666661
DTSTAMP:20260421T192008Z
DESCRIPTION:1/9 Nymburk - Brandýs nad Labem 0:2 (-15\,-23)
DTSTART;TZID=Europe/Berlin:20250622T090000
DTEND;TZID=Europe/Berlin:20250622T110000
SUMMARY:ST-U16Z-PA: Nymburk-Brandýs nad Labem
END:VEVENT
BEGIN:VEVENT
UID:35633566-3937-4833-a364-353062663534
DTSTAMP:20260421T192008Z
DESCRIPTION:1/10 Kunice A - Zruč nad Sázavou 2:0 (18\,12)
DTSTART;TZID=Europe/Berlin:20250622T090000
DTEND;TZID=Europe/Berlin:20250622T110000
SUMMARY:ST-U16Z-PA: Kunice A-Zruč nad Sázavou
END:VEVENT
END:VCALENDAR
