BEGIN:VCALENDAR
VERSION:2.0
PRODID:-//P-U14Z4//NONSGML kigkonsult.se iCalcreator 2.41.80//
CALSCALE:GREGORIAN
UID:64383734-3931-4130-b130-646234383936
BEGIN:VEVENT
UID:66616461-6635-4939-a566-316164313131
DTSTAMP:20260421T192002Z
DESCRIPTION:1/1 Klatovy A - Město Touškov\nPořadatel Klatovy\, Touškov\, Ve
 jprnice
DTSTART;TZID=Europe/Berlin:20250928T090000
DTEND;TZID=Europe/Berlin:20250928T110000
LOCATION:Sportovní hala ZŠ Čapkova\, Čapkova 136 Klatovy - Klatovy V
SUMMARY:P-U14Z4: Klatovy A-Město Touškov
END:VEVENT
BEGIN:VEVENT
UID:34313233-3837-4964-b065-653831653639
DTSTAMP:20260421T192002Z
DESCRIPTION:2/2 Rokycany B - Slavia Plzeň B\nPořadatel Rokycany\, Slavia
DTSTART;TZID=Europe/Berlin:20251102T090000
DTEND;TZID=Europe/Berlin:20251102T110000
LOCATION:Hala Gymnázia Rokycany\, Mládežníků 1115 Rokycany - Nové Město
SUMMARY:P-U14Z4: Rokycany B-Slavia Plzeň B
END:VEVENT
BEGIN:VEVENT
UID:66343634-3439-4565-b661-333762653034
DTSTAMP:20260421T192002Z
DESCRIPTION:3/3 Klatovy A - Lhota A\nPořadatel Klatovy\, Lhota\, Mirošov
DTSTART;TZID=Europe/Berlin:20251130T090000
DTEND;TZID=Europe/Berlin:20251130T110000
LOCATION:Sportovní hala ZŠ Čapkova\, Čapkova 136 Klatovy - Klatovy V
SUMMARY:P-U14Z4: Klatovy A-Lhota A
END:VEVENT
BEGIN:VEVENT
UID:31393633-6438-4137-b063-643162306263
DTSTAMP:20260421T192002Z
DESCRIPTION:4/4 Šťáhlavy A - Slavia Plzeň A\nPořadatel Šťáhlavy\, Slavia\,
DTSTART;TZID=Europe/Berlin:20260125T090000
DTEND;TZID=Europe/Berlin:20260125T110000
LOCATION:Sportovní hala Šťáhlavy\, U hřiště 525 Šťáhlavy
SUMMARY:P-U14Z4: Šťáhlavy A-Slavia Plzeň A
END:VEVENT
BEGIN:VEVENT
UID:61623833-3438-4636-a465-383637383761
DTSTAMP:20260421T192002Z
DESCRIPTION:5/5 Rokycany A - Vejprnice A\nPořadatel Rokycany\, Vejprnice\, 
 Mirošov
DTSTART;TZID=Europe/Berlin:20260315T090000
DTEND;TZID=Europe/Berlin:20260315T110000
LOCATION:Hala Gymnázia Rokycany\, Mládežníků 1115 Rokycany - Nové Město
SUMMARY:P-U14Z4: Rokycany A-Vejprnice A
END:VEVENT
BEGIN:VEVENT
UID:34343832-3930-4665-b762-613166613737
DTSTAMP:20260421T192002Z
DESCRIPTION:6/6 Loko Plzeň A - Loko Plzeň A\nPořadatel Lokomotiva
DTSTART;TZID=Europe/Berlin:20260425T090000
DTEND;TZID=Europe/Berlin:20260425T110000
LOCATION:Městská sportovní hala  -  hala 2\, Úslavská 2357 Plzeň - Východní
  Předměstí
SUMMARY:P-U14Z4: Loko Plzeň A-Loko Plzeň A
END:VEVENT
END:VCALENDAR
