BEGIN:VCALENDAR
VERSION:2.0
PRODID:-//EX-U22Z-1A//NONSGML kigkonsult.se iCalcreator 2.41.80//
CALSCALE:GREGORIAN
UID:32653261-3863-4931-b536-613737636334
BEGIN:VEVENT
UID:34333165-6138-4563-a132-323562623637
DTSTAMP:20260424T050712Z
DESCRIPTION:1/1 Olymp - Plzeň 3:0 (14\,11\,14)
DTSTART;TZID=Europe/Berlin:20250928T100000
DTEND;TZID=Europe/Berlin:20250928T120000
LOCATION:PVK Olymp Praha\, Přípotoční 300 Praha - Vršovice
SUMMARY:EX-U22Z-1A: Olymp-Plzeň
END:VEVENT
BEGIN:VEVENT
UID:65653139-6131-4162-b662-613963643833
DTSTAMP:20260424T050712Z
DESCRIPTION:1/2 Plzeň - Přerov 1:3 (-17\,6\,-23\,-22)
DTSTART;TZID=Europe/Berlin:20250928T133000
DTEND;TZID=Europe/Berlin:20250928T153000
LOCATION:PVK Olymp Praha\, Přípotoční 300 Praha - Vršovice
SUMMARY:EX-U22Z-1A: Plzeň-Přerov
END:VEVENT
BEGIN:VEVENT
UID:34656562-6134-4734-b136-313364393131
DTSTAMP:20260424T050712Z
DESCRIPTION:1/3 Přerov - Olymp 0:3 (-16\,-11\,-13)
DTSTART;TZID=Europe/Berlin:20250928T170000
DTEND;TZID=Europe/Berlin:20250928T190000
LOCATION:PVK Olymp Praha\, Přípotoční 300 Praha - Vršovice
SUMMARY:EX-U22Z-1A: Přerov-Olymp
END:VEVENT
END:VCALENDAR
