BEGIN:VCALENDAR
VERSION:2.0
PRODID:-//HK-U20Z-FB//NONSGML kigkonsult.se iCalcreator 2.41.80//
CALSCALE:GREGORIAN
UID:65636237-6462-4236-b434-656331313033
BEGIN:VEVENT
UID:38336432-6230-4561-a463-663039366537
DTSTAMP:20260425T232044Z
DESCRIPTION:1/1 Nová Paka - RÉMA Rychnov 1:2 (23\,-15\,-11)\nPOŘ: N.PAKA
DTSTART;TZID=Europe/Berlin:20260222T100000
DTEND;TZID=Europe/Berlin:20260222T120000
LOCATION:hala Masarykovy obchodní akademie\, 17. listopadu 220 Jičín - Vald
 ické Předměstí
SUMMARY:HK-U20Z-FB: Nová Paka-RÉMA Rychnov
END:VEVENT
BEGIN:VEVENT
UID:38373331-3664-4031-b437-303465333563
DTSTAMP:20260425T232044Z
DESCRIPTION:1/2 TJ Jičín - RÉMA Rychnov 3:0 (17\,18\,6)
DTSTART;TZID=Europe/Berlin:20260222T120000
DTEND;TZID=Europe/Berlin:20260222T140000
LOCATION:hala Masarykovy obchodní akademie\, 17. listopadu 220 Jičín - Vald
 ické Předměstí
SUMMARY:HK-U20Z-FB: TJ Jičín-RÉMA Rychnov
END:VEVENT
BEGIN:VEVENT
UID:31383730-3862-4136-a330-393837356130
DTSTAMP:20260425T232044Z
DESCRIPTION:1/3 Nová Paka - TJ Jičín 0:2 (-14\,-18)
DTSTART;TZID=Europe/Berlin:20260222T140000
DTEND;TZID=Europe/Berlin:20260222T160000
LOCATION:hala Masarykovy obchodní akademie\, 17. listopadu 220 Jičín - Vald
 ické Předměstí
SUMMARY:HK-U20Z-FB: Nová Paka-TJ Jičín
END:VEVENT
BEGIN:VEVENT
UID:65336663-3739-4666-a261-303130636332
DTSTAMP:20260425T232044Z
DESCRIPTION:2/4 RÉMA Rychnov - Nová Paka 3:1 (18\,22\,-30\,17)\npoř: RÉMA R
 K
DTSTART;TZID=Europe/Berlin:20260125T100000
DTEND;TZID=Europe/Berlin:20260125T120000
LOCATION:hala Masarykovy obchodní akademie\, 17. listopadu 220 Jičín - Vald
 ické Předměstí
SUMMARY:HK-U20Z-FB: RÉMA Rychnov-Nová Paka
END:VEVENT
BEGIN:VEVENT
UID:64666131-6335-4164-b331-356265653763
DTSTAMP:20260425T232044Z
DESCRIPTION:2/5 Nová Paka - TJ Jičín 1:3 (-20\,21\,-18\,-22)
DTSTART;TZID=Europe/Berlin:20260125T120000
DTEND;TZID=Europe/Berlin:20260125T140000
LOCATION:hala Masarykovy obchodní akademie\, 17. listopadu 220 Jičín - Vald
 ické Předměstí
SUMMARY:HK-U20Z-FB: Nová Paka-TJ Jičín
END:VEVENT
BEGIN:VEVENT
UID:31613064-3263-4838-a537-393530353537
DTSTAMP:20260425T232044Z
DESCRIPTION:2/6 TJ Jičín - RÉMA Rychnov 3:1 (23\,-23\,10\,20)
DTSTART;TZID=Europe/Berlin:20260125T140000
DTEND;TZID=Europe/Berlin:20260125T160000
LOCATION:hala Masarykovy obchodní akademie\, 17. listopadu 220 Jičín - Vald
 ické Předměstí
SUMMARY:HK-U20Z-FB: TJ Jičín-RÉMA Rychnov
END:VEVENT
BEGIN:VEVENT
UID:64656530-3131-4037-b637-306363646637
DTSTAMP:20260425T232044Z
DESCRIPTION:3/7 TJ Jičín - Nová Paka 2:1 (11\,-22\,8)\npoř.Jičín
DTSTART;TZID=Europe/Berlin:20260315T100000
DTEND;TZID=Europe/Berlin:20260315T120000
LOCATION:hala Masarykovy obchodní akademie\, 17. listopadu 220 Jičín - Vald
 ické Předměstí
SUMMARY:HK-U20Z-FB: TJ Jičín-Nová Paka
END:VEVENT
BEGIN:VEVENT
UID:33396436-6461-4238-b638-353065363136
DTSTAMP:20260425T232044Z
DESCRIPTION:3/8 RÉMA Rychnov - Nová Paka 2:0 (12\,20)
DTSTART;TZID=Europe/Berlin:20260315T113000
DTEND;TZID=Europe/Berlin:20260315T133000
LOCATION:hala Masarykovy obchodní akademie\, 17. listopadu 220 Jičín - Vald
 ické Předměstí
SUMMARY:HK-U20Z-FB: RÉMA Rychnov-Nová Paka
END:VEVENT
BEGIN:VEVENT
UID:63643161-3230-4361-b839-373366306339
DTSTAMP:20260425T232044Z
DESCRIPTION:3/9 TJ Jičín - RÉMA Rychnov 2:0 (13\,22)
DTSTART;TZID=Europe/Berlin:20260315T130000
DTEND;TZID=Europe/Berlin:20260315T150000
LOCATION:hala Masarykovy obchodní akademie\, 17. listopadu 220 Jičín - Vald
 ické Předměstí
SUMMARY:HK-U20Z-FB: TJ Jičín-RÉMA Rychnov
END:VEVENT
END:VCALENDAR
