BEGIN:VCALENDAR
VERSION:2.0
PRODID:-//P-U20Z-1A//NONSGML kigkonsult.se iCalcreator 2.41.80//
CALSCALE:GREGORIAN
UID:31306161-3631-4332-b336-613231346437
BEGIN:VEVENT
UID:38336562-3033-4032-a139-336430346662
DTSTAMP:20260421T175226Z
DESCRIPTION:1/1 Vejprnice B - Šťáhlavy 1:2 (24\,-12\,-13)\nPořadatel Šťáhla
 vy
DTSTART;TZID=Europe/Berlin:20250914T090000
DTEND;TZID=Europe/Berlin:20250914T110000
LOCATION:Sportovní hala Šťáhlavy\, U hřiště 525 Šťáhlavy
SUMMARY:P-U20Z-1A: Vejprnice B-Šťáhlavy
END:VEVENT
BEGIN:VEVENT
UID:64666335-3139-4134-b937-343065306133
DTSTAMP:20260421T175226Z
DESCRIPTION:2/2 Rokycany - Lhota 2:0 (19\,16)\nPořadatel Šťáhlavy
DTSTART;TZID=Europe/Berlin:20250914T100000
DTEND;TZID=Europe/Berlin:20250914T120000
LOCATION:Sportovní hala Šťáhlavy\, U hřiště 525 Šťáhlavy
SUMMARY:P-U20Z-1A: Rokycany-Lhota
END:VEVENT
BEGIN:VEVENT
UID:33303338-6238-4331-a161-613366636334
DTSTAMP:20260421T175226Z
DESCRIPTION:3/3 Šťáhlavy - Lhota 0:2 (-21\,-21)\nPořadatel Šťáhlavy
DTSTART;TZID=Europe/Berlin:20250914T110000
DTEND;TZID=Europe/Berlin:20250914T130000
LOCATION:Sportovní hala Šťáhlavy\, U hřiště 525 Šťáhlavy
SUMMARY:P-U20Z-1A: Šťáhlavy-Lhota
END:VEVENT
BEGIN:VEVENT
UID:62356437-3761-4230-a236-396133323336
DTSTAMP:20260421T175226Z
DESCRIPTION:4/4 Vejprnice B - Rokycany 0:2 (-13\,-16)\nPořadatel Šťáhlavy
DTSTART;TZID=Europe/Berlin:20250914T120000
DTEND;TZID=Europe/Berlin:20250914T140000
LOCATION:Sportovní hala Šťáhlavy\, U hřiště 525 Šťáhlavy
SUMMARY:P-U20Z-1A: Vejprnice B-Rokycany
END:VEVENT
BEGIN:VEVENT
UID:39366131-3035-4531-a633-313165363364
DTSTAMP:20260421T175226Z
DESCRIPTION:5/5 Rokycany - Šťáhlavy 2:0 (16\,22)\nPořadatel Šťáhlavy
DTSTART;TZID=Europe/Berlin:20250914T130000
DTEND;TZID=Europe/Berlin:20250914T150000
LOCATION:Sportovní hala Šťáhlavy\, U hřiště 525 Šťáhlavy
SUMMARY:P-U20Z-1A: Rokycany-Šťáhlavy
END:VEVENT
BEGIN:VEVENT
UID:33313636-3830-4630-b963-386563303466
DTSTAMP:20260421T175227Z
DESCRIPTION:6/6 Lhota - Vejprnice B 1:2 (-24\,21\,-17)\nPořadatel Šťáhlavy
DTSTART;TZID=Europe/Berlin:20250914T140000
DTEND;TZID=Europe/Berlin:20250914T160000
LOCATION:Sportovní hala Šťáhlavy\, U hřiště 525 Šťáhlavy
SUMMARY:P-U20Z-1A: Lhota-Vejprnice B
END:VEVENT
END:VCALENDAR
