BEGIN:VCALENDAR
VERSION:2.0
PRODID:-//HK-MINI-1C//NONSGML kigkonsult.se iCalcreator 2.41.80//
CALSCALE:GREGORIAN
UID:38636339-6464-4864-b634-303936373765
BEGIN:VEVENT
UID:38643261-6632-4131-a635-636336316434
DTSTAMP:20260422T202145Z
DESCRIPTION:1/1 Kvasiny - TJ Slavia HK ch B 2:0 (0\,0)\nKvasiny
DTSTART;TZID=Europe/Berlin:20250928T090000
DTEND;TZID=Europe/Berlin:20250928T110000
LOCATION:Tělocvična ZŠ Kvasiny\,  Kvasiny142
SUMMARY:HK-MINI-1C: Kvasiny-TJ Slavia HK ch B
END:VEVENT
BEGIN:VEVENT
UID:30396562-6237-4131-b537-616264373232
DTSTAMP:20260422T202145Z
DESCRIPTION:1/2 TJ Slavia HK ch A - RÉMA Rychnov nad Kněžnou A 2:1 (-22\,10
 \,6)
DTSTART;TZID=Europe/Berlin:20250928T090000
DTEND;TZID=Europe/Berlin:20250928T110000
LOCATION:TJ Slavia Hradec Králové\, Víta Nejedlého 1216 Hradec Králové
SUMMARY:HK-MINI-1C: TJ Slavia HK ch A-RÉMA Rychnov nad Kněžnou A
END:VEVENT
BEGIN:VEVENT
UID:65323565-3235-4438-b638-316665326561
DTSTAMP:20260422T202145Z
DESCRIPTION:2/3 Chlumec nad Cidlinou A - Jičín 2:0 (11\,7)
DTSTART;TZID=Europe/Berlin:20250928T094500
DTEND;TZID=Europe/Berlin:20250928T114500
LOCATION:Slavíčkova hala\, Sokolská 795 Chlumec nad Cidlinou - Chlumec nad 
 Cidlinou IV
SUMMARY:HK-MINI-1C: Chlumec nad Cidlinou A-Jičín
END:VEVENT
BEGIN:VEVENT
UID:35383363-3739-4466-a436-303038646638
DTSTAMP:20260422T202145Z
DESCRIPTION:2/4 TJ Slavia HK ch B - RÉMA Rychnov nad Kněžnou A 0:2 (-0\,-0)
DTSTART;TZID=Europe/Berlin:20250928T094500
DTEND;TZID=Europe/Berlin:20250928T114500
LOCATION:TJ Slavia Hradec Králové\, Víta Nejedlého 1216 Hradec Králové
SUMMARY:HK-MINI-1C: TJ Slavia HK ch B-RÉMA Rychnov nad Kněžnou A
END:VEVENT
BEGIN:VEVENT
UID:30363462-3861-4239-b237-323265666437
DTSTAMP:20260422T202145Z
DESCRIPTION:3/5 Jičín - TJ Slavia HK ch A 0:2 (-18\,-22)
DTSTART;TZID=Europe/Berlin:20250928T103000
DTEND;TZID=Europe/Berlin:20250928T123000
LOCATION:Hala Masarykovy obchodní akademie Jičín\, 17. listopadu 220 Jičín 
 - Valdické Předměstí
SUMMARY:HK-MINI-1C: Jičín-TJ Slavia HK ch A
END:VEVENT
BEGIN:VEVENT
UID:33653136-3563-4336-b933-303738623363
DTSTAMP:20260422T202145Z
DESCRIPTION:3/6 Kvasiny - Chlumec nad Cidlinou A 0:2 (-6\,-10)
DTSTART;TZID=Europe/Berlin:20250928T103000
DTEND;TZID=Europe/Berlin:20250928T123000
LOCATION:Tělocvična ZŠ Kvasiny\,  Kvasiny142
SUMMARY:HK-MINI-1C: Kvasiny-Chlumec nad Cidlinou A
END:VEVENT
BEGIN:VEVENT
UID:38366663-3865-4935-a537-303432613264
DTSTAMP:20260422T202145Z
DESCRIPTION:4/7 Chlumec nad Cidlinou A - TJ Slavia HK ch B 2:0 (0\,0)
DTSTART;TZID=Europe/Berlin:20250928T111500
DTEND;TZID=Europe/Berlin:20250928T131500
LOCATION:Slavíčkova hala\, Sokolská 795 Chlumec nad Cidlinou - Chlumec nad 
 Cidlinou IV
SUMMARY:HK-MINI-1C: Chlumec nad Cidlinou A-TJ Slavia HK ch B
END:VEVENT
BEGIN:VEVENT
UID:34646433-6666-4164-a438-313061623632
DTSTAMP:20260422T202145Z
DESCRIPTION:4/8 TJ Slavia HK ch A - Kvasiny 2:0 (14\,14)
DTSTART;TZID=Europe/Berlin:20250928T111500
DTEND;TZID=Europe/Berlin:20250928T131500
LOCATION:TJ Slavia Hradec Králové\, Víta Nejedlého 1216 Hradec Králové
SUMMARY:HK-MINI-1C: TJ Slavia HK ch A-Kvasiny
END:VEVENT
BEGIN:VEVENT
UID:32336364-6262-4533-b965-373430396133
DTSTAMP:20260422T202145Z
DESCRIPTION:5/9 RÉMA Rychnov nad Kněžnou A - Jičín 2:1 (23\,-20\,12)
DTSTART;TZID=Europe/Berlin:20250928T120000
DTEND;TZID=Europe/Berlin:20250928T140000
LOCATION:Hala VOŠ a SPŠS\, U Stadionu 1166 Rychnov nad Kněžnou
SUMMARY:HK-MINI-1C: RÉMA Rychnov nad Kněžnou A-Jičín
END:VEVENT
BEGIN:VEVENT
UID:62616236-6664-4763-b064-356562346538
DTSTAMP:20260422T202145Z
DESCRIPTION:5/10 Chlumec nad Cidlinou A - TJ Slavia HK ch A 1:2 (24\,-20\,-
 12)
DTSTART;TZID=Europe/Berlin:20250928T120000
DTEND;TZID=Europe/Berlin:20250928T140000
LOCATION:Slavíčkova hala\, Sokolská 795 Chlumec nad Cidlinou - Chlumec nad 
 Cidlinou IV
SUMMARY:HK-MINI-1C: Chlumec nad Cidlinou A-TJ Slavia HK ch A
END:VEVENT
BEGIN:VEVENT
UID:31353566-3839-4663-b130-633134303666
DTSTAMP:20260422T202145Z
DESCRIPTION:6/11 Kvasiny - RÉMA Rychnov nad Kněžnou A 0:2 (-16\,-18)
DTSTART;TZID=Europe/Berlin:20250928T124500
DTEND;TZID=Europe/Berlin:20250928T144500
LOCATION:Tělocvična ZŠ Kvasiny\,  Kvasiny142
SUMMARY:HK-MINI-1C: Kvasiny-RÉMA Rychnov nad Kněžnou A
END:VEVENT
BEGIN:VEVENT
UID:38373438-3437-4665-b236-666630396466
DTSTAMP:20260422T202145Z
DESCRIPTION:6/12 TJ Slavia HK ch B - Jičín 0:2 (-0\,-0)
DTSTART;TZID=Europe/Berlin:20250928T124500
DTEND;TZID=Europe/Berlin:20250928T144500
LOCATION:TJ Slavia Hradec Králové\, Víta Nejedlého 1216 Hradec Králové
SUMMARY:HK-MINI-1C: TJ Slavia HK ch B-Jičín
END:VEVENT
BEGIN:VEVENT
UID:35303638-3234-4561-b839-636134376531
DTSTAMP:20260422T202145Z
DESCRIPTION:7/13 TJ Slavia HK ch A - TJ Slavia HK ch B 2:0 (0\,0)
DTSTART;TZID=Europe/Berlin:20250928T133000
DTEND;TZID=Europe/Berlin:20250928T153000
LOCATION:TJ Slavia Hradec Králové\, Víta Nejedlého 1216 Hradec Králové
SUMMARY:HK-MINI-1C: TJ Slavia HK ch A-TJ Slavia HK ch B
END:VEVENT
BEGIN:VEVENT
UID:63623235-6530-4736-a365-666636643137
DTSTAMP:20260422T202145Z
DESCRIPTION:7/14 Jičín - Kvasiny 2:0 (10\,19)
DTSTART;TZID=Europe/Berlin:20250928T133000
DTEND;TZID=Europe/Berlin:20250928T153000
LOCATION:Hala Masarykovy obchodní akademie Jičín\, 17. listopadu 220 Jičín 
 - Valdické Předměstí
SUMMARY:HK-MINI-1C: Jičín-Kvasiny
END:VEVENT
BEGIN:VEVENT
UID:64313264-3937-4237-b462-316235323264
DTSTAMP:20260422T202145Z
DESCRIPTION:8/15 RÉMA Rychnov nad Kněžnou A - Chlumec nad Cidlinou A 0:2 (-
 22\,-11)
DTSTART;TZID=Europe/Berlin:20250928T141500
DTEND;TZID=Europe/Berlin:20250928T161500
LOCATION:Hala VOŠ a SPŠS\, U Stadionu 1166 Rychnov nad Kněžnou
SUMMARY:HK-MINI-1C: RÉMA Rychnov nad Kněžnou A-Chlumec nad Cidlinou A
END:VEVENT
BEGIN:VEVENT
UID:38316165-6534-4739-b239-316337623561
DTSTAMP:20260422T202145Z
DESCRIPTION:8/16 Chlumec nad Cidlinou A - Jičín 2:0 (20\,15)\nJičín
DTSTART;TZID=Europe/Berlin:20251012T090000
DTEND;TZID=Europe/Berlin:20251012T110000
LOCATION:Slavíčkova hala\, Sokolská 795 Chlumec nad Cidlinou - Chlumec nad 
 Cidlinou IV
SUMMARY:HK-MINI-1C: Chlumec nad Cidlinou A-Jičín
END:VEVENT
BEGIN:VEVENT
UID:66396536-3966-4164-b964-623835303664
DTSTAMP:20260422T202145Z
DESCRIPTION:9/17 TJ Slavia HK ch B - RÉMA Rychnov nad Kněžnou A 0:2 (-14\,-
 17)
DTSTART;TZID=Europe/Berlin:20251012T090000
DTEND;TZID=Europe/Berlin:20251012T110000
LOCATION:TJ Slavia Hradec Králové\, Víta Nejedlého 1216 Hradec Králové
SUMMARY:HK-MINI-1C: TJ Slavia HK ch B-RÉMA Rychnov nad Kněžnou A
END:VEVENT
BEGIN:VEVENT
UID:30376230-6134-4861-a361-303730633039
DTSTAMP:20260422T202145Z
DESCRIPTION:9/18 Kvasiny - TJ Slavia HK ch B 2:0 (19\,23)
DTSTART;TZID=Europe/Berlin:20251012T094500
DTEND;TZID=Europe/Berlin:20251012T114500
LOCATION:Tělocvična ZŠ Kvasiny\,  Kvasiny142
SUMMARY:HK-MINI-1C: Kvasiny-TJ Slavia HK ch B
END:VEVENT
BEGIN:VEVENT
UID:64333437-3264-4462-b236-366165393563
DTSTAMP:20260422T202145Z
DESCRIPTION:10/19 TJ Slavia HK ch A - RÉMA Rychnov nad Kněžnou A 2:0 (20\,2
 0)
DTSTART;TZID=Europe/Berlin:20251012T094500
DTEND;TZID=Europe/Berlin:20251012T114500
LOCATION:TJ Slavia Hradec Králové\, Víta Nejedlého 1216 Hradec Králové
SUMMARY:HK-MINI-1C: TJ Slavia HK ch A-RÉMA Rychnov nad Kněžnou A
END:VEVENT
BEGIN:VEVENT
UID:38663038-6239-4734-a365-346235316236
DTSTAMP:20260422T202145Z
DESCRIPTION:10/20 Jičín - TJ Slavia HK ch A 0:2 (-13\,-15)
DTSTART;TZID=Europe/Berlin:20251012T103000
DTEND;TZID=Europe/Berlin:20251012T123000
LOCATION:Hala Masarykovy obchodní akademie Jičín\, 17. listopadu 220 Jičín 
 - Valdické Předměstí
SUMMARY:HK-MINI-1C: Jičín-TJ Slavia HK ch A
END:VEVENT
BEGIN:VEVENT
UID:65386561-3633-4364-b063-653164363130
DTSTAMP:20260422T202145Z
DESCRIPTION:11/21 Kvasiny - Chlumec nad Cidlinou A 0:2 (-10\,-15)
DTSTART;TZID=Europe/Berlin:20251012T103000
DTEND;TZID=Europe/Berlin:20251012T123000
LOCATION:Tělocvična ZŠ Kvasiny\,  Kvasiny142
SUMMARY:HK-MINI-1C: Kvasiny-Chlumec nad Cidlinou A
END:VEVENT
BEGIN:VEVENT
UID:32386136-6236-4332-a537-326366313533
DTSTAMP:20260422T202145Z
DESCRIPTION:11/22 Chlumec nad Cidlinou A - TJ Slavia HK ch B 2:0 (7\,9)
DTSTART;TZID=Europe/Berlin:20251012T111500
DTEND;TZID=Europe/Berlin:20251012T131500
LOCATION:Slavíčkova hala\, Sokolská 795 Chlumec nad Cidlinou - Chlumec nad 
 Cidlinou IV
SUMMARY:HK-MINI-1C: Chlumec nad Cidlinou A-TJ Slavia HK ch B
END:VEVENT
BEGIN:VEVENT
UID:32613739-6538-4063-b961-303337373136
DTSTAMP:20260422T202145Z
DESCRIPTION:12/23 TJ Slavia HK ch A - Kvasiny 2:0 (14\,13)
DTSTART;TZID=Europe/Berlin:20251012T111500
DTEND;TZID=Europe/Berlin:20251012T131500
LOCATION:TJ Slavia Hradec Králové\, Víta Nejedlého 1216 Hradec Králové
SUMMARY:HK-MINI-1C: TJ Slavia HK ch A-Kvasiny
END:VEVENT
BEGIN:VEVENT
UID:31316461-3933-4635-a630-393365643662
DTSTAMP:20260422T202145Z
DESCRIPTION:12/24 RÉMA Rychnov nad Kněžnou A - Jičín 0:2 (-21\,-24)
DTSTART;TZID=Europe/Berlin:20251012T120000
DTEND;TZID=Europe/Berlin:20251012T140000
LOCATION:Hala VOŠ a SPŠS\, U Stadionu 1166 Rychnov nad Kněžnou
SUMMARY:HK-MINI-1C: RÉMA Rychnov nad Kněžnou A-Jičín
END:VEVENT
BEGIN:VEVENT
UID:34333363-3463-4266-a362-363637313562
DTSTAMP:20260422T202145Z
DESCRIPTION:13/25 Chlumec nad Cidlinou A - TJ Slavia HK ch A 2:0 (25\,21)
DTSTART;TZID=Europe/Berlin:20251012T120000
DTEND;TZID=Europe/Berlin:20251012T140000
LOCATION:Slavíčkova hala\, Sokolská 795 Chlumec nad Cidlinou - Chlumec nad 
 Cidlinou IV
SUMMARY:HK-MINI-1C: Chlumec nad Cidlinou A-TJ Slavia HK ch A
END:VEVENT
BEGIN:VEVENT
UID:35376466-3334-4933-b363-373832616366
DTSTAMP:20260422T202145Z
DESCRIPTION:13/26 Kvasiny - RÉMA Rychnov nad Kněžnou A 0:2 (-17\,-22)
DTSTART;TZID=Europe/Berlin:20251012T124500
DTEND;TZID=Europe/Berlin:20251012T144500
LOCATION:Tělocvična ZŠ Kvasiny\,  Kvasiny142
SUMMARY:HK-MINI-1C: Kvasiny-RÉMA Rychnov nad Kněžnou A
END:VEVENT
BEGIN:VEVENT
UID:31343138-6665-4066-a332-323538643432
DTSTAMP:20260422T202145Z
DESCRIPTION:14/27 TJ Slavia HK ch B - Jičín 0:2 (-17\,-17)
DTSTART;TZID=Europe/Berlin:20251012T124500
DTEND;TZID=Europe/Berlin:20251012T144500
LOCATION:TJ Slavia Hradec Králové\, Víta Nejedlého 1216 Hradec Králové
SUMMARY:HK-MINI-1C: TJ Slavia HK ch B-Jičín
END:VEVENT
BEGIN:VEVENT
UID:62326436-3234-4132-b035-346333343062
DTSTAMP:20260422T202145Z
DESCRIPTION:14/28 TJ Slavia HK ch A - TJ Slavia HK ch B 2:0 (7\,18)
DTSTART;TZID=Europe/Berlin:20251012T133000
DTEND;TZID=Europe/Berlin:20251012T153000
LOCATION:TJ Slavia Hradec Králové\, Víta Nejedlého 1216 Hradec Králové
SUMMARY:HK-MINI-1C: TJ Slavia HK ch A-TJ Slavia HK ch B
END:VEVENT
BEGIN:VEVENT
UID:64383931-6231-4130-b632-333636346238
DTSTAMP:20260422T202145Z
DESCRIPTION:15/29 Jičín - Kvasiny 2:0 (27\,9)
DTSTART;TZID=Europe/Berlin:20251012T133000
DTEND;TZID=Europe/Berlin:20251012T153000
LOCATION:Hala Masarykovy obchodní akademie Jičín\, 17. listopadu 220 Jičín 
 - Valdické Předměstí
SUMMARY:HK-MINI-1C: Jičín-Kvasiny
END:VEVENT
BEGIN:VEVENT
UID:61393963-3632-4439-b461-643163636133
DTSTAMP:20260422T202145Z
DESCRIPTION:15/30 RÉMA Rychnov nad Kněžnou A - Chlumec nad Cidlinou A 0:2 (
 -23\,-25)
DTSTART;TZID=Europe/Berlin:20251012T141500
DTEND;TZID=Europe/Berlin:20251012T161500
LOCATION:Hala VOŠ a SPŠS\, U Stadionu 1166 Rychnov nad Kněžnou
SUMMARY:HK-MINI-1C: RÉMA Rychnov nad Kněžnou A-Chlumec nad Cidlinou A
END:VEVENT
BEGIN:VEVENT
UID:33663333-6363-4032-b064-343239376663
DTSTAMP:20260422T202145Z
DESCRIPTION:16/31 Chlumec nad Cidlinou A - Jičín 1:2 (23\,-20\,-8)\nChlumec
DTSTART;TZID=Europe/Berlin:20251109T090000
DTEND;TZID=Europe/Berlin:20251109T110000
LOCATION:Slavíčkova hala\, Sokolská 795 Chlumec nad Cidlinou - Chlumec nad 
 Cidlinou IV
SUMMARY:HK-MINI-1C: Chlumec nad Cidlinou A-Jičín
END:VEVENT
BEGIN:VEVENT
UID:65323534-3663-4433-b832-366332376561
DTSTAMP:20260422T202145Z
DESCRIPTION:16/32 TJ Slavia HK ch B - RÉMA Rychnov nad Kněžnou A 0:2 (-10\,
 -22)
DTSTART;TZID=Europe/Berlin:20251109T090000
DTEND;TZID=Europe/Berlin:20251109T110000
LOCATION:TJ Slavia Hradec Králové\, Víta Nejedlého 1216 Hradec Králové
SUMMARY:HK-MINI-1C: TJ Slavia HK ch B-RÉMA Rychnov nad Kněžnou A
END:VEVENT
BEGIN:VEVENT
UID:64373238-6239-4139-b233-373066313030
DTSTAMP:20260422T202145Z
DESCRIPTION:17/33 Kvasiny - TJ Slavia HK ch B 2:0 (19\,13)
DTSTART;TZID=Europe/Berlin:20251109T094500
DTEND;TZID=Europe/Berlin:20251109T114500
LOCATION:Tělocvična ZŠ Kvasiny\,  Kvasiny142
SUMMARY:HK-MINI-1C: Kvasiny-TJ Slavia HK ch B
END:VEVENT
BEGIN:VEVENT
UID:38303838-6139-4439-a132-383136383731
DTSTAMP:20260422T202145Z
DESCRIPTION:17/34 TJ Slavia HK ch A - RÉMA Rychnov nad Kněžnou A 2:0 (16\,1
 9)
DTSTART;TZID=Europe/Berlin:20251109T094500
DTEND;TZID=Europe/Berlin:20251109T114500
LOCATION:TJ Slavia Hradec Králové\, Víta Nejedlého 1216 Hradec Králové
SUMMARY:HK-MINI-1C: TJ Slavia HK ch A-RÉMA Rychnov nad Kněžnou A
END:VEVENT
BEGIN:VEVENT
UID:35323434-3338-4331-b336-623631343166
DTSTAMP:20260422T202145Z
DESCRIPTION:18/35 Jičín - TJ Slavia HK ch A 2:1 (24\,-24\,6)
DTSTART;TZID=Europe/Berlin:20251109T103000
DTEND;TZID=Europe/Berlin:20251109T123000
LOCATION:Hala Masarykovy obchodní akademie Jičín\, 17. listopadu 220 Jičín 
 - Valdické Předměstí
SUMMARY:HK-MINI-1C: Jičín-TJ Slavia HK ch A
END:VEVENT
BEGIN:VEVENT
UID:34376230-3231-4266-b238-323338386564
DTSTAMP:20260422T202145Z
DESCRIPTION:18/36 Kvasiny - Chlumec nad Cidlinou A 0:2 (-15\,-8)
DTSTART;TZID=Europe/Berlin:20251109T103000
DTEND;TZID=Europe/Berlin:20251109T123000
LOCATION:Tělocvična ZŠ Kvasiny\,  Kvasiny142
SUMMARY:HK-MINI-1C: Kvasiny-Chlumec nad Cidlinou A
END:VEVENT
BEGIN:VEVENT
UID:30626436-3831-4832-b237-643337383039
DTSTAMP:20260422T202145Z
DESCRIPTION:19/37 Chlumec nad Cidlinou A - TJ Slavia HK ch B 2:0 (13\,13)
DTSTART;TZID=Europe/Berlin:20251109T111500
DTEND;TZID=Europe/Berlin:20251109T131500
LOCATION:Slavíčkova hala\, Sokolská 795 Chlumec nad Cidlinou - Chlumec nad 
 Cidlinou IV
SUMMARY:HK-MINI-1C: Chlumec nad Cidlinou A-TJ Slavia HK ch B
END:VEVENT
BEGIN:VEVENT
UID:30643163-6234-4865-a232-623036373134
DTSTAMP:20260422T202145Z
DESCRIPTION:19/38 TJ Slavia HK ch A - Kvasiny 2:0 (19\,11)
DTSTART;TZID=Europe/Berlin:20251109T111500
DTEND;TZID=Europe/Berlin:20251109T131500
LOCATION:TJ Slavia Hradec Králové\, Víta Nejedlého 1216 Hradec Králové
SUMMARY:HK-MINI-1C: TJ Slavia HK ch A-Kvasiny
END:VEVENT
BEGIN:VEVENT
UID:36396434-3736-4336-a261-363931663961
DTSTAMP:20260422T202145Z
DESCRIPTION:20/39 RÉMA Rychnov nad Kněžnou A - Jičín 0:2 (-13\,-20)
DTSTART;TZID=Europe/Berlin:20251109T120000
DTEND;TZID=Europe/Berlin:20251109T140000
LOCATION:Hala VOŠ a SPŠS\, U Stadionu 1166 Rychnov nad Kněžnou
SUMMARY:HK-MINI-1C: RÉMA Rychnov nad Kněžnou A-Jičín
END:VEVENT
BEGIN:VEVENT
UID:35376533-3061-4638-a662-633531663738
DTSTAMP:20260422T202145Z
DESCRIPTION:20/40 Chlumec nad Cidlinou A - TJ Slavia HK ch A 2:0 (16\,18)
DTSTART;TZID=Europe/Berlin:20251109T120000
DTEND;TZID=Europe/Berlin:20251109T140000
LOCATION:Slavíčkova hala\, Sokolská 795 Chlumec nad Cidlinou - Chlumec nad 
 Cidlinou IV
SUMMARY:HK-MINI-1C: Chlumec nad Cidlinou A-TJ Slavia HK ch A
END:VEVENT
BEGIN:VEVENT
UID:36623033-6231-4234-a665-633230303861
DTSTAMP:20260422T202145Z
DESCRIPTION:21/41 Kvasiny - RÉMA Rychnov nad Kněžnou A 0:2 (-23\,-18)
DTSTART;TZID=Europe/Berlin:20251109T124500
DTEND;TZID=Europe/Berlin:20251109T144500
LOCATION:Tělocvična ZŠ Kvasiny\,  Kvasiny142
SUMMARY:HK-MINI-1C: Kvasiny-RÉMA Rychnov nad Kněžnou A
END:VEVENT
BEGIN:VEVENT
UID:31343334-3433-4662-b231-666165613333
DTSTAMP:20260422T202145Z
DESCRIPTION:21/42 TJ Slavia HK ch B - Jičín 0:2 (-14\,-18)
DTSTART;TZID=Europe/Berlin:20251109T124500
DTEND;TZID=Europe/Berlin:20251109T144500
LOCATION:TJ Slavia Hradec Králové\, Víta Nejedlého 1216 Hradec Králové
SUMMARY:HK-MINI-1C: TJ Slavia HK ch B-Jičín
END:VEVENT
BEGIN:VEVENT
UID:63363932-3834-4062-b339-376163633164
DTSTAMP:20260422T202145Z
DESCRIPTION:22/43 TJ Slavia HK ch A - TJ Slavia HK ch B 2:0 (23\,14)
DTSTART;TZID=Europe/Berlin:20251109T133000
DTEND;TZID=Europe/Berlin:20251109T153000
LOCATION:TJ Slavia Hradec Králové\, Víta Nejedlého 1216 Hradec Králové
SUMMARY:HK-MINI-1C: TJ Slavia HK ch A-TJ Slavia HK ch B
END:VEVENT
BEGIN:VEVENT
UID:66643635-3762-4462-b135-353561366138
DTSTAMP:20260422T202145Z
DESCRIPTION:22/44 Jičín - Kvasiny 2:0 (12\,19)
DTSTART;TZID=Europe/Berlin:20251109T133000
DTEND;TZID=Europe/Berlin:20251109T153000
LOCATION:Hala Masarykovy obchodní akademie Jičín\, 17. listopadu 220 Jičín 
 - Valdické Předměstí
SUMMARY:HK-MINI-1C: Jičín-Kvasiny
END:VEVENT
BEGIN:VEVENT
UID:37323864-3538-4166-a438-633039626435
DTSTAMP:20260422T202145Z
DESCRIPTION:23/45 RÉMA Rychnov nad Kněžnou A - Chlumec nad Cidlinou A 0:2 (
 -24\,-17)
DTSTART;TZID=Europe/Berlin:20251109T141500
DTEND;TZID=Europe/Berlin:20251109T161500
LOCATION:Hala VOŠ a SPŠS\, U Stadionu 1166 Rychnov nad Kněžnou
SUMMARY:HK-MINI-1C: RÉMA Rychnov nad Kněžnou A-Chlumec nad Cidlinou A
END:VEVENT
END:VCALENDAR
