BEGIN:VCALENDAR
VERSION:2.0
PRODID:-//LIB-U22Z-7-1//NONSGML kigkonsult.se iCalcreator 2.41.80//
CALSCALE:GREGORIAN
UID:38356666-3961-4432-b735-333039383533
BEGIN:VEVENT
UID:36653363-3562-4635-b133-616432643633
DTSTAMP:20260421T210127Z
DESCRIPTION:1/1 Nový Bor - TJ Bižuterie Jablonec n/N 2:0 (13\,13)\nNový Bor
DTSTART;TZID=Europe/Berlin:20260322T090000
DTEND;TZID=Europe/Berlin:20260322T110000
LOCATION:Sportovní hala Františka Arnošta Nový Bor\, U hřiště 1391 Nový Bor
SUMMARY:LIB-U22Z-7-1: Nový Bor-TJ Bižuterie Jablonec n/N
END:VEVENT
BEGIN:VEVENT
UID:37353639-3030-4939-a366-646632303565
DTSTAMP:20260421T210127Z
DESCRIPTION:1/2 Vratislavice n. N. - Schrödingerův institut Varnsdorf 2:0 (
 21\,19)\nNový Bor
DTSTART;TZID=Europe/Berlin:20260322T090000
DTEND;TZID=Europe/Berlin:20260322T110000
LOCATION:, Nad Školou 278 Liberec - Liberec XXX-Vratislavice nad Nisou
SUMMARY:LIB-U22Z-7-1: Vratislavice n. N.-Schrödingerův institut Varnsdorf
END:VEVENT
BEGIN:VEVENT
UID:37366163-3861-4466-b765-663361353434
DTSTAMP:20260421T210127Z
DESCRIPTION:1/3 Nový Bor - Schrödingerův institut Varnsdorf 2:0 (16\,12)\nN
 ový Bor
DTSTART;TZID=Europe/Berlin:20260322T110000
DTEND;TZID=Europe/Berlin:20260322T130000
LOCATION:Sportovní hala Františka Arnošta Nový Bor\, U hřiště 1391 Nový Bor
SUMMARY:LIB-U22Z-7-1: Nový Bor-Schrödingerův institut Varnsdorf
END:VEVENT
BEGIN:VEVENT
UID:38333735-3265-4130-a462-353862353433
DTSTAMP:20260421T210127Z
DESCRIPTION:1/4 TJ Bižuterie Jablonec n/N - Vratislavice n. N. 0:2 (-24\,-1
 7)\nNový Bor
DTSTART;TZID=Europe/Berlin:20260322T110000
DTEND;TZID=Europe/Berlin:20260322T130000
LOCATION:Městská sportovní hala\, U Přehrady 4747 Jablonec nad Nisou
SUMMARY:LIB-U22Z-7-1: TJ Bižuterie Jablonec n/N-Vratislavice n. N.
END:VEVENT
BEGIN:VEVENT
UID:65626166-6564-4633-a464-656137333961
DTSTAMP:20260421T210127Z
DESCRIPTION:1/5 Nový Bor - Vratislavice n. N. 2:0 (16\,21)\nNový Bor
DTSTART;TZID=Europe/Berlin:20260322T130000
DTEND;TZID=Europe/Berlin:20260322T150000
LOCATION:Sportovní hala Františka Arnošta Nový Bor\, U hřiště 1391 Nový Bor
SUMMARY:LIB-U22Z-7-1: Nový Bor-Vratislavice n. N.
END:VEVENT
BEGIN:VEVENT
UID:61363165-3435-4539-a661-653562626263
DTSTAMP:20260421T210127Z
DESCRIPTION:2/6 TJ Bižuterie Jablonec n/N - Schrödingerův institut Varnsdor
 f 0:2 (-20\,-21)\nNový Bor
DTSTART;TZID=Europe/Berlin:20260322T130000
DTEND;TZID=Europe/Berlin:20260322T150000
LOCATION:Městská sportovní hala\, U Přehrady 4747 Jablonec nad Nisou
SUMMARY:LIB-U22Z-7-1: TJ Bižuterie Jablonec n/N-Schrödingerův institut Varn
 sdorf
END:VEVENT
END:VCALENDAR
