BEGIN:VCALENDAR
VERSION:2.0
PRODID:-//NA-U16M2B//NONSGML kigkonsult.se iCalcreator 2.41.80//
CALSCALE:GREGORIAN
UID:65626666-3734-4066-a536-666264663561
BEGIN:VEVENT
UID:32383231-3832-4539-b239-333963623132
DTSTAMP:20260424T063335Z
DESCRIPTION:1/1 VK Hronov A - VK Hronov C 2:1 (18\,-14\,14)
DTSTART;TZID=Europe/Berlin:20260228T090000
DTEND;TZID=Europe/Berlin:20260228T110000
SUMMARY:NA-U16M2B: VK Hronov A-VK Hronov C
END:VEVENT
BEGIN:VEVENT
UID:32623431-6164-4835-a432-343566363734
DTSTAMP:20260424T063335Z
DESCRIPTION:1/2 VK Hronov B - Broumov Hol. 2:0 (17\,24)
DTSTART;TZID=Europe/Berlin:20260228T100000
DTEND;TZID=Europe/Berlin:20260228T120000
SUMMARY:NA-U16M2B: VK Hronov B-Broumov Hol.
END:VEVENT
BEGIN:VEVENT
UID:34373934-6539-4363-a262-363638353531
DTSTAMP:20260424T063335Z
DESCRIPTION:2/3 VK Hronov C - Broumov Hol. 2:0 (19\,6)
DTSTART;TZID=Europe/Berlin:20260228T110000
DTEND;TZID=Europe/Berlin:20260228T130000
SUMMARY:NA-U16M2B: VK Hronov C-Broumov Hol.
END:VEVENT
BEGIN:VEVENT
UID:36623462-6539-4537-b062-336539343066
DTSTAMP:20260424T063335Z
DESCRIPTION:2/4 VK Hronov A - VK Hronov B 2:0 (15\,15)
DTSTART;TZID=Europe/Berlin:20260228T120000
DTEND;TZID=Europe/Berlin:20260228T140000
SUMMARY:NA-U16M2B: VK Hronov A-VK Hronov B
END:VEVENT
BEGIN:VEVENT
UID:61346239-3931-4537-b164-633662306430
DTSTAMP:20260424T063335Z
DESCRIPTION:3/5 VK Hronov B - VK Hronov C 0:2 (-15\,-6)
DTSTART;TZID=Europe/Berlin:20260228T130000
DTEND;TZID=Europe/Berlin:20260228T150000
SUMMARY:NA-U16M2B: VK Hronov B-VK Hronov C
END:VEVENT
BEGIN:VEVENT
UID:61323766-6661-4431-b862-346366376336
DTSTAMP:20260424T063335Z
DESCRIPTION:3/6 Broumov Hol. - VK Hronov A 0:2 (-12\,-15)
DTSTART;TZID=Europe/Berlin:20260228T140000
DTEND;TZID=Europe/Berlin:20260228T160000
SUMMARY:NA-U16M2B: Broumov Hol.-VK Hronov A
END:VEVENT
END:VCALENDAR
