BEGIN:VCALENDAR
VERSION:2.0
PRODID:-//JC-U14Z-1A//NONSGML kigkonsult.se iCalcreator 2.41.80//
CALSCALE:GREGORIAN
UID:33323237-6465-4035-a538-343863616362
BEGIN:VEVENT
UID:38643361-3034-4135-a435-626635373633
DTSTAMP:20260421T134933Z
DESCRIPTION:1/1 TJ Slovan J. Hradec\, z.s. - VSK Č. Krumlov A 2:0 (17\,11)
 \nJindřichův Hradec
DTSTART;TZID=Europe/Berlin:20250921T090000
DTEND;TZID=Europe/Berlin:20250921T110000
LOCATION:Sportovní hala J. Hradec\, U Stadionu 1137 Jindřichův Hradec - Jin
 dřichův Hradec II
SUMMARY:JC-U14Z-1A: TJ Slovan J. Hradec\, z.s.-VSK Č. Krumlov A
END:VEVENT
BEGIN:VEVENT
UID:66326662-6334-4134-a432-383739643866
DTSTAMP:20260421T134933Z
DESCRIPTION:1/2 Volejbal Rudolfov A - TJ Slovan J. Hradec\, z.s. 2:0 (14\,1
 4)\nJindřichův Hradec
DTSTART;TZID=Europe/Berlin:20250921T100000
DTEND;TZID=Europe/Berlin:20250921T120000
LOCATION:Sportovní hala J. Hradec\, U Stadionu 1137 Jindřichův Hradec - Jin
 dřichův Hradec II
SUMMARY:JC-U14Z-1A: Volejbal Rudolfov A-TJ Slovan J. Hradec\, z.s.
END:VEVENT
BEGIN:VEVENT
UID:64623030-6338-4264-a466-643363316335
DTSTAMP:20260421T134933Z
DESCRIPTION:1/3 VSK Č. Krumlov A - Volejbal Rudolfov A 0:2 (-13\,-12)\nJind
 řichův Hradec
DTSTART;TZID=Europe/Berlin:20250921T110000
DTEND;TZID=Europe/Berlin:20250921T130000
LOCATION:Sportovní hala J. Hradec\, U Stadionu 1137 Jindřichův Hradec - Jin
 dřichův Hradec II
SUMMARY:JC-U14Z-1A: VSK Č. Krumlov A-Volejbal Rudolfov A
END:VEVENT
END:VCALENDAR
