BEGIN:VCALENDAR
VERSION:2.0
PRODID:-//MS-U14Z-KVC//NONSGML kigkonsult.se iCalcreator 2.41.80//
CALSCALE:GREGORIAN
UID:33326235-6638-4630-b832-323037616137
BEGIN:VEVENT
UID:34316135-3862-4163-b838-653033333165
DTSTAMP:20260422T075501Z
DESCRIPTION:1/1 T.J. Sokol Vratimov 'A' - VK Raškovice 2:0 (19\,16)
DTSTART;TZID=Europe/Berlin:20251004T090000
DTEND;TZID=Europe/Berlin:20251004T110000
LOCATION:Víceúčelová sportovní hala\,  Raškovice18
SUMMARY:MS-U14Z-KVC: T.J. Sokol Vratimov 'A'-VK Raškovice
END:VEVENT
BEGIN:VEVENT
UID:65616431-6333-4232-b730-373936306439
DTSTAMP:20260422T075501Z
DESCRIPTION:1/2 VO Slezská Orlice - VKB Frýdlant n.O. 0:2 (-9\,-10)
DTSTART;TZID=Europe/Berlin:20251004T090000
DTEND;TZID=Europe/Berlin:20251004T110000
LOCATION:Víceúčelová sportovní hala\,  Raškovice18
SUMMARY:MS-U14Z-KVC: VO Slezská Orlice-VKB Frýdlant n.O.
END:VEVENT
BEGIN:VEVENT
UID:32626236-6463-4330-b139-646461663030
DTSTAMP:20260422T075501Z
DESCRIPTION:2/3 T.J. Sokol Vratimov 'A' - VO Slezská Orlice 2:0 (12\,14)
DTSTART;TZID=Europe/Berlin:20251004T103000
DTEND;TZID=Europe/Berlin:20251004T123000
LOCATION:Víceúčelová sportovní hala\,  Raškovice18
SUMMARY:MS-U14Z-KVC: T.J. Sokol Vratimov 'A'-VO Slezská Orlice
END:VEVENT
BEGIN:VEVENT
UID:31323838-6161-4137-a332-353239656662
DTSTAMP:20260422T075501Z
DESCRIPTION:2/4 VK Raškovice - VKB Frýdlant n.O. 2:1 (-12\,11\,13)
DTSTART;TZID=Europe/Berlin:20251004T103000
DTEND;TZID=Europe/Berlin:20251004T123000
LOCATION:Víceúčelová sportovní hala\,  Raškovice18
SUMMARY:MS-U14Z-KVC: VK Raškovice-VKB Frýdlant n.O.
END:VEVENT
BEGIN:VEVENT
UID:35666334-6332-4862-a535-623738333130
DTSTAMP:20260422T075501Z
DESCRIPTION:3/5 VKB Frýdlant n.O. - T.J. Sokol Vratimov 'A' 0:2 (-13\,-23)
DTSTART;TZID=Europe/Berlin:20251004T120000
DTEND;TZID=Europe/Berlin:20251004T140000
LOCATION:Víceúčelová sportovní hala\,  Raškovice18
SUMMARY:MS-U14Z-KVC: VKB Frýdlant n.O.-T.J. Sokol Vratimov 'A'
END:VEVENT
BEGIN:VEVENT
UID:35626137-6437-4562-a634-616432336562
DTSTAMP:20260422T075501Z
DESCRIPTION:3/6 VK Raškovice - VO Slezská Orlice 2:0 (23\,6)
DTSTART;TZID=Europe/Berlin:20251004T120000
DTEND;TZID=Europe/Berlin:20251004T140000
LOCATION:Víceúčelová sportovní hala\,  Raškovice18
SUMMARY:MS-U14Z-KVC: VK Raškovice-VO Slezská Orlice
END:VEVENT
END:VCALENDAR
