BEGIN:VCALENDAR
VERSION:2.0
PRODID:-//MS-U14Z-KVD//NONSGML kigkonsult.se iCalcreator 2.41.80//
CALSCALE:GREGORIAN
UID:34333333-6665-4439-b538-626438393662
BEGIN:VEVENT
UID:33346635-3134-4165-b561-663037386339
DTSTAMP:20260422T075518Z
DESCRIPTION:1/1 SVK Nový Jičín B - SVK Nový Jičín A 0:2 (-9\,-3)
DTSTART;TZID=Europe/Berlin:20251004T090000
DTEND;TZID=Europe/Berlin:20251004T110000
LOCATION:Tělocvična Msgr. Šrámka\, Msgr. Šrámka 1105 Nový Jičín
SUMMARY:MS-U14Z-KVD: SVK Nový Jičín B-SVK Nový Jičín A
END:VEVENT
BEGIN:VEVENT
UID:34303936-3634-4532-a337-393434663935
DTSTAMP:20260422T075518Z
DESCRIPTION:2/2 VK Polanka 'B' - TJ Ostrava A 1:2 (-10\,16\,-9)
DTSTART;TZID=Europe/Berlin:20251004T103000
DTEND;TZID=Europe/Berlin:20251004T123000
LOCATION:Tělocvična Msgr. Šrámka\, Msgr. Šrámka 1105 Nový Jičín
SUMMARY:MS-U14Z-KVD: VK Polanka 'B'-TJ Ostrava A
END:VEVENT
BEGIN:VEVENT
UID:34636266-6639-4262-b761-633835663634
DTSTAMP:20260422T075518Z
DESCRIPTION:3/3 SVK Nový Jičín B - VK Polanka 'B' 0:2 (-12\,-13)
DTSTART;TZID=Europe/Berlin:20251004T120000
DTEND;TZID=Europe/Berlin:20251004T140000
LOCATION:Tělocvična Msgr. Šrámka\, Msgr. Šrámka 1105 Nový Jičín
SUMMARY:MS-U14Z-KVD: SVK Nový Jičín B-VK Polanka 'B'
END:VEVENT
BEGIN:VEVENT
UID:64646533-3463-4865-a636-336630623761
DTSTAMP:20260422T075518Z
DESCRIPTION:4/4 SVK Nový Jičín A - TJ Ostrava A 2:0 (16\,8)
DTSTART;TZID=Europe/Berlin:20251004T133000
DTEND;TZID=Europe/Berlin:20251004T153000
LOCATION:Tělocvična Msgr. Šrámka\, Msgr. Šrámka 1105 Nový Jičín
SUMMARY:MS-U14Z-KVD: SVK Nový Jičín A-TJ Ostrava A
END:VEVENT
BEGIN:VEVENT
UID:36633137-3537-4638-b131-383633353831
DTSTAMP:20260422T075518Z
DESCRIPTION:5/5 TJ Ostrava A - SVK Nový Jičín B 2:1 (-21\,14\,15)
DTSTART;TZID=Europe/Berlin:20251004T150000
DTEND;TZID=Europe/Berlin:20251004T170000
LOCATION:Tělocvična Msgr. Šrámka\, Msgr. Šrámka 1105 Nový Jičín
SUMMARY:MS-U14Z-KVD: TJ Ostrava A-SVK Nový Jičín B
END:VEVENT
BEGIN:VEVENT
UID:39626662-6261-4030-a437-303263643635
DTSTAMP:20260422T075518Z
DESCRIPTION:6/6 SVK Nový Jičín A - VK Polanka 'B' 2:0 (13\,7)
DTSTART;TZID=Europe/Berlin:20251004T163000
DTEND;TZID=Europe/Berlin:20251004T183000
LOCATION:Tělocvična Msgr. Šrámka\, Msgr. Šrámka 1105 Nový Jičín
SUMMARY:MS-U14Z-KVD: SVK Nový Jičín A-VK Polanka 'B'
END:VEVENT
END:VCALENDAR
