BEGIN:VCALENDAR
VERSION:2.0
PRODID:-//PP-U20M-T1-1A//NONSGML kigkonsult.se iCalcreator 2.41.80//
CALSCALE:GREGORIAN
UID:32623966-6236-4130-b439-656562326361
BEGIN:VEVENT
UID:31373333-3230-4537-a633-363336343137
DTSTAMP:20260424T063417Z
DESCRIPTION:1/1 BVŠP - VK Lvi Praha B 0:2 (-22\,-18)
DTSTART;TZID=Europe/Berlin:20251012T090000
DTEND;TZID=Europe/Berlin:20251012T110000
LOCATION:Sokol Bubeneč\, Korunovační 630 Praha - Bubeneč
SUMMARY:PP-U20M-T1-1A: BVŠP-VK Lvi Praha B
END:VEVENT
BEGIN:VEVENT
UID:39653732-3334-4537-b964-363065623035
DTSTAMP:20260424T063417Z
DESCRIPTION:2/2 SK PROSEK B - BVŠP 2:1 (-22\,12\,7)
DTSTART;TZID=Europe/Berlin:20251012T100000
DTEND;TZID=Europe/Berlin:20251012T120000
LOCATION:Sokol Bubeneč\, Korunovační 630 Praha - Bubeneč
SUMMARY:PP-U20M-T1-1A: SK PROSEK B-BVŠP
END:VEVENT
BEGIN:VEVENT
UID:62613265-3431-4531-b935-353936663063
DTSTAMP:20260424T063417Z
DESCRIPTION:3/3 VK Lvi Praha B - SK PROSEK B 1:2 (-19\,25\,-13)
DTSTART;TZID=Europe/Berlin:20251012T110000
DTEND;TZID=Europe/Berlin:20251012T130000
LOCATION:Sokol Bubeneč\, Korunovační 630 Praha - Bubeneč
SUMMARY:PP-U20M-T1-1A: VK Lvi Praha B-SK PROSEK B
END:VEVENT
END:VCALENDAR
