BEGIN:VCALENDAR
VERSION:2.0
PRODID:-//EX-U20M-2A//NONSGML kigkonsult.se iCalcreator 2.41.80//
CALSCALE:GREGORIAN
UID:64373962-3037-4433-b431-653030333832
BEGIN:VEVENT
UID:31633365-6562-4239-a330-366166303730
DTSTAMP:20260424T050738Z
DESCRIPTION:1/1 Brno - Green F.-M. 2:3 (-23\,25\,-21\,20\,-13)
DTSTART;TZID=Europe/Berlin:20251011T100000
DTEND;TZID=Europe/Berlin:20251011T120000
LOCATION:Sportovní gymnázium Ludvíka Daňka\, Botanická 63 Brno - Ponava
SUMMARY:EX-U20M-2A: Brno-Green F.-M.
END:VEVENT
BEGIN:VEVENT
UID:64396230-6264-4461-b038-616362303932
DTSTAMP:20260424T050738Z
DESCRIPTION:1/2 Lvi - Č. Budějovice 3:2 (17\,-20\,20\,-22\,8)
DTSTART;TZID=Europe/Berlin:20251011T120000
DTEND;TZID=Europe/Berlin:20251011T140000
LOCATION:Sportovní gymnázium Ludvíka Daňka\, Botanická 63 Brno - Ponava
SUMMARY:EX-U20M-2A: Lvi-Č. Budějovice
END:VEVENT
BEGIN:VEVENT
UID:61323230-3531-4735-b766-643964353530
DTSTAMP:20260424T050738Z
DESCRIPTION:1/3 Liberec - Green F.-M. 3:0 (23\,22\,19)
DTSTART;TZID=Europe/Berlin:20251011T140000
DTEND;TZID=Europe/Berlin:20251011T160000
LOCATION:Sportovní gymnázium Ludvíka Daňka\, Botanická 63 Brno - Ponava
SUMMARY:EX-U20M-2A: Liberec-Green F.-M.
END:VEVENT
BEGIN:VEVENT
UID:61306432-3566-4139-b539-336138366361
DTSTAMP:20260424T050738Z
DESCRIPTION:1/4 Brno - Lvi 1:3 (-17\,-10\,26\,-24)
DTSTART;TZID=Europe/Berlin:20251011T160000
DTEND;TZID=Europe/Berlin:20251011T180000
LOCATION:Sportovní gymnázium Ludvíka Daňka\, Botanická 63 Brno - Ponava
SUMMARY:EX-U20M-2A: Brno-Lvi
END:VEVENT
BEGIN:VEVENT
UID:33663131-6263-4838-a331-333233393266
DTSTAMP:20260424T050738Z
DESCRIPTION:1/5 Liberec - Č. Budějovice 0:3 (-15\,-26\,-19)
DTSTART;TZID=Europe/Berlin:20251011T180000
DTEND;TZID=Europe/Berlin:20251011T200000
LOCATION:Sportovní gymnázium Ludvíka Daňka\, Botanická 63 Brno - Ponava
SUMMARY:EX-U20M-2A: Liberec-Č. Budějovice
END:VEVENT
BEGIN:VEVENT
UID:64663734-3165-4364-a164-373239643539
DTSTAMP:20260424T050738Z
DESCRIPTION:1/6 Green F.-M. - Lvi 0:3 (-12\,-9\,-26)
DTSTART;TZID=Europe/Berlin:20251012T090000
DTEND;TZID=Europe/Berlin:20251012T110000
LOCATION:Sportovní gymnázium Ludvíka Daňka\, Botanická 63 Brno - Ponava
SUMMARY:EX-U20M-2A: Green F.-M.-Lvi
END:VEVENT
BEGIN:VEVENT
UID:63396464-6138-4634-b636-623736626664
DTSTAMP:20260424T050738Z
DESCRIPTION:1/7 Brno - Liberec 1:3 (-17\,-20\,19\,-15)
DTSTART;TZID=Europe/Berlin:20251012T110000
DTEND;TZID=Europe/Berlin:20251012T130000
LOCATION:Sportovní gymnázium Ludvíka Daňka\, Botanická 63 Brno - Ponava
SUMMARY:EX-U20M-2A: Brno-Liberec
END:VEVENT
BEGIN:VEVENT
UID:35613137-3537-4534-a466-396331643630
DTSTAMP:20260424T050738Z
DESCRIPTION:1/8 Č. Budějovice - Green F.-M. 3:0 (22\,23\,19)
DTSTART;TZID=Europe/Berlin:20251012T130000
DTEND;TZID=Europe/Berlin:20251012T150000
LOCATION:Sportovní gymnázium Ludvíka Daňka\, Botanická 63 Brno - Ponava
SUMMARY:EX-U20M-2A: Č. Budějovice-Green F.-M.
END:VEVENT
BEGIN:VEVENT
UID:30316233-3438-4634-b966-303234666238
DTSTAMP:20260424T050738Z
DESCRIPTION:1/9 Lvi - Liberec 3:0 (18\,16\,21)
DTSTART;TZID=Europe/Berlin:20251012T150000
DTEND;TZID=Europe/Berlin:20251012T170000
LOCATION:Sportovní gymnázium Ludvíka Daňka\, Botanická 63 Brno - Ponava
SUMMARY:EX-U20M-2A: Lvi-Liberec
END:VEVENT
BEGIN:VEVENT
UID:32303532-3266-4765-b836-353732616639
DTSTAMP:20260424T050738Z
DESCRIPTION:1/10 Č. Budějovice - Brno 0:3 (-9\,-22\,-19)
DTSTART;TZID=Europe/Berlin:20251012T170000
DTEND;TZID=Europe/Berlin:20251012T190000
LOCATION:Sportovní gymnázium Ludvíka Daňka\, Botanická 63 Brno - Ponava
SUMMARY:EX-U20M-2A: Č. Budějovice-Brno
END:VEVENT
END:VCALENDAR
