BEGIN:VCALENDAR
VERSION:2.0
PRODID:-//JC-U16Z1-1A//NONSGML kigkonsult.se iCalcreator 2.41.80//
CALSCALE:GREGORIAN
UID:30333335-3532-4163-a236-306661646163
BEGIN:VEVENT
UID:34303462-3431-4138-a161-656138396566
DTSTAMP:20260421T192005Z
DESCRIPTION:1/1 Č. Budějovice - Madeta Jihostroj ČB B 2:0 (7\,11)
DTSTART;TZID=Europe/Berlin:20250928T090000
DTEND;TZID=Europe/Berlin:20250928T110000
LOCATION:TĚLOVÝCHOVNÁ JEDNOTA LOKOMOTIVA z. s.\, Třebízského 1044 České Bud
 ějovice - České Budějovice 5
SUMMARY:JC-U16Z1-1A: Č. Budějovice-Madeta Jihostroj ČB B
END:VEVENT
BEGIN:VEVENT
UID:34323437-3131-4136-a361-353630366630
DTSTAMP:20260421T192005Z
DESCRIPTION:1/2 TJ Tatran Prachatice\, z.s. A - Volejbal Tábor A 0:2 (-11\,
 -7)
DTSTART;TZID=Europe/Berlin:20250928T100000
DTEND;TZID=Europe/Berlin:20250928T120000
LOCATION:TĚLOVÝCHOVNÁ JEDNOTA LOKOMOTIVA z. s.\, Třebízského 1044 České Bud
 ějovice - České Budějovice 5
SUMMARY:JC-U16Z1-1A: TJ Tatran Prachatice\, z.s. A-Volejbal Tábor A
END:VEVENT
BEGIN:VEVENT
UID:33316639-6138-4834-b135-616363623661
DTSTAMP:20260421T192005Z
DESCRIPTION:1/3 Č. Budějovice - TJ Tatran Prachatice\, z.s. A 2:0 (4\,6)
DTSTART;TZID=Europe/Berlin:20250928T110000
DTEND;TZID=Europe/Berlin:20250928T130000
LOCATION:TĚLOVÝCHOVNÁ JEDNOTA LOKOMOTIVA z. s.\, Třebízského 1044 České Bud
 ějovice - České Budějovice 5
SUMMARY:JC-U16Z1-1A: Č. Budějovice-TJ Tatran Prachatice\, z.s. A
END:VEVENT
BEGIN:VEVENT
UID:34363863-3465-4564-a634-646463313137
DTSTAMP:20260421T192005Z
DESCRIPTION:1/4 Volejbal Tábor A - Madeta Jihostroj ČB B 2:0 (13\,21)
DTSTART;TZID=Europe/Berlin:20250928T120000
DTEND;TZID=Europe/Berlin:20250928T140000
LOCATION:TĚLOVÝCHOVNÁ JEDNOTA LOKOMOTIVA z. s.\, Třebízského 1044 České Bud
 ějovice - České Budějovice 5
SUMMARY:JC-U16Z1-1A: Volejbal Tábor A-Madeta Jihostroj ČB B
END:VEVENT
BEGIN:VEVENT
UID:36306331-3335-4166-a132-326162313830
DTSTAMP:20260421T192005Z
DESCRIPTION:1/5 Madeta Jihostroj ČB B - TJ Tatran Prachatice\, z.s. A 2:0 (
 9\,19)
DTSTART;TZID=Europe/Berlin:20250928T130000
DTEND;TZID=Europe/Berlin:20250928T150000
LOCATION:TĚLOVÝCHOVNÁ JEDNOTA LOKOMOTIVA z. s.\, Třebízského 1044 České Bud
 ějovice - České Budějovice 5
SUMMARY:JC-U16Z1-1A: Madeta Jihostroj ČB B-TJ Tatran Prachatice\, z.s. A
END:VEVENT
BEGIN:VEVENT
UID:35393431-6464-4539-a261-656239633935
DTSTAMP:20260421T192005Z
DESCRIPTION:1/6 Č. Budějovice - Volejbal Tábor A 2:0 (13\,21)
DTSTART;TZID=Europe/Berlin:20250928T140000
DTEND;TZID=Europe/Berlin:20250928T160000
LOCATION:TĚLOVÝCHOVNÁ JEDNOTA LOKOMOTIVA z. s.\, Třebízského 1044 České Bud
 ějovice - České Budějovice 5
SUMMARY:JC-U16Z1-1A: Č. Budějovice-Volejbal Tábor A
END:VEVENT
END:VCALENDAR
