BEGIN:VCALENDAR
VERSION:2.0
PRODID:-//OLK-U16Z-1C//NONSGML kigkonsult.se iCalcreator 2.41.80//
CALSCALE:GREGORIAN
UID:65376439-6361-4934-b965-353339666238
BEGIN:VEVENT
UID:62343038-3262-4263-a662-646338653330
DTSTAMP:20260421T231742Z
DESCRIPTION:1/1 Prostějov B - Šternberk A 2:0 (12\,16)\nKurt B
DTSTART;TZID=Europe/Berlin:20251012T090000
DTEND;TZID=Europe/Berlin:20251012T110000
LOCATION:3. ZŠ Šumperk\, 8. května 870 Šumperk
SUMMARY:OLK-U16Z-1C: Prostějov B-Šternberk A
END:VEVENT
BEGIN:VEVENT
UID:34306361-3736-4533-b663-326535653933
DTSTAMP:20260421T231742Z
DESCRIPTION:1/2 TJ Šumperk A - TJ Šumperk B 0:2 (-21\,-17)\nKurt A
DTSTART;TZID=Europe/Berlin:20251012T090000
DTEND;TZID=Europe/Berlin:20251012T110000
LOCATION:3. ZŠ Šumperk\, 8. května 870 Šumperk
SUMMARY:OLK-U16Z-1C: TJ Šumperk A-TJ Šumperk B
END:VEVENT
BEGIN:VEVENT
UID:35316162-3735-4834-a164-363563646133
DTSTAMP:20260421T231742Z
DESCRIPTION:2/3 Šternberk A - TJ Šumperk B 1:2 (-22\,18\,-9)\nKurt B
DTSTART;TZID=Europe/Berlin:20251012T101500
DTEND;TZID=Europe/Berlin:20251012T121500
LOCATION:3. ZŠ Šumperk\, 8. května 870 Šumperk
SUMMARY:OLK-U16Z-1C: Šternberk A-TJ Šumperk B
END:VEVENT
BEGIN:VEVENT
UID:64613230-3138-4539-b163-636133356435
DTSTAMP:20260421T231742Z
DESCRIPTION:2/4 Prostějov B - TJ Šumperk A 2:1 (-24\,13\,8)\nKurt A
DTSTART;TZID=Europe/Berlin:20251012T101500
DTEND;TZID=Europe/Berlin:20251012T121500
LOCATION:3. ZŠ Šumperk\, 8. května 870 Šumperk
SUMMARY:OLK-U16Z-1C: Prostějov B-TJ Šumperk A
END:VEVENT
BEGIN:VEVENT
UID:66643033-3136-4439-b562-383037613935
DTSTAMP:20260421T231742Z
DESCRIPTION:3/5 TJ Šumperk A - Šternberk A 1:2 (21\,-22\,-12)\nKurt A
DTSTART;TZID=Europe/Berlin:20251012T113000
DTEND;TZID=Europe/Berlin:20251012T133000
LOCATION:3. ZŠ Šumperk\, 8. května 870 Šumperk
SUMMARY:OLK-U16Z-1C: TJ Šumperk A-Šternberk A
END:VEVENT
BEGIN:VEVENT
UID:37306635-3661-4333-b834-346231373262
DTSTAMP:20260421T231742Z
DESCRIPTION:3/6 TJ Šumperk B - Prostějov B 0:2 (-18\,-13)\nKurt B
DTSTART;TZID=Europe/Berlin:20251012T113000
DTEND;TZID=Europe/Berlin:20251012T133000
LOCATION:3. ZŠ Šumperk\, 8. května 870 Šumperk
SUMMARY:OLK-U16Z-1C: TJ Šumperk B-Prostějov B
END:VEVENT
END:VCALENDAR
