BEGIN:VCALENDAR
VERSION:2.0
PRODID:-//OLK-U14Z-1B//NONSGML kigkonsult.se iCalcreator 2.41.80//
CALSCALE:GREGORIAN
UID:64323730-6430-4734-b962-396166623130
BEGIN:VEVENT
UID:62333336-3761-4762-b062-356335396336
DTSTAMP:20260421T153344Z
DESCRIPTION:1/1 TJ Šumperk - Prostějov B 0:2 (-18\,-8)
DTSTART;TZID=Europe/Berlin:20251005T090000
DTEND;TZID=Europe/Berlin:20251005T110000
LOCATION:Letní hala u zimního stadionu\, Kostelecká 3113 Prostějov
SUMMARY:OLK-U14Z-1B: TJ Šumperk-Prostějov B
END:VEVENT
BEGIN:VEVENT
UID:33643137-3535-4563-b430-633934303033
DTSTAMP:20260421T153344Z
DESCRIPTION:2/2 Šternberk - TJ Sokol Mohelnice 2:1 (16\,-23\,8)
DTSTART;TZID=Europe/Berlin:20251005T090000
DTEND;TZID=Europe/Berlin:20251005T110000
LOCATION:Letní hala u zimního stadionu\, Kostelecká 3113 Prostějov
SUMMARY:OLK-U14Z-1B: Šternberk-TJ Sokol Mohelnice
END:VEVENT
BEGIN:VEVENT
UID:34373132-3364-4232-b031-306161353361
DTSTAMP:20260421T153344Z
DESCRIPTION:3/3 Prostějov B - TJ Sokol Mohelnice 0:2 (-20\,-20)
DTSTART;TZID=Europe/Berlin:20251005T100000
DTEND;TZID=Europe/Berlin:20251005T120000
LOCATION:Letní hala u zimního stadionu\, Kostelecká 3113 Prostějov
SUMMARY:OLK-U14Z-1B: Prostějov B-TJ Sokol Mohelnice
END:VEVENT
BEGIN:VEVENT
UID:37336666-3036-4138-a231-326138303530
DTSTAMP:20260421T153344Z
DESCRIPTION:4/4 TJ Šumperk - Šternberk 0:2 (-12\,-4)
DTSTART;TZID=Europe/Berlin:20251005T100000
DTEND;TZID=Europe/Berlin:20251005T120000
LOCATION:Letní hala u zimního stadionu\, Kostelecká 3113 Prostějov
SUMMARY:OLK-U14Z-1B: TJ Šumperk-Šternberk
END:VEVENT
BEGIN:VEVENT
UID:38613438-6166-4665-a233-323639356635
DTSTAMP:20260421T153344Z
DESCRIPTION:5/5 TJ Šumperk - TJ Sokol Mohelnice 0:2 (-8\,-16)
DTSTART;TZID=Europe/Berlin:20251005T110000
DTEND;TZID=Europe/Berlin:20251005T130000
LOCATION:Letní hala u zimního stadionu\, Kostelecká 3113 Prostějov
SUMMARY:OLK-U14Z-1B: TJ Šumperk-TJ Sokol Mohelnice
END:VEVENT
BEGIN:VEVENT
UID:64313763-6337-4331-b162-396465343635
DTSTAMP:20260421T153344Z
DESCRIPTION:6/6 Šternberk - Prostějov B 2:0 (23\,14)
DTSTART;TZID=Europe/Berlin:20251005T110000
DTEND;TZID=Europe/Berlin:20251005T130000
LOCATION:Letní hala u zimního stadionu\, Kostelecká 3113 Prostějov
SUMMARY:OLK-U14Z-1B: Šternberk-Prostějov B
END:VEVENT
END:VCALENDAR
