BEGIN:VCALENDAR
VERSION:2.0
PRODID:-//PP-U22Z-1-A//NONSGML kigkonsult.se iCalcreator 2.41.80//
CALSCALE:GREGORIAN
UID:63373830-3030-4533-a565-306166306231
BEGIN:VEVENT
UID:39376538-3132-4137-a339-363864376137
DTSTAMP:20260421T223038Z
DESCRIPTION:1/1 SK Kometa Praha A - Orion Praha B 1:2 (22\,-18\,-8)
DTSTART;TZID=Europe/Berlin:20251011T090000
DTEND;TZID=Europe/Berlin:20251011T110000
LOCATION:ZŠ Dolní Břežany\, Na Vršku 290 Dolní Břežany
SUMMARY:PP-U22Z-1-A: SK Kometa Praha A-Orion Praha B
END:VEVENT
BEGIN:VEVENT
UID:36353931-3763-4130-b431-643233663633
DTSTAMP:20260421T223038Z
DESCRIPTION:2/2 Braník - SAVO 2:1 (-20\,16\,13)
DTSTART;TZID=Europe/Berlin:20251011T100000
DTEND;TZID=Europe/Berlin:20251011T120000
LOCATION:ZŠ Dolní Břežany\, Na Vršku 290 Dolní Břežany
SUMMARY:PP-U22Z-1-A: Braník-SAVO
END:VEVENT
BEGIN:VEVENT
UID:30396130-6466-4366-b838-653936646431
DTSTAMP:20260421T223038Z
DESCRIPTION:3/3 Orion Praha B - SAVO 2:1 (20\,-13\,9)
DTSTART;TZID=Europe/Berlin:20251011T110000
DTEND;TZID=Europe/Berlin:20251011T130000
LOCATION:ZŠ Dolní Břežany\, Na Vršku 290 Dolní Břežany
SUMMARY:PP-U22Z-1-A: Orion Praha B-SAVO
END:VEVENT
BEGIN:VEVENT
UID:34663865-6531-4439-b332-623461666139
DTSTAMP:20260421T223038Z
DESCRIPTION:4/4 SK Kometa Praha A - Braník 0:2 (-15\,-20)
DTSTART;TZID=Europe/Berlin:20251011T120000
DTEND;TZID=Europe/Berlin:20251011T140000
LOCATION:ZŠ Dolní Břežany\, Na Vršku 290 Dolní Břežany
SUMMARY:PP-U22Z-1-A: SK Kometa Praha A-Braník
END:VEVENT
BEGIN:VEVENT
UID:38306461-6637-4165-a638-663131646566
DTSTAMP:20260421T223038Z
DESCRIPTION:5/5 Braník - Orion Praha B 2:0 (16\,18)
DTSTART;TZID=Europe/Berlin:20251011T130000
DTEND;TZID=Europe/Berlin:20251011T150000
LOCATION:ZŠ Dolní Břežany\, Na Vršku 290 Dolní Břežany
SUMMARY:PP-U22Z-1-A: Braník-Orion Praha B
END:VEVENT
BEGIN:VEVENT
UID:30336662-3031-4435-a364-313066613837
DTSTAMP:20260421T223038Z
DESCRIPTION:6/6 SAVO - SK Kometa Praha A 2:0 (26\,13)
DTSTART;TZID=Europe/Berlin:20251011T140000
DTEND;TZID=Europe/Berlin:20251011T160000
LOCATION:ZŠ Dolní Břežany\, Na Vršku 290 Dolní Břežany
SUMMARY:PP-U22Z-1-A: SAVO-SK Kometa Praha A
END:VEVENT
END:VCALENDAR
