BEGIN:VCALENDAR
VERSION:2.0
PRODID:-//JC-U18Z-2B2//NONSGML kigkonsult.se iCalcreator 2.41.80//
CALSCALE:GREGORIAN
UID:65306535-3035-4364-b439-376362303164
BEGIN:VEVENT
UID:65373430-3931-4336-b836-353036643333
DTSTAMP:20260425T103554Z
DESCRIPTION:1/1 SK TŘEBÍN B - Volejbal Trhové Sviny 3:0 (13\,12\,16)
DTSTART;TZID=Europe/Berlin:20251004T090000
DTEND;TZID=Europe/Berlin:20251004T110000
LOCATION:ZŠ Máj I\, M. Chlajna 1319 České Budějovice - České Budějovice 2
SUMMARY:JC-U18Z-2B2: SK TŘEBÍN B-Volejbal Trhové Sviny
END:VEVENT
BEGIN:VEVENT
UID:66303233-6565-4334-b565-346166626632
DTSTAMP:20260425T103554Z
DESCRIPTION:1/2 VSK Slavia JU CB - SK TŘEBÍN B 0:3 (-20\,-19\,-22)
DTSTART;TZID=Europe/Berlin:20251004T103000
DTEND;TZID=Europe/Berlin:20251004T123000
LOCATION:ZŠ Máj I\, M. Chlajna 1319 České Budějovice - České Budějovice 2
SUMMARY:JC-U18Z-2B2: VSK Slavia JU CB-SK TŘEBÍN B
END:VEVENT
BEGIN:VEVENT
UID:61346263-6261-4138-b734-663133653263
DTSTAMP:20260425T103554Z
DESCRIPTION:1/3 Volejbal Trhové Sviny - VSK Slavia JU CB 3:0 (15\,12\,15)
DTSTART;TZID=Europe/Berlin:20251004T120000
DTEND;TZID=Europe/Berlin:20251004T140000
LOCATION:ZŠ Máj I\, M. Chlajna 1319 České Budějovice - České Budějovice 2
SUMMARY:JC-U18Z-2B2: Volejbal Trhové Sviny-VSK Slavia JU CB
END:VEVENT
END:VCALENDAR
