BEGIN:VCALENDAR
VERSION:2.0
PRODID:-//JC-U18Z-2C2//NONSGML kigkonsult.se iCalcreator 2.41.80//
CALSCALE:GREGORIAN
UID:62393966-6662-4161-b661-363066656536
BEGIN:VEVENT
UID:35663732-3233-4938-b434-396166376534
DTSTAMP:20260424T201853Z
DESCRIPTION:1/1 J. Hradec B - Prachatice B 3:2 (-16\,-20\,17\,17\,15)
DTSTART;TZID=Europe/Berlin:20251004T090000
DTEND;TZID=Europe/Berlin:20251004T110000
LOCATION:ZŠ Máj I\, M. Chlajna 1319 České Budějovice - České Budějovice 2
SUMMARY:JC-U18Z-2C2: J. Hradec B-Prachatice B
END:VEVENT
BEGIN:VEVENT
UID:33303737-6337-4838-b035-306131626331
DTSTAMP:20260424T201853Z
DESCRIPTION:1/2 VSK ČK B - J. Hradec B 3:0 (12\,14\,20)
DTSTART;TZID=Europe/Berlin:20251004T103000
DTEND;TZID=Europe/Berlin:20251004T123000
LOCATION:ZŠ Máj I\, M. Chlajna 1319 České Budějovice - České Budějovice 2
SUMMARY:JC-U18Z-2C2: VSK ČK B-J. Hradec B
END:VEVENT
BEGIN:VEVENT
UID:61383061-6334-4433-b763-393832616636
DTSTAMP:20260424T201853Z
DESCRIPTION:1/3 Prachatice B - VSK ČK B 0:3 (-21\,-10\,-11)
DTSTART;TZID=Europe/Berlin:20251004T120000
DTEND;TZID=Europe/Berlin:20251004T140000
LOCATION:ZŠ Máj I\, M. Chlajna 1319 České Budějovice - České Budějovice 2
SUMMARY:JC-U18Z-2C2: Prachatice B-VSK ČK B
END:VEVENT
END:VCALENDAR
