BEGIN:VCALENDAR
VERSION:2.0
PRODID:-//EX-U22Z-2D//NONSGML kigkonsult.se iCalcreator 2.41.80//
CALSCALE:GREGORIAN
UID:33373439-3066-4662-a563-616538336534
BEGIN:VEVENT
UID:33366131-6434-4633-b135-653565363762
DTSTAMP:20260424T034523Z
DESCRIPTION:1/1 Plzeň - Č. Budějovice 3:0 (14\,24\,24)
DTSTART;TZID=Europe/Berlin:20251019T100000
DTEND;TZID=Europe/Berlin:20251019T120000
LOCATION:Sportovní hala - SG Plzeň\, Vejprnická 663 Plzeň - Skvrňany
SUMMARY:EX-U22Z-2D: Plzeň-Č. Budějovice
END:VEVENT
BEGIN:VEVENT
UID:63313333-3462-4032-b036-663635646237
DTSTAMP:20260424T034523Z
DESCRIPTION:1/2 Č. Budějovice - Ostrava 1:3 (15\,-21\,-13\,-17)
DTSTART;TZID=Europe/Berlin:20251019T133000
DTEND;TZID=Europe/Berlin:20251019T153000
LOCATION:Sportovní hala - SG Plzeň\, Vejprnická 663 Plzeň - Skvrňany
SUMMARY:EX-U22Z-2D: Č. Budějovice-Ostrava
END:VEVENT
BEGIN:VEVENT
UID:62393661-6531-4665-a465-363331393663
DTSTAMP:20260424T034523Z
DESCRIPTION:1/3 Ostrava - Plzeň 3:0 (18\,21\,25)
DTSTART;TZID=Europe/Berlin:20251019T170000
DTEND;TZID=Europe/Berlin:20251019T190000
LOCATION:Sportovní hala - SG Plzeň\, Vejprnická 663 Plzeň - Skvrňany
SUMMARY:EX-U22Z-2D: Ostrava-Plzeň
END:VEVENT
END:VCALENDAR
