BEGIN:VCALENDAR
VERSION:2.0
PRODID:-//PP-U20M-T1-2//NONSGML kigkonsult.se iCalcreator 2.41.80//
CALSCALE:GREGORIAN
UID:30636561-6330-4535-b132-393331326231
BEGIN:VEVENT
UID:34623361-3962-4062-b532-373736646332
DTSTAMP:20260424T233537Z
DESCRIPTION:1/1 SK Meteor Praha B - Ace Volleyball Academy z.s. 0:2 (-22\,-
 23)
DTSTART;TZID=Europe/Berlin:20251012T090000
DTEND;TZID=Europe/Berlin:20251012T110000
LOCATION:ZŠ Na Líše\, Na líše 936 Praha - Michle
SUMMARY:PP-U20M-T1-2: SK Meteor Praha B-Ace Volleyball Academy z.s.
END:VEVENT
BEGIN:VEVENT
UID:33333263-6533-4664-b231-356139373837
DTSTAMP:20260424T233537Z
DESCRIPTION:2/2 Vršovice - SK Meteor Praha C 1:2 (21\,-19\,-13)
DTSTART;TZID=Europe/Berlin:20251012T100000
DTEND;TZID=Europe/Berlin:20251012T120000
LOCATION:ZŠ Na Líše\, Na líše 936 Praha - Michle
SUMMARY:PP-U20M-T1-2: Vršovice-SK Meteor Praha C
END:VEVENT
BEGIN:VEVENT
UID:66663232-3238-4361-a334-623730633164
DTSTAMP:20260424T233537Z
DESCRIPTION:3/3 Ace Volleyball Academy z.s. - SK Meteor Praha C 2:0 (22\,21
 )
DTSTART;TZID=Europe/Berlin:20251012T110000
DTEND;TZID=Europe/Berlin:20251012T130000
LOCATION:ZŠ Na Líše\, Na líše 936 Praha - Michle
SUMMARY:PP-U20M-T1-2: Ace Volleyball Academy z.s.-SK Meteor Praha C
END:VEVENT
BEGIN:VEVENT
UID:36643539-6230-4238-a364-363263386664
DTSTAMP:20260424T233537Z
DESCRIPTION:4/4 SK Meteor Praha B - Vršovice 2:0 (22\,19)
DTSTART;TZID=Europe/Berlin:20251012T120000
DTEND;TZID=Europe/Berlin:20251012T140000
LOCATION:ZŠ Na Líše\, Na líše 936 Praha - Michle
SUMMARY:PP-U20M-T1-2: SK Meteor Praha B-Vršovice
END:VEVENT
BEGIN:VEVENT
UID:36336239-3937-4861-b664-356132353565
DTSTAMP:20260424T233537Z
DESCRIPTION:5/5 Vršovice - Ace Volleyball Academy z.s. 2:1 (23\,-23\,14)
DTSTART;TZID=Europe/Berlin:20251012T130000
DTEND;TZID=Europe/Berlin:20251012T150000
LOCATION:ZŠ Na Líše\, Na líše 936 Praha - Michle
SUMMARY:PP-U20M-T1-2: Vršovice-Ace Volleyball Academy z.s.
END:VEVENT
BEGIN:VEVENT
UID:36346666-6463-4761-a235-653539366538
DTSTAMP:20260424T233537Z
DESCRIPTION:6/6 SK Meteor Praha C - SK Meteor Praha B 0:2 (-17\,-17)
DTSTART;TZID=Europe/Berlin:20251012T140000
DTEND;TZID=Europe/Berlin:20251012T160000
LOCATION:ZŠ Na Líše\, Na líše 936 Praha - Michle
SUMMARY:PP-U20M-T1-2: SK Meteor Praha C-SK Meteor Praha B
END:VEVENT
END:VCALENDAR
