BEGIN:VCALENDAR
VERSION:2.0
PRODID:-//MS-U14Z-T1B//NONSGML kigkonsult.se iCalcreator 2.41.80//
CALSCALE:GREGORIAN
UID:33386466-3331-4439-b766-343233386639
BEGIN:VEVENT
UID:32326432-3037-4234-a637-623534333035
DTSTAMP:20260422T221345Z
DESCRIPTION:1/1 KV Kopřivnice - ŠSK Bílovec 2:0 (14\,19)
DTSTART;TZID=Europe/Berlin:20251101T090000
DTEND;TZID=Europe/Berlin:20251101T110000
LOCATION:Tělocvičny ZŠ 17.listopadu Kopřivnice\, 17. listopadu 1225 Kopřivn
 ice
SUMMARY:MS-U14Z-T1B: KV Kopřivnice-ŠSK Bílovec
END:VEVENT
BEGIN:VEVENT
UID:37303438-6230-4832-a565-666237616263
DTSTAMP:20260422T221345Z
DESCRIPTION:2/2 KV Kopřivnice - VK Raškovice 2:0 (15\,18)
DTSTART;TZID=Europe/Berlin:20251101T103000
DTEND;TZID=Europe/Berlin:20251101T123000
LOCATION:Tělocvičny ZŠ 17.listopadu Kopřivnice\, 17. listopadu 1225 Kopřivn
 ice
SUMMARY:MS-U14Z-T1B: KV Kopřivnice-VK Raškovice
END:VEVENT
BEGIN:VEVENT
UID:36353139-6265-4534-b862-306361323931
DTSTAMP:20260422T221345Z
DESCRIPTION:3/3 VK Raškovice - ŠSK Bílovec 2:0 (23\,25)
DTSTART;TZID=Europe/Berlin:20251101T120000
DTEND;TZID=Europe/Berlin:20251101T140000
LOCATION:Tělocvičny ZŠ 17.listopadu Kopřivnice\, 17. listopadu 1225 Kopřivn
 ice
SUMMARY:MS-U14Z-T1B: VK Raškovice-ŠSK Bílovec
END:VEVENT
BEGIN:VEVENT
UID:32376136-3666-4039-b862-323566646631
DTSTAMP:20260422T221345Z
DESCRIPTION:3/4 TJ Ostrava A - KV Kopřivnice 0:2 (-7\,-9)
DTSTART;TZID=Europe/Berlin:20251101T120000
DTEND;TZID=Europe/Berlin:20251101T140000
LOCATION:Tělocvičny ZŠ 17.listopadu Kopřivnice\, 17. listopadu 1225 Kopřivn
 ice
SUMMARY:MS-U14Z-T1B: TJ Ostrava A-KV Kopřivnice
END:VEVENT
BEGIN:VEVENT
UID:32656463-3836-4336-a235-376135363433
DTSTAMP:20260422T221345Z
DESCRIPTION:4/5 TJ Ostrava A - ŠSK Bílovec 0:2 (-18\,-16)
DTSTART;TZID=Europe/Berlin:20251101T133000
DTEND;TZID=Europe/Berlin:20251101T153000
LOCATION:Tělocvičny ZŠ 17.listopadu Kopřivnice\, 17. listopadu 1225 Kopřivn
 ice
SUMMARY:MS-U14Z-T1B: TJ Ostrava A-ŠSK Bílovec
END:VEVENT
BEGIN:VEVENT
UID:63383430-6531-4538-b437-623936386431
DTSTAMP:20260422T221345Z
DESCRIPTION:5/6 VK Raškovice - TJ Ostrava A 2:0 (15\,22)
DTSTART;TZID=Europe/Berlin:20251101T150000
DTEND;TZID=Europe/Berlin:20251101T170000
LOCATION:Tělocvičny ZŠ 17.listopadu Kopřivnice\, 17. listopadu 1225 Kopřivn
 ice
SUMMARY:MS-U14Z-T1B: VK Raškovice-TJ Ostrava A
END:VEVENT
END:VCALENDAR
