BEGIN:VCALENDAR
VERSION:2.0
PRODID:-//MS-U14Z-T1C//NONSGML kigkonsult.se iCalcreator 2.41.80//
CALSCALE:GREGORIAN
UID:64363263-3132-4830-b434-666535393031
BEGIN:VEVENT
UID:32393039-6261-4166-a564-633564616634
DTSTAMP:20260422T075417Z
DESCRIPTION:1/1 VK Polanka 'B' - TJ Frenštát p/R 0:2 (-22\,-23)
DTSTART;TZID=Europe/Berlin:20251101T090000
DTEND;TZID=Europe/Berlin:20251101T110000
LOCATION:Sportovní hala Žákovská\, Komunardů 1548 Havířov - Město
SUMMARY:MS-U14Z-T1C: VK Polanka 'B'-TJ Frenštát p/R
END:VEVENT
BEGIN:VEVENT
UID:30343938-3061-4237-a239-383931393966
DTSTAMP:20260422T075417Z
DESCRIPTION:1/2 VKB Frýdlant n.O. - VAM Havířov 2:0 (18\,13)
DTSTART;TZID=Europe/Berlin:20251101T090000
DTEND;TZID=Europe/Berlin:20251101T110000
LOCATION:Sportovní hala Žákovská\, Komunardů 1548 Havířov - Město
SUMMARY:MS-U14Z-T1C: VKB Frýdlant n.O.-VAM Havířov
END:VEVENT
BEGIN:VEVENT
UID:34323330-3530-4534-b036-373161613764
DTSTAMP:20260422T075417Z
DESCRIPTION:2/3 VK Polanka 'B' - VKB Frýdlant n.O. 0:2 (-9\,-10)
DTSTART;TZID=Europe/Berlin:20251101T103000
DTEND;TZID=Europe/Berlin:20251101T123000
LOCATION:Sportovní hala Žákovská\, Komunardů 1548 Havířov - Město
SUMMARY:MS-U14Z-T1C: VK Polanka 'B'-VKB Frýdlant n.O.
END:VEVENT
BEGIN:VEVENT
UID:35626635-3637-4533-a135-666633343766
DTSTAMP:20260422T075417Z
DESCRIPTION:2/4 TJ Frenštát p/R - VAM Havířov 1:2 (-17\,16\,-11)
DTSTART;TZID=Europe/Berlin:20251101T103000
DTEND;TZID=Europe/Berlin:20251101T123000
LOCATION:Sportovní hala Žákovská\, Komunardů 1548 Havířov - Město
SUMMARY:MS-U14Z-T1C: TJ Frenštát p/R-VAM Havířov
END:VEVENT
BEGIN:VEVENT
UID:39646236-3838-4163-b937-373963343234
DTSTAMP:20260422T075417Z
DESCRIPTION:3/5 VAM Havířov - VK Polanka 'B' 2:0 (18\,13)
DTSTART;TZID=Europe/Berlin:20251101T120000
DTEND;TZID=Europe/Berlin:20251101T140000
LOCATION:Sportovní hala Žákovská\, Komunardů 1548 Havířov - Město
SUMMARY:MS-U14Z-T1C: VAM Havířov-VK Polanka 'B'
END:VEVENT
BEGIN:VEVENT
UID:31663838-6131-4238-b564-323139623734
DTSTAMP:20260422T075417Z
DESCRIPTION:3/6 TJ Frenštát p/R - VKB Frýdlant n.O. 1:2 (18\,-18\,-6)
DTSTART;TZID=Europe/Berlin:20251101T120000
DTEND;TZID=Europe/Berlin:20251101T140000
LOCATION:Sportovní hala Žákovská\, Komunardů 1548 Havířov - Město
SUMMARY:MS-U14Z-T1C: TJ Frenštát p/R-VKB Frýdlant n.O.
END:VEVENT
END:VCALENDAR
