BEGIN:VCALENDAR
VERSION:2.0
PRODID:-//LIB-U16Z-K-G//NONSGML kigkonsult.se iCalcreator 2.41.80//
CALSCALE:GREGORIAN
UID:65653765-3433-4739-b036-386131366230
BEGIN:VEVENT
UID:31666564-3032-4331-b230-656530383866
DTSTAMP:20260422T065138Z
DESCRIPTION:1/2 Vrtule Frýdlant\, z.s. - Tělovýchovná jednota Jiskra Nový B
 or\, z.s. 2:0 (14\,8)
DTSTART;TZID=Europe/Berlin:20251012T090000
DTEND;TZID=Europe/Berlin:20251012T110000
LOCATION:Střední škola hospodářská a lesnická \, Bělíkova 1387 Frýdlant
SUMMARY:LIB-U16Z-K-G: Vrtule Frýdlant\, z.s.-Tělovýchovná jednota Jiskra No
 vý Bor\, z.s.
END:VEVENT
BEGIN:VEVENT
UID:63643337-6530-4436-b932-333865313363
DTSTAMP:20260422T065138Z
DESCRIPTION:2/6 Liberec - TJ Bižuterie Jablonec n/N B 2:0 (9\,13)
DTSTART;TZID=Europe/Berlin:20251012T100000
DTEND;TZID=Europe/Berlin:20251012T120000
LOCATION:Dukla Liberec\, Jeronýmova 558 Liberec - Liberec VII-Horní Růžodol
SUMMARY:LIB-U16Z-K-G: Liberec-TJ Bižuterie Jablonec n/N B
END:VEVENT
BEGIN:VEVENT
UID:64613030-3732-4266-b339-623839653036
DTSTAMP:20260422T065138Z
DESCRIPTION:3/10 Liberec - Tělovýchovná jednota Jiskra Nový Bor\, z.s. 2:0 
 (7\,9)
DTSTART;TZID=Europe/Berlin:20251012T110000
DTEND;TZID=Europe/Berlin:20251012T130000
LOCATION:Dukla Liberec\, Jeronýmova 558 Liberec - Liberec VII-Horní Růžodol
SUMMARY:LIB-U16Z-K-G: Liberec-Tělovýchovná jednota Jiskra Nový Bor\, z.s.
END:VEVENT
BEGIN:VEVENT
UID:36363765-3639-4663-a135-643636386231
DTSTAMP:20260422T065138Z
DESCRIPTION:4/14 Vrtule Frýdlant\, z.s. - TJ Bižuterie Jablonec n/N B 0:2 (
 -13\,-19)
DTSTART;TZID=Europe/Berlin:20251012T120000
DTEND;TZID=Europe/Berlin:20251012T140000
LOCATION:Střední škola hospodářská a lesnická \, Bělíkova 1387 Frýdlant
SUMMARY:LIB-U16Z-K-G: Vrtule Frýdlant\, z.s.-TJ Bižuterie Jablonec n/N B
END:VEVENT
BEGIN:VEVENT
UID:62653763-3236-4239-b162-633333656634
DTSTAMP:20260422T065138Z
DESCRIPTION:5/18 Liberec - Vrtule Frýdlant\, z.s. 2:0 (7\,10)
DTSTART;TZID=Europe/Berlin:20251012T130000
DTEND;TZID=Europe/Berlin:20251012T150000
LOCATION:Dukla Liberec\, Jeronýmova 558 Liberec - Liberec VII-Horní Růžodol
SUMMARY:LIB-U16Z-K-G: Liberec-Vrtule Frýdlant\, z.s.
END:VEVENT
BEGIN:VEVENT
UID:35313737-3033-4136-b462-356465613632
DTSTAMP:20260422T065138Z
DESCRIPTION:6/22 TJ Bižuterie Jablonec n/N B - Tělovýchovná jednota Jiskra 
 Nový Bor\, z.s. 2:0 (4\,8)
DTSTART;TZID=Europe/Berlin:20251012T140000
DTEND;TZID=Europe/Berlin:20251012T160000
LOCATION:Městská sportovní hala\, U Přehrady 4747 Jablonec nad Nisou
SUMMARY:LIB-U16Z-K-G: TJ Bižuterie Jablonec n/N B-Tělovýchovná jednota Jisk
 ra Nový Bor\, z.s.
END:VEVENT
END:VCALENDAR
