BEGIN:VCALENDAR
VERSION:2.0
PRODID:-//OLK-U16Z-2A//NONSGML kigkonsult.se iCalcreator 2.41.80//
CALSCALE:GREGORIAN
UID:63386262-3964-4566-b136-356237636137
BEGIN:VEVENT
UID:38313635-3565-4463-b232-393938653536
DTSTAMP:20260422T052933Z
DESCRIPTION:1/1 Prostějov - VK Olomouc B 2:0 (17\,16)\nKurt A
DTSTART;TZID=Europe/Berlin:20251109T090000
DTEND;TZID=Europe/Berlin:20251109T110000
LOCATION:Národní sportovní centrum\, Za velodromem 4187 Prostějov
SUMMARY:OLK-U16Z-2A: Prostějov-VK Olomouc B
END:VEVENT
BEGIN:VEVENT
UID:31366238-3739-4962-b433-613233326537
DTSTAMP:20260422T052933Z
DESCRIPTION:1/2 Olomouc - VAM Olomouc 2:0 (11\,19)\nKurt B
DTSTART;TZID=Europe/Berlin:20251109T090000
DTEND;TZID=Europe/Berlin:20251109T110000
LOCATION:Národní sportovní centrum\, Za velodromem 4187 Prostějov
SUMMARY:OLK-U16Z-2A: Olomouc-VAM Olomouc
END:VEVENT
BEGIN:VEVENT
UID:61313836-3062-4261-b339-346334353534
DTSTAMP:20260422T052933Z
DESCRIPTION:2/3 VK Olomouc B - VAM Olomouc 0:2 (-7\,-22)\nKurt B
DTSTART;TZID=Europe/Berlin:20251109T110000
DTEND;TZID=Europe/Berlin:20251109T130000
LOCATION:Národní sportovní centrum\, Za velodromem 4187 Prostějov
SUMMARY:OLK-U16Z-2A: VK Olomouc B-VAM Olomouc
END:VEVENT
BEGIN:VEVENT
UID:36373833-3164-4130-b565-383939363631
DTSTAMP:20260422T052933Z
DESCRIPTION:2/4 Prostějov - Olomouc 2:0 (16\,23)\nKurt A
DTSTART;TZID=Europe/Berlin:20251109T110000
DTEND;TZID=Europe/Berlin:20251109T130000
LOCATION:Národní sportovní centrum\, Za velodromem 4187 Prostějov
SUMMARY:OLK-U16Z-2A: Prostějov-Olomouc
END:VEVENT
BEGIN:VEVENT
UID:32623139-6436-4838-b130-663837396337
DTSTAMP:20260422T052933Z
DESCRIPTION:3/5 Olomouc - VK Olomouc B 2:0 (23\,18)\nKurt B
DTSTART;TZID=Europe/Berlin:20251109T130000
DTEND;TZID=Europe/Berlin:20251109T150000
LOCATION:Národní sportovní centrum\, Za velodromem 4187 Prostějov
SUMMARY:OLK-U16Z-2A: Olomouc-VK Olomouc B
END:VEVENT
BEGIN:VEVENT
UID:30636338-3661-4533-b063-616536396232
DTSTAMP:20260422T052933Z
DESCRIPTION:3/6 VAM Olomouc - Prostějov 0:2 (-17\,-21)\nKurt A
DTSTART;TZID=Europe/Berlin:20251109T130000
DTEND;TZID=Europe/Berlin:20251109T150000
LOCATION:Národní sportovní centrum\, Za velodromem 4187 Prostějov
SUMMARY:OLK-U16Z-2A: VAM Olomouc-Prostějov
END:VEVENT
END:VCALENDAR
