BEGIN:VCALENDAR
VERSION:2.0
PRODID:-//MS-U16Z-T2E//NONSGML kigkonsult.se iCalcreator 2.41.80//
CALSCALE:GREGORIAN
UID:39366461-6165-4466-b236-643438663966
BEGIN:VEVENT
UID:62353238-3762-4232-b961-316337323832
DTSTAMP:20260425T031236Z
DESCRIPTION:1/1 TJ Sokol Vratimov - VKB Frýdlant n.O. ' B ' 2:1 (-24\,24\,1
 5)
DTSTART;TZID=Europe/Berlin:20251109T090000
DTEND;TZID=Europe/Berlin:20251109T110000
LOCATION:Sokolovna\, Sokolská 290 Vratimov
SUMMARY:MS-U16Z-T2E: TJ Sokol Vratimov-VKB Frýdlant n.O. ' B '
END:VEVENT
BEGIN:VEVENT
UID:62636539-3137-4266-b064-666239326434
DTSTAMP:20260425T031237Z
DESCRIPTION:2/2 VO Sl. Orlice - SVK Nový Jičín B 0:2 (-12\,-7)
DTSTART;TZID=Europe/Berlin:20251109T103000
DTEND;TZID=Europe/Berlin:20251109T123000
LOCATION:Sokolovna\, Sokolská 290 Vratimov
SUMMARY:MS-U16Z-T2E: VO Sl. Orlice-SVK Nový Jičín B
END:VEVENT
BEGIN:VEVENT
UID:34373265-3730-4633-a464-653863326565
DTSTAMP:20260425T031237Z
DESCRIPTION:3/3 VO Sl. Orlice - TJ Sokol Vratimov 0:2 (-16\,-20)
DTSTART;TZID=Europe/Berlin:20251109T120000
DTEND;TZID=Europe/Berlin:20251109T140000
LOCATION:Sokolovna\, Sokolská 290 Vratimov
SUMMARY:MS-U16Z-T2E: VO Sl. Orlice-TJ Sokol Vratimov
END:VEVENT
BEGIN:VEVENT
UID:62656661-6330-4335-a331-366230393165
DTSTAMP:20260425T031237Z
DESCRIPTION:4/4 VKB Frýdlant n.O. ' B ' - SVK Nový Jičín B 2:1 (22\,-29\,9)
DTSTART;TZID=Europe/Berlin:20251109T133000
DTEND;TZID=Europe/Berlin:20251109T153000
LOCATION:Sokolovna\, Sokolská 290 Vratimov
SUMMARY:MS-U16Z-T2E: VKB Frýdlant n.O. ' B '-SVK Nový Jičín B
END:VEVENT
BEGIN:VEVENT
UID:37333838-3262-4562-b462-376565373632
DTSTAMP:20260425T031237Z
DESCRIPTION:5/5 VO Sl. Orlice - VKB Frýdlant n.O. ' B ' 0:2 (-12\,-9)
DTSTART;TZID=Europe/Berlin:20251109T150000
DTEND;TZID=Europe/Berlin:20251109T170000
LOCATION:Sokolovna\, Sokolská 290 Vratimov
SUMMARY:MS-U16Z-T2E: VO Sl. Orlice-VKB Frýdlant n.O. ' B '
END:VEVENT
BEGIN:VEVENT
UID:66343236-3462-4139-b665-346361633463
DTSTAMP:20260425T031237Z
DESCRIPTION:6/6 TJ Sokol Vratimov - SVK Nový Jičín B 2:0 (22\,23)
DTSTART;TZID=Europe/Berlin:20251109T163000
DTEND;TZID=Europe/Berlin:20251109T183000
LOCATION:Sokolovna\, Sokolská 290 Vratimov
SUMMARY:MS-U16Z-T2E: TJ Sokol Vratimov-SVK Nový Jičín B
END:VEVENT
END:VCALENDAR
