BEGIN:VCALENDAR
VERSION:2.0
PRODID:-//PP-U20Z-2-E//NONSGML kigkonsult.se iCalcreator 2.41.80//
CALSCALE:GREGORIAN
UID:31383066-6537-4437-b730-636364616134
BEGIN:VEVENT
UID:66356166-3266-4563-b361-643732323430
DTSTAMP:20260424T080950Z
DESCRIPTION:1/1 SAVO - SK Kometa Praha B 2:1 (17\,-22\,11)
DTSTART;TZID=Europe/Berlin:20251109T090000
DTEND;TZID=Europe/Berlin:20251109T110000
LOCATION:Tělocvična ZŠ Na Šutce\, Na Šutce 440 Praha - Troja
SUMMARY:PP-U20Z-2-E: SAVO-SK Kometa Praha B
END:VEVENT
BEGIN:VEVENT
UID:62636564-3336-4537-a261-643962613137
DTSTAMP:20260424T080950Z
DESCRIPTION:2/2 SK Meteor Praha C - Mikulova C 2:0 (16\,13)
DTSTART;TZID=Europe/Berlin:20251109T100000
DTEND;TZID=Europe/Berlin:20251109T120000
LOCATION:Tělocvična ZŠ Na Šutce\, Na Šutce 440 Praha - Troja
SUMMARY:PP-U20Z-2-E: SK Meteor Praha C-Mikulova C
END:VEVENT
BEGIN:VEVENT
UID:38326136-3163-4531-b535-663930313664
DTSTAMP:20260424T080950Z
DESCRIPTION:3/3 SK Kometa Praha B - Mikulova C 2:1 (-13\,18\,10)
DTSTART;TZID=Europe/Berlin:20251109T110000
DTEND;TZID=Europe/Berlin:20251109T130000
LOCATION:Tělocvična ZŠ Na Šutce\, Na Šutce 440 Praha - Troja
SUMMARY:PP-U20Z-2-E: SK Kometa Praha B-Mikulova C
END:VEVENT
BEGIN:VEVENT
UID:35396263-3939-4337-b662-323635326134
DTSTAMP:20260424T080950Z
DESCRIPTION:4/4 SAVO - SK Meteor Praha C 0:2 (-6\,-10)
DTSTART;TZID=Europe/Berlin:20251109T120000
DTEND;TZID=Europe/Berlin:20251109T140000
LOCATION:Tělocvična ZŠ Na Šutce\, Na Šutce 440 Praha - Troja
SUMMARY:PP-U20Z-2-E: SAVO-SK Meteor Praha C
END:VEVENT
BEGIN:VEVENT
UID:30646666-3438-4362-b164-306138363464
DTSTAMP:20260424T080950Z
DESCRIPTION:5/5 SK Meteor Praha C - SK Kometa Praha B 2:0 (15\,14)
DTSTART;TZID=Europe/Berlin:20251109T130000
DTEND;TZID=Europe/Berlin:20251109T150000
LOCATION:Tělocvična ZŠ Na Šutce\, Na Šutce 440 Praha - Troja
SUMMARY:PP-U20Z-2-E: SK Meteor Praha C-SK Kometa Praha B
END:VEVENT
BEGIN:VEVENT
UID:39313933-3633-4232-a434-333865656635
DTSTAMP:20260424T080950Z
DESCRIPTION:6/6 Mikulova C - SAVO 1:2 (-19\,18\,-13)
DTSTART;TZID=Europe/Berlin:20251109T140000
DTEND;TZID=Europe/Berlin:20251109T160000
LOCATION:Tělocvična ZŠ Na Šutce\, Na Šutce 440 Praha - Troja
SUMMARY:PP-U20Z-2-E: Mikulova C-SAVO
END:VEVENT
END:VCALENDAR
