BEGIN:VCALENDAR
VERSION:2.0
PRODID:-//EX-U20M-3B//NONSGML kigkonsult.se iCalcreator 2.41.80//
CALSCALE:GREGORIAN
UID:61363661-6435-4330-b365-626461666139
BEGIN:VEVENT
UID:31626534-3962-4664-b030-306438326261
DTSTAMP:20260424T050725Z
DESCRIPTION:1/1 Kojetín - Brno 2:3 (21\,-20\,18\,-22\,-12)
DTSTART;TZID=Europe/Berlin:20251108T100000
DTEND;TZID=Europe/Berlin:20251108T120000
LOCATION:Městská sportovní hala\, Hanusíkova 1476 Kojetín - Kojetín I-Město
SUMMARY:EX-U20M-3B: Kojetín-Brno
END:VEVENT
BEGIN:VEVENT
UID:36643130-6137-4533-a163-333766663466
DTSTAMP:20260424T050725Z
DESCRIPTION:1/2 Green F.-M. - Blue Ostrava 0:3 (-21\,-21\,-13)
DTSTART;TZID=Europe/Berlin:20251108T120000
DTEND;TZID=Europe/Berlin:20251108T140000
LOCATION:Městská sportovní hala\, Hanusíkova 1476 Kojetín - Kojetín I-Město
SUMMARY:EX-U20M-3B: Green F.-M.-Blue Ostrava
END:VEVENT
BEGIN:VEVENT
UID:65353530-6561-4163-a632-616633303236
DTSTAMP:20260424T050725Z
DESCRIPTION:1/3 Kolín - Brno 0:3 (-19\,-18\,-13)
DTSTART;TZID=Europe/Berlin:20251108T140000
DTEND;TZID=Europe/Berlin:20251108T160000
LOCATION:Městská sportovní hala\, Hanusíkova 1476 Kojetín - Kojetín I-Město
SUMMARY:EX-U20M-3B: Kolín-Brno
END:VEVENT
BEGIN:VEVENT
UID:65653164-6431-4432-a130-333437383937
DTSTAMP:20260424T050725Z
DESCRIPTION:1/4 Kojetín - Green F.-M. 3:0 (23\,20\,14)
DTSTART;TZID=Europe/Berlin:20251108T160000
DTEND;TZID=Europe/Berlin:20251108T180000
LOCATION:Městská sportovní hala\, Hanusíkova 1476 Kojetín - Kojetín I-Město
SUMMARY:EX-U20M-3B: Kojetín-Green F.-M.
END:VEVENT
BEGIN:VEVENT
UID:39636439-3233-4339-b334-333935393438
DTSTAMP:20260424T050725Z
DESCRIPTION:1/5 Kolín - Blue Ostrava 0:3 (-22\,-16\,-15)
DTSTART;TZID=Europe/Berlin:20251108T180000
DTEND;TZID=Europe/Berlin:20251108T200000
LOCATION:Městská sportovní hala\, Hanusíkova 1476 Kojetín - Kojetín I-Město
SUMMARY:EX-U20M-3B: Kolín-Blue Ostrava
END:VEVENT
BEGIN:VEVENT
UID:32363738-6130-4138-a634-626636346630
DTSTAMP:20260424T050725Z
DESCRIPTION:1/6 Brno - Green F.-M. 3:1 (-21\,18\,21\,18)
DTSTART;TZID=Europe/Berlin:20251109T090000
DTEND;TZID=Europe/Berlin:20251109T110000
LOCATION:Městská sportovní hala\, Hanusíkova 1476 Kojetín - Kojetín I-Město
SUMMARY:EX-U20M-3B: Brno-Green F.-M.
END:VEVENT
BEGIN:VEVENT
UID:35653433-6633-4863-b365-633736343163
DTSTAMP:20260424T050725Z
DESCRIPTION:1/7 Kojetín - Kolín 3:1 (-23\,20\,16\,13)
DTSTART;TZID=Europe/Berlin:20251109T110000
DTEND;TZID=Europe/Berlin:20251109T130000
LOCATION:Městská sportovní hala\, Hanusíkova 1476 Kojetín - Kojetín I-Město
SUMMARY:EX-U20M-3B: Kojetín-Kolín
END:VEVENT
BEGIN:VEVENT
UID:61646238-3831-4033-b532-663334336164
DTSTAMP:20260424T050725Z
DESCRIPTION:1/8 Blue Ostrava - Brno 3:0 (22\,18\,18)
DTSTART;TZID=Europe/Berlin:20251109T130000
DTEND;TZID=Europe/Berlin:20251109T150000
LOCATION:Městská sportovní hala\, Hanusíkova 1476 Kojetín - Kojetín I-Město
SUMMARY:EX-U20M-3B: Blue Ostrava-Brno
END:VEVENT
BEGIN:VEVENT
UID:33666564-6132-4265-b565-663864363766
DTSTAMP:20260424T050725Z
DESCRIPTION:1/9 Green F.-M. - Kolín 3:1 (23\,-28\,19\,21)
DTSTART;TZID=Europe/Berlin:20251109T150000
DTEND;TZID=Europe/Berlin:20251109T170000
LOCATION:Městská sportovní hala\, Hanusíkova 1476 Kojetín - Kojetín I-Město
SUMMARY:EX-U20M-3B: Green F.-M.-Kolín
END:VEVENT
BEGIN:VEVENT
UID:38613635-3665-4561-a238-653631333431
DTSTAMP:20260424T050725Z
DESCRIPTION:1/10 Blue Ostrava - Kojetín 3:2 (-26\,22\,-22\,22\,9)
DTSTART;TZID=Europe/Berlin:20251109T170000
DTEND;TZID=Europe/Berlin:20251109T190000
LOCATION:Městská sportovní hala\, Hanusíkova 1476 Kojetín - Kojetín I-Město
SUMMARY:EX-U20M-3B: Blue Ostrava-Kojetín
END:VEVENT
END:VCALENDAR
