BEGIN:VCALENDAR
VERSION:2.0
PRODID:-//JC-U18Z-2B3//NONSGML kigkonsult.se iCalcreator 2.41.80//
CALSCALE:GREGORIAN
UID:34633732-3939-4833-a634-373132396565
BEGIN:VEVENT
UID:30656562-6536-4036-b135-613938336565
DTSTAMP:20260424T233601Z
DESCRIPTION:1/1 Volejbal Tábor B - VSK ČK B 0:3 (-26\,-15\,-18)
DTSTART;TZID=Europe/Berlin:20251101T090000
DTEND;TZID=Europe/Berlin:20251101T110000
LOCATION:ZŠ Máj I\, M. Chlajna 1319 České Budějovice - České Budějovice 2
SUMMARY:JC-U18Z-2B3: Volejbal Tábor B-VSK ČK B
END:VEVENT
BEGIN:VEVENT
UID:33613139-6366-4435-a536-343835336461
DTSTAMP:20260424T233601Z
DESCRIPTION:1/2 Volejbal Trhové Sviny - Volejbal Tábor B 0:3 (-10\,-22\,-15
 )
DTSTART;TZID=Europe/Berlin:20251101T103000
DTEND;TZID=Europe/Berlin:20251101T123000
LOCATION:ZŠ Máj I\, M. Chlajna 1319 České Budějovice - České Budějovice 2
SUMMARY:JC-U18Z-2B3: Volejbal Trhové Sviny-Volejbal Tábor B
END:VEVENT
BEGIN:VEVENT
UID:39636464-3161-4738-a337-303665323537
DTSTAMP:20260424T233601Z
DESCRIPTION:1/3 VSK ČK B - Volejbal Trhové Sviny 3:0 (13\,22\,20)
DTSTART;TZID=Europe/Berlin:20251101T120000
DTEND;TZID=Europe/Berlin:20251101T140000
LOCATION:ZŠ Máj I\, M. Chlajna 1319 České Budějovice - České Budějovice 2
SUMMARY:JC-U18Z-2B3: VSK ČK B-Volejbal Trhové Sviny
END:VEVENT
END:VCALENDAR
