BEGIN:VCALENDAR
VERSION:2.0
PRODID:-//PP-U22Z-2-B//NONSGML kigkonsult.se iCalcreator 2.41.80//
CALSCALE:GREGORIAN
UID:65653834-3063-4932-b465-663032383730
BEGIN:VEVENT
UID:65393736-3034-4030-a462-653930613439
DTSTAMP:20260421T223108Z
DESCRIPTION:1/1 SK Kometa Praha A - Radotín 2:0 (12\,7)
DTSTART;TZID=Europe/Berlin:20251108T090000
DTEND;TZID=Europe/Berlin:20251108T110000
LOCATION:Tělocvična ZŠ\, Španielova 1111 Praha - Řepy
SUMMARY:PP-U22Z-2-B: SK Kometa Praha A-Radotín
END:VEVENT
BEGIN:VEVENT
UID:39613462-6139-4535-b635-323765333861
DTSTAMP:20260421T223108Z
DESCRIPTION:2/2 SK Dansport Praha\, z.s. - SK Kometa Praha B 2:1 (-26\,17\,
 6)
DTSTART;TZID=Europe/Berlin:20251108T100000
DTEND;TZID=Europe/Berlin:20251108T120000
LOCATION:Tělocvična ZŠ\, Španielova 1111 Praha - Řepy
SUMMARY:PP-U22Z-2-B: SK Dansport Praha\, z.s.-SK Kometa Praha B
END:VEVENT
BEGIN:VEVENT
UID:37616630-6236-4362-b665-393764376136
DTSTAMP:20260421T223108Z
DESCRIPTION:3/3 Radotín - SK Kometa Praha B 0:2 (-11\,-18)
DTSTART;TZID=Europe/Berlin:20251108T110000
DTEND;TZID=Europe/Berlin:20251108T130000
LOCATION:Tělocvična ZŠ\, Španielova 1111 Praha - Řepy
SUMMARY:PP-U22Z-2-B: Radotín-SK Kometa Praha B
END:VEVENT
BEGIN:VEVENT
UID:63623131-6436-4565-b030-396166373538
DTSTAMP:20260421T223108Z
DESCRIPTION:4/4 SK Kometa Praha A - SK Dansport Praha\, z.s. 2:0 (22\,10)
DTSTART;TZID=Europe/Berlin:20251108T120000
DTEND;TZID=Europe/Berlin:20251108T140000
LOCATION:Tělocvična ZŠ\, Španielova 1111 Praha - Řepy
SUMMARY:PP-U22Z-2-B: SK Kometa Praha A-SK Dansport Praha\, z.s.
END:VEVENT
BEGIN:VEVENT
UID:65396563-3039-4261-a565-383034623834
DTSTAMP:20260421T223108Z
DESCRIPTION:5/5 SK Dansport Praha\, z.s. - Radotín 2:0 (12\,22)
DTSTART;TZID=Europe/Berlin:20251108T130000
DTEND;TZID=Europe/Berlin:20251108T150000
LOCATION:Tělocvična ZŠ\, Španielova 1111 Praha - Řepy
SUMMARY:PP-U22Z-2-B: SK Dansport Praha\, z.s.-Radotín
END:VEVENT
BEGIN:VEVENT
UID:31376637-3234-4362-a236-643164623036
DTSTAMP:20260421T223108Z
DESCRIPTION:6/6 SK Kometa Praha B - SK Kometa Praha A 0:2 (-8\,-18)
DTSTART;TZID=Europe/Berlin:20251108T140000
DTEND;TZID=Europe/Berlin:20251108T160000
LOCATION:Tělocvična ZŠ\, Španielova 1111 Praha - Řepy
SUMMARY:PP-U22Z-2-B: SK Kometa Praha B-SK Kometa Praha A
END:VEVENT
END:VCALENDAR
