BEGIN:VCALENDAR
VERSION:2.0
PRODID:-//MS-U14M-T1A//NONSGML kigkonsult.se iCalcreator 2.41.80//
CALSCALE:GREGORIAN
UID:61316535-6531-4139-b465-643937343762
BEGIN:VEVENT
UID:36343666-3934-4035-b030-383637356466
DTSTAMP:20260422T182929Z
DESCRIPTION:1/1 Happy Sport Opava\, z.s. - VK Ostrava 'A' 0:2 (-17\,-21)
DTSTART;TZID=Europe/Berlin:20251109T090000
DTEND;TZID=Europe/Berlin:20251109T110000
LOCATION:Jugoslávská\, Jugoslávská 2906 Ostrava - Zábřeh
SUMMARY:MS-U14M-T1A: Happy Sport Opava\, z.s.-VK Ostrava 'A'
END:VEVENT
BEGIN:VEVENT
UID:31656439-6639-4239-b265-623236363737
DTSTAMP:20260422T182929Z
DESCRIPTION:1/2 Green F-M - Volejbalový spolek Ostrava 0:2 (-14\,-12)
DTSTART;TZID=Europe/Berlin:20251109T090000
DTEND;TZID=Europe/Berlin:20251109T110000
LOCATION:Jugoslávská\, Jugoslávská 2906 Ostrava - Zábřeh
SUMMARY:MS-U14M-T1A: Green F-M-Volejbalový spolek Ostrava
END:VEVENT
BEGIN:VEVENT
UID:37313235-3535-4138-a166-353837323661
DTSTAMP:20260422T182929Z
DESCRIPTION:2/3 Happy Sport Opava\, z.s. - Green F-M 2:0 (14\,9)
DTSTART;TZID=Europe/Berlin:20251109T103000
DTEND;TZID=Europe/Berlin:20251109T123000
LOCATION:Jugoslávská\, Jugoslávská 2906 Ostrava - Zábřeh
SUMMARY:MS-U14M-T1A: Happy Sport Opava\, z.s.-Green F-M
END:VEVENT
BEGIN:VEVENT
UID:66396361-3630-4135-b537-623063633634
DTSTAMP:20260422T182929Z
DESCRIPTION:2/4 VK Ostrava 'A' - Volejbalový spolek Ostrava 0:2 (-17\,-23)
DTSTART;TZID=Europe/Berlin:20251109T103000
DTEND;TZID=Europe/Berlin:20251109T123000
LOCATION:Jugoslávská\, Jugoslávská 2906 Ostrava - Zábřeh
SUMMARY:MS-U14M-T1A: VK Ostrava 'A'-Volejbalový spolek Ostrava
END:VEVENT
BEGIN:VEVENT
UID:63366163-3333-4464-b535-613837383333
DTSTAMP:20260422T182929Z
DESCRIPTION:3/5 Volejbalový spolek Ostrava - Happy Sport Opava\, z.s. 2:0 (
 17\,24)
DTSTART;TZID=Europe/Berlin:20251109T120000
DTEND;TZID=Europe/Berlin:20251109T140000
LOCATION:Jugoslávská\, Jugoslávská 2906 Ostrava - Zábřeh
SUMMARY:MS-U14M-T1A: Volejbalový spolek Ostrava-Happy Sport Opava\, z.s.
END:VEVENT
BEGIN:VEVENT
UID:61303265-6431-4062-b566-623436323534
DTSTAMP:20260422T182929Z
DESCRIPTION:3/6 VK Ostrava 'A' - Green F-M 2:0 (8\,20)
DTSTART;TZID=Europe/Berlin:20251109T120000
DTEND;TZID=Europe/Berlin:20251109T140000
LOCATION:Jugoslávská\, Jugoslávská 2906 Ostrava - Zábřeh
SUMMARY:MS-U14M-T1A: VK Ostrava 'A'-Green F-M
END:VEVENT
END:VCALENDAR
