BEGIN:VCALENDAR
VERSION:2.0
PRODID:-//HK-U14Z-6B//NONSGML kigkonsult.se iCalcreator 2.41.80//
CALSCALE:GREGORIAN
UID:62346533-3330-4966-b761-323765336364
BEGIN:VEVENT
UID:35626635-6538-4765-b034-616161663530
DTSTAMP:20260421T134937Z
DESCRIPTION:1/1 Sokol Pouchov - L.Bělohrad 0:2 (-14\,-19)
DTSTART;TZID=Europe/Berlin:20260124T100000
DTEND;TZID=Europe/Berlin:20260124T120000
LOCATION:Hala Pouchov\, K Sokolovně 544 Hradec Králové - Pouchov
SUMMARY:HK-U14Z-6B: Sokol Pouchov-L.Bělohrad
END:VEVENT
BEGIN:VEVENT
UID:30376333-3562-4865-a638-643031663733
DTSTAMP:20260421T134937Z
DESCRIPTION:1/2 RÉMA  B - Jilemnice 0:2 (-10\,-13)
DTSTART;TZID=Europe/Berlin:20260124T100000
DTEND;TZID=Europe/Berlin:20260124T120000
LOCATION:Hala Pouchov\, K Sokolovně 544 Hradec Králové - Pouchov
SUMMARY:HK-U14Z-6B: RÉMA  B-Jilemnice
END:VEVENT
BEGIN:VEVENT
UID:35323864-3465-4630-a661-316162663037
DTSTAMP:20260421T134937Z
DESCRIPTION:2/3 L.Bělohrad - RÉMA  B 2:0 (15\,12)
DTSTART;TZID=Europe/Berlin:20260124T110000
DTEND;TZID=Europe/Berlin:20260124T130000
LOCATION:Hala Pouchov\, K Sokolovně 544 Hradec Králové - Pouchov
SUMMARY:HK-U14Z-6B: L.Bělohrad-RÉMA  B
END:VEVENT
BEGIN:VEVENT
UID:35336537-6132-4438-b138-343737623862
DTSTAMP:20260421T134937Z
DESCRIPTION:2/4 Sokol Pouchov - Jilemnice 0:2 (-19\,-12)
DTSTART;TZID=Europe/Berlin:20260124T110000
DTEND;TZID=Europe/Berlin:20260124T130000
LOCATION:Hala Pouchov\, K Sokolovně 544 Hradec Králové - Pouchov
SUMMARY:HK-U14Z-6B: Sokol Pouchov-Jilemnice
END:VEVENT
BEGIN:VEVENT
UID:38383662-3236-4138-a539-616231646530
DTSTAMP:20260421T134937Z
DESCRIPTION:3/5 Jilemnice - L.Bělohrad 2:0 (16\,12)
DTSTART;TZID=Europe/Berlin:20260124T120000
DTEND;TZID=Europe/Berlin:20260124T140000
LOCATION:Hala Pouchov\, K Sokolovně 544 Hradec Králové - Pouchov
SUMMARY:HK-U14Z-6B: Jilemnice-L.Bělohrad
END:VEVENT
BEGIN:VEVENT
UID:32663634-3234-4738-b133-303638393632
DTSTAMP:20260421T134937Z
DESCRIPTION:3/6 Sokol Pouchov - RÉMA  B 2:0 (10\,14)
DTSTART;TZID=Europe/Berlin:20260124T120000
DTEND;TZID=Europe/Berlin:20260124T140000
LOCATION:Hala Pouchov\, K Sokolovně 544 Hradec Králové - Pouchov
SUMMARY:HK-U14Z-6B: Sokol Pouchov-RÉMA  B
END:VEVENT
END:VCALENDAR
