BEGIN:VCALENDAR
VERSION:2.0
PRODID:-//HK-U14Z-7B//NONSGML kigkonsult.se iCalcreator 2.41.80//
CALSCALE:GREGORIAN
UID:31643364-3639-4430-b230-336264323030
BEGIN:VEVENT
UID:66663463-3666-4737-a535-653866613933
DTSTAMP:20260422T033927Z
DESCRIPTION:1/1 L.Bělohrad - Sokol Pouchov 2:1 (-16\,26\,12)\npoř: L.Bělohr
 ad
DTSTART;TZID=Europe/Berlin:20260328T090000
DTEND;TZID=Europe/Berlin:20260328T110000
LOCATION:hala SOU Lázně Bělohrad\, Zámecká 478 Lázně Bělohrad
SUMMARY:HK-U14Z-7B: L.Bělohrad-Sokol Pouchov
END:VEVENT
BEGIN:VEVENT
UID:64666139-3736-4463-b730-616465623032
DTSTAMP:20260422T033927Z
DESCRIPTION:1/2 RÉMA  A - RÉMA  B 2:0 (12\,14)
DTSTART;TZID=Europe/Berlin:20260328T090000
DTEND;TZID=Europe/Berlin:20260328T110000
LOCATION:hala SOU Lázně Bělohrad\, Zámecká 478 Lázně Bělohrad
SUMMARY:HK-U14Z-7B: RÉMA  A-RÉMA  B
END:VEVENT
BEGIN:VEVENT
UID:34383433-3366-4134-b466-616231386235
DTSTAMP:20260422T033927Z
DESCRIPTION:1/3 RÉMA  B - L.Bělohrad 0:2 (-9\,-13)
DTSTART;TZID=Europe/Berlin:20260328T110000
DTEND;TZID=Europe/Berlin:20260328T130000
LOCATION:hala SOU Lázně Bělohrad\, Zámecká 478 Lázně Bělohrad
SUMMARY:HK-U14Z-7B: RÉMA  B-L.Bělohrad
END:VEVENT
BEGIN:VEVENT
UID:39646364-6335-4936-a232-363333306233
DTSTAMP:20260422T033927Z
DESCRIPTION:1/4 Sokol Pouchov - RÉMA  A 0:2 (-14\,-15)
DTSTART;TZID=Europe/Berlin:20260328T110000
DTEND;TZID=Europe/Berlin:20260328T130000
LOCATION:hala SOU Lázně Bělohrad\, Zámecká 478 Lázně Bělohrad
SUMMARY:HK-U14Z-7B: Sokol Pouchov-RÉMA  A
END:VEVENT
BEGIN:VEVENT
UID:34386238-3131-4131-a437-653736393838
DTSTAMP:20260422T033927Z
DESCRIPTION:1/5 RÉMA  B - Sokol Pouchov 1:2 (-22\,25\,-10)
DTSTART;TZID=Europe/Berlin:20260328T123000
DTEND;TZID=Europe/Berlin:20260328T143000
LOCATION:hala SOU Lázně Bělohrad\, Zámecká 478 Lázně Bělohrad
SUMMARY:HK-U14Z-7B: RÉMA  B-Sokol Pouchov
END:VEVENT
BEGIN:VEVENT
UID:65663130-6464-4136-b031-356665636138
DTSTAMP:20260422T033927Z
DESCRIPTION:1/6 L.Bělohrad - RÉMA  A 0:2 (-21\,-8)
DTSTART;TZID=Europe/Berlin:20260328T123000
DTEND;TZID=Europe/Berlin:20260328T143000
LOCATION:hala SOU Lázně Bělohrad\, Zámecká 478 Lázně Bělohrad
SUMMARY:HK-U14Z-7B: L.Bělohrad-RÉMA  A
END:VEVENT
END:VCALENDAR
