BEGIN:VCALENDAR
VERSION:2.0
PRODID:-//OLK-U14Z-3A//NONSGML kigkonsult.se iCalcreator 2.41.80//
CALSCALE:GREGORIAN
UID:31353864-6435-4236-a339-386461386461
BEGIN:VEVENT
UID:61373239-6232-4465-b136-336539373161
DTSTAMP:20260421T210124Z
DESCRIPTION:1/1 Prostějov A - SK Kojetín 2:0 (10\,12)\nkurt A
DTSTART;TZID=Europe/Berlin:20251101T090000
DTEND;TZID=Europe/Berlin:20251101T110000
LOCATION:Městská sportovní hala\, Hanusíkova 1476 Kojetín - Kojetín I-Město
SUMMARY:OLK-U14Z-3A: Prostějov A-SK Kojetín
END:VEVENT
BEGIN:VEVENT
UID:63363761-3330-4562-a362-626464636364
DTSTAMP:20260421T210124Z
DESCRIPTION:2/2 VK Olomouc A - VAM Olomouc A 1:2 (18\,-19\,-13)\nkurt B
DTSTART;TZID=Europe/Berlin:20251101T090000
DTEND;TZID=Europe/Berlin:20251101T110000
LOCATION:Městská sportovní hala\, Hanusíkova 1476 Kojetín - Kojetín I-Město
SUMMARY:OLK-U14Z-3A: VK Olomouc A-VAM Olomouc A
END:VEVENT
BEGIN:VEVENT
UID:39376230-6439-4236-b961-373035353939
DTSTAMP:20260421T210124Z
DESCRIPTION:3/3 Prostějov A - VK Olomouc A 0:2 (-23\,-16)\nkurt B
DTSTART;TZID=Europe/Berlin:20251101T100000
DTEND;TZID=Europe/Berlin:20251101T120000
LOCATION:Městská sportovní hala\, Hanusíkova 1476 Kojetín - Kojetín I-Město
SUMMARY:OLK-U14Z-3A: Prostějov A-VK Olomouc A
END:VEVENT
BEGIN:VEVENT
UID:30323237-3432-4638-b461-613436346261
DTSTAMP:20260421T210124Z
DESCRIPTION:4/4 Šternberk - SK Kojetín 2:1 (13\,-23\,4)\nkurt A
DTSTART;TZID=Europe/Berlin:20251101T100000
DTEND;TZID=Europe/Berlin:20251101T120000
LOCATION:Městská sportovní hala\, Hanusíkova 1476 Kojetín - Kojetín I-Město
SUMMARY:OLK-U14Z-3A: Šternberk-SK Kojetín
END:VEVENT
BEGIN:VEVENT
UID:39343663-6566-4431-b337-393966643637
DTSTAMP:20260421T210124Z
DESCRIPTION:5/5 Prostějov A - Šternberk 2:0 (16\,11)\nkurt B
DTSTART;TZID=Europe/Berlin:20251101T110000
DTEND;TZID=Europe/Berlin:20251101T130000
LOCATION:Městská sportovní hala\, Hanusíkova 1476 Kojetín - Kojetín I-Město
SUMMARY:OLK-U14Z-3A: Prostějov A-Šternberk
END:VEVENT
BEGIN:VEVENT
UID:37363330-6639-4633-a237-646564343436
DTSTAMP:20260421T210124Z
DESCRIPTION:6/6 SK Kojetín - VAM Olomouc A 0:2 (-11\,-5)\nkurt A
DTSTART;TZID=Europe/Berlin:20251101T110000
DTEND;TZID=Europe/Berlin:20251101T130000
LOCATION:Městská sportovní hala\, Hanusíkova 1476 Kojetín - Kojetín I-Město
SUMMARY:OLK-U14Z-3A: SK Kojetín-VAM Olomouc A
END:VEVENT
BEGIN:VEVENT
UID:34363939-3966-4531-a365-663566333135
DTSTAMP:20260421T210124Z
DESCRIPTION:7/7 Prostějov A - VAM Olomouc A 0:2 (-22\,-22)\nkurt B
DTSTART;TZID=Europe/Berlin:20251101T120000
DTEND;TZID=Europe/Berlin:20251101T140000
LOCATION:Městská sportovní hala\, Hanusíkova 1476 Kojetín - Kojetín I-Město
SUMMARY:OLK-U14Z-3A: Prostějov A-VAM Olomouc A
END:VEVENT
BEGIN:VEVENT
UID:65356438-3461-4439-b163-363164323831
DTSTAMP:20260421T210124Z
DESCRIPTION:8/8 Šternberk - VK Olomouc A 0:2 (-18\,-11)\nkurt A
DTSTART;TZID=Europe/Berlin:20251101T120000
DTEND;TZID=Europe/Berlin:20251101T140000
LOCATION:Městská sportovní hala\, Hanusíkova 1476 Kojetín - Kojetín I-Město
SUMMARY:OLK-U14Z-3A: Šternberk-VK Olomouc A
END:VEVENT
BEGIN:VEVENT
UID:63666330-6361-4436-b462-303131383165
DTSTAMP:20260421T210124Z
DESCRIPTION:9/9 VK Olomouc A - SK Kojetín 2:0 (6\,15)\nkurt A
DTSTART;TZID=Europe/Berlin:20251101T130000
DTEND;TZID=Europe/Berlin:20251101T150000
LOCATION:Městská sportovní hala\, Hanusíkova 1476 Kojetín - Kojetín I-Město
SUMMARY:OLK-U14Z-3A: VK Olomouc A-SK Kojetín
END:VEVENT
BEGIN:VEVENT
UID:36363436-6333-4430-b663-643565636465
DTSTAMP:20260421T210124Z
DESCRIPTION:10/10 VAM Olomouc A - Šternberk 2:0 (14\,19)\nkurt B
DTSTART;TZID=Europe/Berlin:20251101T130000
DTEND;TZID=Europe/Berlin:20251101T150000
LOCATION:Městská sportovní hala\, Hanusíkova 1476 Kojetín - Kojetín I-Město
SUMMARY:OLK-U14Z-3A: VAM Olomouc A-Šternberk
END:VEVENT
END:VCALENDAR
