BEGIN:VCALENDAR
VERSION:2.0
PRODID:-//PP-U20M-T2-2//NONSGML kigkonsult.se iCalcreator 2.41.80//
CALSCALE:GREGORIAN
UID:65336337-3465-4435-b663-323939383838
BEGIN:VEVENT
UID:38306537-6138-4561-b662-353339383535
DTSTAMP:20260424T140408Z
DESCRIPTION:1/1 SK Meteor Praha A - SK Meteor Praha C 0:2 (-25\,-17)
DTSTART;TZID=Europe/Berlin:20251109T090000
DTEND;TZID=Europe/Berlin:20251109T110000
LOCATION:Sokol Bubeneč\, Korunovační 630 Praha - Bubeneč
SUMMARY:PP-U20M-T2-2: SK Meteor Praha A-SK Meteor Praha C
END:VEVENT
BEGIN:VEVENT
UID:65323162-3437-4830-b934-613633373365
DTSTAMP:20260424T140408Z
DESCRIPTION:2/2 SK Meteor Praha B - Vršovice 1:2 (-19\,13\,-13)
DTSTART;TZID=Europe/Berlin:20251109T090000
DTEND;TZID=Europe/Berlin:20251109T110000
LOCATION:Sokol Bubeneč\, Korunovační 630 Praha - Bubeneč
SUMMARY:PP-U20M-T2-2: SK Meteor Praha B-Vršovice
END:VEVENT
BEGIN:VEVENT
UID:36656461-3864-4339-b033-336237386539
DTSTAMP:20260424T140408Z
DESCRIPTION:3/3 SK Meteor Praha C - Vršovice 2:0 (21\,18)
DTSTART;TZID=Europe/Berlin:20251109T100000
DTEND;TZID=Europe/Berlin:20251109T120000
LOCATION:Sokol Bubeneč\, Korunovační 630 Praha - Bubeneč
SUMMARY:PP-U20M-T2-2: SK Meteor Praha C-Vršovice
END:VEVENT
BEGIN:VEVENT
UID:64626566-6238-4135-b736-663130666430
DTSTAMP:20260424T140408Z
DESCRIPTION:4/4 SK Meteor Praha A - SK Meteor Praha B 2:0 (20\,17)
DTSTART;TZID=Europe/Berlin:20251109T100000
DTEND;TZID=Europe/Berlin:20251109T120000
LOCATION:Sokol Bubeneč\, Korunovační 630 Praha - Bubeneč
SUMMARY:PP-U20M-T2-2: SK Meteor Praha A-SK Meteor Praha B
END:VEVENT
BEGIN:VEVENT
UID:63643731-3561-4139-a161-663865626330
DTSTAMP:20260424T140408Z
DESCRIPTION:5/5 SK Meteor Praha B - SK Meteor Praha C 1:2 (-18\,21\,-10)
DTSTART;TZID=Europe/Berlin:20251109T110000
DTEND;TZID=Europe/Berlin:20251109T130000
LOCATION:Sokol Bubeneč\, Korunovační 630 Praha - Bubeneč
SUMMARY:PP-U20M-T2-2: SK Meteor Praha B-SK Meteor Praha C
END:VEVENT
BEGIN:VEVENT
UID:34306236-6334-4463-a261-343430313630
DTSTAMP:20260424T140408Z
DESCRIPTION:6/6 Vršovice - SK Meteor Praha A 0:2 (-17\,-20)
DTSTART;TZID=Europe/Berlin:20251109T110000
DTEND;TZID=Europe/Berlin:20251109T130000
LOCATION:Sokol Bubeneč\, Korunovační 630 Praha - Bubeneč
SUMMARY:PP-U20M-T2-2: Vršovice-SK Meteor Praha A
END:VEVENT
END:VCALENDAR
