BEGIN:VCALENDAR
VERSION:2.0
PRODID:-//JC-U16Z1-3B//NONSGML kigkonsult.se iCalcreator 2.41.80//
CALSCALE:GREGORIAN
UID:66623539-6235-4363-b831-613234623866
BEGIN:VEVENT
UID:35616432-6534-4035-b338-636431633766
DTSTAMP:20260421T171410Z
DESCRIPTION:1/1 Madeta Jihostroj ČB B - SK TŘEBÍN A 1:2 (-17\,23\,-11)
DTSTART;TZID=Europe/Berlin:20251109T090000
DTEND;TZID=Europe/Berlin:20251109T110000
LOCATION:TĚLOVÝCHOVNÁ JEDNOTA LOKOMOTIVA z. s.\, Třebízského 1044 České Bud
 ějovice - České Budějovice 5
SUMMARY:JC-U16Z1-3B: Madeta Jihostroj ČB B-SK TŘEBÍN A
END:VEVENT
BEGIN:VEVENT
UID:66626233-3836-4262-b866-613839323565
DTSTAMP:20260421T171410Z
DESCRIPTION:1/2 Škola volejbalu A - TJ Slovan J. Hradec\, z.s. A 2:0 (23\,1
 8)
DTSTART;TZID=Europe/Berlin:20251109T100000
DTEND;TZID=Europe/Berlin:20251109T120000
LOCATION:TĚLOVÝCHOVNÁ JEDNOTA LOKOMOTIVA z. s.\, Třebízského 1044 České Bud
 ějovice - České Budějovice 5
SUMMARY:JC-U16Z1-3B: Škola volejbalu A-TJ Slovan J. Hradec\, z.s. A
END:VEVENT
BEGIN:VEVENT
UID:38666234-6536-4237-b130-326432643562
DTSTAMP:20260421T171410Z
DESCRIPTION:1/3 Madeta Jihostroj ČB B - Škola volejbalu A 0:2 (-12\,-9)
DTSTART;TZID=Europe/Berlin:20251109T110000
DTEND;TZID=Europe/Berlin:20251109T130000
LOCATION:TĚLOVÝCHOVNÁ JEDNOTA LOKOMOTIVA z. s.\, Třebízského 1044 České Bud
 ějovice - České Budějovice 5
SUMMARY:JC-U16Z1-3B: Madeta Jihostroj ČB B-Škola volejbalu A
END:VEVENT
BEGIN:VEVENT
UID:38653031-3035-4533-b237-346266303362
DTSTAMP:20260421T171410Z
DESCRIPTION:1/4 TJ Slovan J. Hradec\, z.s. A - SK TŘEBÍN A 2:0 (17\,14)
DTSTART;TZID=Europe/Berlin:20251109T120000
DTEND;TZID=Europe/Berlin:20251109T140000
LOCATION:TĚLOVÝCHOVNÁ JEDNOTA LOKOMOTIVA z. s.\, Třebízského 1044 České Bud
 ějovice - České Budějovice 5
SUMMARY:JC-U16Z1-3B: TJ Slovan J. Hradec\, z.s. A-SK TŘEBÍN A
END:VEVENT
BEGIN:VEVENT
UID:37343331-6162-4835-a333-393239343963
DTSTAMP:20260421T171410Z
DESCRIPTION:1/5 SK TŘEBÍN A - Škola volejbalu A 0:2 (-20\,-21)
DTSTART;TZID=Europe/Berlin:20251109T130000
DTEND;TZID=Europe/Berlin:20251109T150000
LOCATION:TĚLOVÝCHOVNÁ JEDNOTA LOKOMOTIVA z. s.\, Třebízského 1044 České Bud
 ějovice - České Budějovice 5
SUMMARY:JC-U16Z1-3B: SK TŘEBÍN A-Škola volejbalu A
END:VEVENT
BEGIN:VEVENT
UID:30623464-3236-4763-b234-613665623939
DTSTAMP:20260421T171410Z
DESCRIPTION:1/6 Madeta Jihostroj ČB B - TJ Slovan J. Hradec\, z.s. A 1:2 (2
 1\,-18\,-13)
DTSTART;TZID=Europe/Berlin:20251109T140000
DTEND;TZID=Europe/Berlin:20251109T160000
LOCATION:TĚLOVÝCHOVNÁ JEDNOTA LOKOMOTIVA z. s.\, Třebízského 1044 České Bud
 ějovice - České Budějovice 5
SUMMARY:JC-U16Z1-3B: Madeta Jihostroj ČB B-TJ Slovan J. Hradec\, z.s. A
END:VEVENT
END:VCALENDAR
