BEGIN:VCALENDAR
VERSION:2.0
PRODID:-//MS-U14Z-T2A//NONSGML kigkonsult.se iCalcreator 2.41.80//
CALSCALE:GREGORIAN
UID:36623731-3038-4361-b864-643436616635
BEGIN:VEVENT
UID:62363931-3636-4164-a666-393336636462
DTSTAMP:20260422T093706Z
DESCRIPTION:1/1 TJ Sokol F-M A - T.J. Sokol Vratimov 'A' 2:1 (23\,-17\,13)
DTSTART;TZID=Europe/Berlin:20251122T090000
DTEND;TZID=Europe/Berlin:20251122T110000
LOCATION:Sokolovna\, Sokolská 290 Vratimov
SUMMARY:MS-U14Z-T2A: TJ Sokol F-M A-T.J. Sokol Vratimov 'A'
END:VEVENT
BEGIN:VEVENT
UID:30393163-3465-4761-b038-383634356664
DTSTAMP:20260422T093706Z
DESCRIPTION:2/2 KV Kopřivnice - VK Polanka 'A' 2:0 (20\,23)
DTSTART;TZID=Europe/Berlin:20251122T103000
DTEND;TZID=Europe/Berlin:20251122T123000
LOCATION:Sokolovna\, Sokolská 290 Vratimov
SUMMARY:MS-U14Z-T2A: KV Kopřivnice-VK Polanka 'A'
END:VEVENT
BEGIN:VEVENT
UID:39353961-6261-4166-b665-626431353138
DTSTAMP:20260422T093706Z
DESCRIPTION:3/3 TJ Sokol F-M A - KV Kopřivnice 0:2 (-12\,-18)
DTSTART;TZID=Europe/Berlin:20251122T120000
DTEND;TZID=Europe/Berlin:20251122T140000
LOCATION:Sokolovna\, Sokolská 290 Vratimov
SUMMARY:MS-U14Z-T2A: TJ Sokol F-M A-KV Kopřivnice
END:VEVENT
BEGIN:VEVENT
UID:30323064-3263-4461-b734-306439313164
DTSTAMP:20260422T093706Z
DESCRIPTION:4/4 T.J. Sokol Vratimov 'A' - VK Polanka 'A' 1:2 (15\,-16\,-4)
DTSTART;TZID=Europe/Berlin:20251122T133000
DTEND;TZID=Europe/Berlin:20251122T153000
LOCATION:Sokolovna\, Sokolská 290 Vratimov
SUMMARY:MS-U14Z-T2A: T.J. Sokol Vratimov 'A'-VK Polanka 'A'
END:VEVENT
BEGIN:VEVENT
UID:30353236-6534-4162-a131-336264633933
DTSTAMP:20260422T093706Z
DESCRIPTION:5/5 VK Polanka 'A' - TJ Sokol F-M A 2:0 (18\,22)
DTSTART;TZID=Europe/Berlin:20251122T150000
DTEND;TZID=Europe/Berlin:20251122T170000
LOCATION:Sokolovna\, Sokolská 290 Vratimov
SUMMARY:MS-U14Z-T2A: VK Polanka 'A'-TJ Sokol F-M A
END:VEVENT
BEGIN:VEVENT
UID:61643762-3765-4633-b639-666666363732
DTSTAMP:20260422T093706Z
DESCRIPTION:6/6 T.J. Sokol Vratimov 'A' - KV Kopřivnice 1:2 (17\,-15\,-3)
DTSTART;TZID=Europe/Berlin:20251122T163000
DTEND;TZID=Europe/Berlin:20251122T183000
LOCATION:Sokolovna\, Sokolská 290 Vratimov
SUMMARY:MS-U14Z-T2A: T.J. Sokol Vratimov 'A'-KV Kopřivnice
END:VEVENT
END:VCALENDAR
