BEGIN:VCALENDAR
VERSION:2.0
PRODID:-//HK-U16Z-3FA//NONSGML kigkonsult.se iCalcreator 2.41.80//
CALSCALE:GREGORIAN
UID:64323265-3835-4462-b435-653135373530
BEGIN:VEVENT
UID:38623934-3662-4632-a133-323564643561
DTSTAMP:20260421T210121Z
DESCRIPTION:1/1 Baník Rtyně - Sokol Pouchov 0:2 (-13\,-21)
DTSTART;TZID=Europe/Berlin:20251214T090000
DTEND;TZID=Europe/Berlin:20251214T110000
LOCATION:SPORT KLUB Náchod\, Pražská 696 Náchod
SUMMARY:HK-U16Z-3FA: Baník Rtyně-Sokol Pouchov
END:VEVENT
BEGIN:VEVENT
UID:63343761-3131-4336-b430-316636363462
DTSTAMP:20260421T210121Z
DESCRIPTION:1/2 Nechanice - VoCe 0:2 (-15\,-21)
DTSTART;TZID=Europe/Berlin:20251214T100000
DTEND;TZID=Europe/Berlin:20251214T120000
LOCATION:SPORT KLUB Náchod\, Pražská 696 Náchod
SUMMARY:HK-U16Z-3FA: Nechanice-VoCe
END:VEVENT
BEGIN:VEVENT
UID:63373538-3766-4336-b961-376163656530
DTSTAMP:20260421T210121Z
DESCRIPTION:1/3 Nechanice - Baník Rtyně 0:2 (-15\,-20)
DTSTART;TZID=Europe/Berlin:20251214T110000
DTEND;TZID=Europe/Berlin:20251214T130000
LOCATION:SPORT KLUB Náchod\, Pražská 696 Náchod
SUMMARY:HK-U16Z-3FA: Nechanice-Baník Rtyně
END:VEVENT
BEGIN:VEVENT
UID:32316266-3763-4538-a539-386533313164
DTSTAMP:20260421T210121Z
DESCRIPTION:1/4 Sokol Pouchov - VoCe 0:2 (-23\,-16)
DTSTART;TZID=Europe/Berlin:20251214T120000
DTEND;TZID=Europe/Berlin:20251214T140000
LOCATION:SPORT KLUB Náchod\, Pražská 696 Náchod
SUMMARY:HK-U16Z-3FA: Sokol Pouchov-VoCe
END:VEVENT
BEGIN:VEVENT
UID:37393362-6435-4233-b766-383938396239
DTSTAMP:20260421T210121Z
DESCRIPTION:1/5 Nechanice - Sokol Pouchov 0:2 (-21\,-23)
DTSTART;TZID=Europe/Berlin:20251214T130000
DTEND;TZID=Europe/Berlin:20251214T150000
LOCATION:SPORT KLUB Náchod\, Pražská 696 Náchod
SUMMARY:HK-U16Z-3FA: Nechanice-Sokol Pouchov
END:VEVENT
BEGIN:VEVENT
UID:61613465-3934-4365-a539-623739656562
DTSTAMP:20260421T210121Z
DESCRIPTION:1/6 Baník Rtyně - VoCe 0:2 (-24\,-19)
DTSTART;TZID=Europe/Berlin:20251214T140000
DTEND;TZID=Europe/Berlin:20251214T160000
LOCATION:SPORT KLUB Náchod\, Pražská 696 Náchod
SUMMARY:HK-U16Z-3FA: Baník Rtyně-VoCe
END:VEVENT
END:VCALENDAR
