BEGIN:VCALENDAR
VERSION:2.0
PRODID:-//CP-U18Z-1D//NONSGML kigkonsult.se iCalcreator 2.41.80//
CALSCALE:GREGORIAN
UID:36663536-6636-4861-a564-613638333866
BEGIN:VEVENT
UID:62393132-3235-4633-b265-396231653938
DTSTAMP:20260424T091039Z
DESCRIPTION:1/1 Sportovní klub Meteor Praha - Tělovýchovná jednota SLAVIA L
 iberec\, z.s. 0:2 (-22\,-15)
DTSTART;TZID=Europe/Berlin:20251115T110000
DTEND;TZID=Europe/Berlin:20251115T130000
LOCATION:ZŠ Žernosecká\, Žernosecká 1597 Praha - Kobylisy
SUMMARY:CP-U18Z-1D: Sportovní klub Meteor Praha-Tělovýchovná jednota SLAVIA
  Liberec\, z.s.
END:VEVENT
BEGIN:VEVENT
UID:64376566-6130-4166-b561-623839363030
DTSTAMP:20260424T091039Z
DESCRIPTION:1/2 Uh.Hradiště B - Volejbalový klub Třebíč 2:1 (23\,-20\,10)
DTSTART;TZID=Europe/Berlin:20251115T110000
DTEND;TZID=Europe/Berlin:20251115T130000
LOCATION:Městská sportovní hala\, Stonky 860 Uherské Hradiště
SUMMARY:CP-U18Z-1D: Uh.Hradiště B-Volejbalový klub Třebíč
END:VEVENT
BEGIN:VEVENT
UID:65303038-3861-4464-a365-643633333263
DTSTAMP:20260424T091039Z
DESCRIPTION:2/3 VAM Havířov - TJ Lokomotiva Česká Lípa\, z.s. 2:0 (13\,10)
DTSTART;TZID=Europe/Berlin:20251115T121500
DTEND;TZID=Europe/Berlin:20251115T141500
LOCATION:Sportovní hala Žákovská\, Komunardů 1548 Havířov - Město
SUMMARY:CP-U18Z-1D: VAM Havířov-TJ Lokomotiva Česká Lípa\, z.s.
END:VEVENT
BEGIN:VEVENT
UID:66633365-6438-4665-b134-643738376262
DTSTAMP:20260424T091039Z
DESCRIPTION:3/4 Sportovní klub Meteor Praha - Volejbalový klub Třebíč 0:2 (
 -9\,-17)
DTSTART;TZID=Europe/Berlin:20251115T133000
DTEND;TZID=Europe/Berlin:20251115T153000
LOCATION:ZŠ Žernosecká\, Žernosecká 1597 Praha - Kobylisy
SUMMARY:CP-U18Z-1D: Sportovní klub Meteor Praha-Volejbalový klub Třebíč
END:VEVENT
BEGIN:VEVENT
UID:39393635-3135-4363-b039-663830303039
DTSTAMP:20260424T091039Z
DESCRIPTION:4/5 Uh.Hradiště B - VAM Havířov 0:2 (-16\,-22)
DTSTART;TZID=Europe/Berlin:20251115T144500
DTEND;TZID=Europe/Berlin:20251115T164500
LOCATION:Městská sportovní hala\, Stonky 860 Uherské Hradiště
SUMMARY:CP-U18Z-1D: Uh.Hradiště B-VAM Havířov
END:VEVENT
BEGIN:VEVENT
UID:35333234-3531-4066-b564-306234613131
DTSTAMP:20260424T091039Z
DESCRIPTION:4/6 TJ Lokomotiva Česká Lípa\, z.s. - Tělovýchovná jednota SLAV
 IA Liberec\, z.s. 1:2 (-17\,23\,-7)
DTSTART;TZID=Europe/Berlin:20251115T144500
DTEND;TZID=Europe/Berlin:20251115T164500
LOCATION:ZŠ Lada\, Šluknovská 2904 Česká Lípa
SUMMARY:CP-U18Z-1D: TJ Lokomotiva Česká Lípa\, z.s.-Tělovýchovná jednota SL
 AVIA Liberec\, z.s.
END:VEVENT
BEGIN:VEVENT
UID:31343936-3766-4530-a436-316262666265
DTSTAMP:20260424T091039Z
DESCRIPTION:5/7 VAM Havířov - Volejbalový klub Třebíč 2:0 (17\,10)
DTSTART;TZID=Europe/Berlin:20251115T171500
DTEND;TZID=Europe/Berlin:20251115T191500
LOCATION:Sportovní hala Žákovská\, Komunardů 1548 Havířov - Město
SUMMARY:CP-U18Z-1D: VAM Havířov-Volejbalový klub Třebíč
END:VEVENT
BEGIN:VEVENT
UID:39663464-6631-4465-b136-666165346532
DTSTAMP:20260424T091039Z
DESCRIPTION:5/8 Sportovní klub Meteor Praha - TJ Lokomotiva Česká Lípa\, z.
 s. 0:2 (-15\,-10)
DTSTART;TZID=Europe/Berlin:20251115T171500
DTEND;TZID=Europe/Berlin:20251115T191500
LOCATION:ZŠ Žernosecká\, Žernosecká 1597 Praha - Kobylisy
SUMMARY:CP-U18Z-1D: Sportovní klub Meteor Praha-TJ Lokomotiva Česká Lípa\, 
 z.s.
END:VEVENT
BEGIN:VEVENT
UID:32383261-3766-4335-a337-623939633135
DTSTAMP:20260424T091039Z
DESCRIPTION:5/9 Uh.Hradiště B - Tělovýchovná jednota SLAVIA Liberec\, z.s. 
 0:2 (-18\,-22)
DTSTART;TZID=Europe/Berlin:20251115T171500
DTEND;TZID=Europe/Berlin:20251115T191500
LOCATION:Městská sportovní hala\, Stonky 860 Uherské Hradiště
SUMMARY:CP-U18Z-1D: Uh.Hradiště B-Tělovýchovná jednota SLAVIA Liberec\, z.s
 .
END:VEVENT
BEGIN:VEVENT
UID:66663566-6632-4561-b034-356562626362
DTSTAMP:20260424T091040Z
DESCRIPTION:6/10 Uh.Hradiště B - Sportovní klub Meteor Praha 2:0 (16\,23)
DTSTART;TZID=Europe/Berlin:20251116T090000
DTEND;TZID=Europe/Berlin:20251116T110000
LOCATION:Městská sportovní hala\, Stonky 860 Uherské Hradiště
SUMMARY:CP-U18Z-1D: Uh.Hradiště B-Sportovní klub Meteor Praha
END:VEVENT
BEGIN:VEVENT
UID:63396337-6636-4235-b030-633866633336
DTSTAMP:20260424T091040Z
DESCRIPTION:7/11 TJ Lokomotiva Česká Lípa\, z.s. - Volejbalový klub Třebíč 
 2:0 (19\,22)
DTSTART;TZID=Europe/Berlin:20251116T103000
DTEND;TZID=Europe/Berlin:20251116T123000
LOCATION:ZŠ Lada\, Šluknovská 2904 Česká Lípa
SUMMARY:CP-U18Z-1D: TJ Lokomotiva Česká Lípa\, z.s.-Volejbalový klub Třebíč
END:VEVENT
BEGIN:VEVENT
UID:33323764-3563-4065-a635-656662623462
DTSTAMP:20260424T091040Z
DESCRIPTION:7/12 VAM Havířov - Tělovýchovná jednota SLAVIA Liberec\, z.s. 2
 :0 (16\,21)
DTSTART;TZID=Europe/Berlin:20251116T103000
DTEND;TZID=Europe/Berlin:20251116T123000
LOCATION:Sportovní hala Žákovská\, Komunardů 1548 Havířov - Město
SUMMARY:CP-U18Z-1D: VAM Havířov-Tělovýchovná jednota SLAVIA Liberec\, z.s.
END:VEVENT
BEGIN:VEVENT
UID:35343537-6631-4934-b862-656131313035
DTSTAMP:20260424T091040Z
DESCRIPTION:8/13 Uh.Hradiště B - TJ Lokomotiva Česká Lípa\, z.s. 2:0 (18\,1
 4)
DTSTART;TZID=Europe/Berlin:20251116T130000
DTEND;TZID=Europe/Berlin:20251116T150000
LOCATION:Městská sportovní hala\, Stonky 860 Uherské Hradiště
SUMMARY:CP-U18Z-1D: Uh.Hradiště B-TJ Lokomotiva Česká Lípa\, z.s.
END:VEVENT
BEGIN:VEVENT
UID:38343737-6334-4439-b732-323333306633
DTSTAMP:20260424T091040Z
DESCRIPTION:8/14 Sportovní klub Meteor Praha - VAM Havířov 0:2 (-17\,-19)
DTSTART;TZID=Europe/Berlin:20251116T130000
DTEND;TZID=Europe/Berlin:20251116T150000
LOCATION:ZŠ Žernosecká\, Žernosecká 1597 Praha - Kobylisy
SUMMARY:CP-U18Z-1D: Sportovní klub Meteor Praha-VAM Havířov
END:VEVENT
BEGIN:VEVENT
UID:31393833-3661-4331-b633-363436333763
DTSTAMP:20260424T091040Z
DESCRIPTION:8/15 Tělovýchovná jednota SLAVIA Liberec\, z.s. - Volejbalový k
 lub Třebíč 2:1 (-20\,22\,8)
DTSTART;TZID=Europe/Berlin:20251116T130000
DTEND;TZID=Europe/Berlin:20251116T150000
LOCATION:Základní škola\, Liberec\, Sokolovská \, Sokolovská 328 Liberec - 
 Liberec XIII-Nové Pavlovice
SUMMARY:CP-U18Z-1D: Tělovýchovná jednota SLAVIA Liberec\, z.s.-Volejbalový 
 klub Třebíč
END:VEVENT
END:VCALENDAR
