BEGIN:VCALENDAR
VERSION:2.0
PRODID:-//PP-U20Z-3-A//NONSGML kigkonsult.se iCalcreator 2.41.80//
CALSCALE:GREGORIAN
UID:37633831-3165-4538-a239-366635636566
BEGIN:VEVENT
UID:33376534-3831-4835-b735-316366356164
DTSTAMP:20260424T063316Z
DESCRIPTION:1/1 Braník - SK HAMR\, z.s. 0:2 (-23\,-14)
DTSTART;TZID=Europe/Berlin:20251130T090000
DTEND;TZID=Europe/Berlin:20251130T110000
LOCATION:Tělocvična ZŠ\, Španielova 1111 Praha - Řepy
SUMMARY:PP-U20Z-3-A: Braník-SK HAMR\, z.s.
END:VEVENT
BEGIN:VEVENT
UID:64353334-3738-4761-b635-373038383366
DTSTAMP:20260424T063316Z
DESCRIPTION:1/2 BVŠP Koráb - Sokol HP 2:0 (19\,17)
DTSTART;TZID=Europe/Berlin:20251130T090000
DTEND;TZID=Europe/Berlin:20251130T110000
LOCATION:Tělocvična ZŠ\, Španielova 1111 Praha - Řepy
SUMMARY:PP-U20Z-3-A: BVŠP Koráb-Sokol HP
END:VEVENT
BEGIN:VEVENT
UID:39373730-3434-4963-a139-303866316133
DTSTAMP:20260424T063316Z
DESCRIPTION:2/3 SK HAMR\, z.s. - Sokol HP 2:0 (14\,19)
DTSTART;TZID=Europe/Berlin:20251130T100000
DTEND;TZID=Europe/Berlin:20251130T120000
LOCATION:Tělocvična ZŠ\, Španielova 1111 Praha - Řepy
SUMMARY:PP-U20Z-3-A: SK HAMR\, z.s.-Sokol HP
END:VEVENT
BEGIN:VEVENT
UID:35376561-3033-4365-b031-653939303063
DTSTAMP:20260424T063316Z
DESCRIPTION:2/4 Braník - BVŠP Koráb 2:0 (15\,19)
DTSTART;TZID=Europe/Berlin:20251130T100000
DTEND;TZID=Europe/Berlin:20251130T120000
LOCATION:Tělocvična ZŠ\, Španielova 1111 Praha - Řepy
SUMMARY:PP-U20Z-3-A: Braník-BVŠP Koráb
END:VEVENT
BEGIN:VEVENT
UID:36633338-3965-4534-a163-626165336535
DTSTAMP:20260424T063316Z
DESCRIPTION:3/5 BVŠP Koráb - SK HAMR\, z.s. 2:0 (17\,23)
DTSTART;TZID=Europe/Berlin:20251130T110000
DTEND;TZID=Europe/Berlin:20251130T130000
LOCATION:Tělocvična ZŠ\, Španielova 1111 Praha - Řepy
SUMMARY:PP-U20Z-3-A: BVŠP Koráb-SK HAMR\, z.s.
END:VEVENT
BEGIN:VEVENT
UID:33636335-3636-4133-b432-343738376163
DTSTAMP:20260424T063316Z
DESCRIPTION:3/6 Sokol HP - Braník 1:2 (-18\,21\,-8)
DTSTART;TZID=Europe/Berlin:20251130T110000
DTEND;TZID=Europe/Berlin:20251130T130000
LOCATION:Tělocvična ZŠ\, Španielova 1111 Praha - Řepy
SUMMARY:PP-U20Z-3-A: Sokol HP-Braník
END:VEVENT
END:VCALENDAR
